{"text_format":"1","workbook":"xlsx","n_sheets":8,"sheets":["Generation Summary","Pond","Rocky Reach Inflow","Rock Island Inflow","Rocky Reach Capability","Rock Island Capability","RR CEAEA","RI CEAEA"],"not_rendered":{"charts":1,"images":0,"macros":1,"external_links":0,"defined_names":147,"comments":5,"pivot_tables":0},"unopened":[],"bounds":{"document_bytes":16777216,"sheet_cells":100000,"rows_first":2000,"rows_last":500,"rows_between":2000,"halvings":0,"cell_chars":16384,"cell_head_chars":4096},"cells_cut":0,"cells_raw":0,"read":"whole","date_system":"1900"}

{"sheet":"Generation Summary","index":0,"n_rows":50,"n_cols":27,"rows_kept":50,"cut":false,"hidden":false,"merged":[[46,0,46,26]]}
["Date"]
["2022-01-01",{"$f":"A2","v":"2022-01-01"},null,null,"Enter in fields that are highlighted yellow."]
[{"$f":"MONTH(A2)","v":1}]
["% Share of Rocky Reach",0.05]
["% Share of Rock Island",0.05]
[]
[]
["Chief Joseph Daily Avg Disch (kcfs)",90,null,null,null,null,null,"Rocky Reach Water Estimate (kcfs)",{"$f":"B8+B9+B10+B11+B12-I11","v":94.2},null,null,null,null,null,null," ",null,null,null,null,null,null,null," "]
["Okanogan Daily Avg Disch (kcfs)",1.2,null,null,null,null,null,"Rock Island Water Estimate (kcfs)",{"$f":"B8+B9+B10+B11+B12+B13-I12","v":95.4}]
["Methow Daily Avg Disch (kcfs)",0.4]
["Entiat Daily Avg Disch (kcfs)",0.1,null,null,null,null,null,"Rocky Reach Avg Fish Spill (kcfs)",{"$f":"AVERAGE('Rocky Reach Inflow'!D5:D6,'Rocky Reach Inflow'!D8:D29)","v":0}]
["Lake Chelan Daily Avg Disch (kcfs)",2.5,null,null,null,null,null,"Rock Island Avg Fish Spill (kcfs)",{"$f":"AVERAGE('Rock Island Inflow'!D5:D6,'Rock Island Inflow'!D8:D29)","v":0}]
["Wenatchee Daily Avg Disch (kcfs)",1.2]
[]
["Hour",1,2,"2B",3,4,5,6,7,8,9,10,11,12,13,14,15,16,17,18,19,20,21,22,23,24,"Day"]
[]
["RR/RI Comb Inflows Hourly Shape",0.91,0.8,0,0.71709069636858314,0.70269486945854831,0.66306873245762465,0.72222978140964578,0.79140398006066237,1.0120049516290797,1.0736985104222285,1.1409999052557878,1.1345458742877044,1.0670022236168517,1.0025211059945074,0.95941757533746996,0.96726820979242201,0.99970957582515407,1.0517361718959712,1.1149697234376048,1.2082393064541275,1.2425164022151054,1.2398733552036647,1.2535284027365166,1.2279002973925903,1.0015925900639744]
[]
["Total RR/RI Capability ",{"$f":"'Rocky Reach Capability'!$U10-B34+'Rock Island Capability'!$AB10-B35","v":77.775000000000006},{"$f":"'Rocky Reach Capability'!$U11-C34+'Rock Island Capability'!$AB11-C35","v":77.775000000000006},{"$f":"'Rocky Reach Capability'!$U12-D34+'Rock Island Capability'!$AB12-D35","v":0},{"$f":"'Rocky Reach Capability'!$U13-E34+'Rock Island Capability'!$AB13-E35","v":77.775000000000006},{"$f":"'Rocky Reach Capability'!$U14-F34+'Rock Island Capability'!$AB14-F35","v":77.775000000000006},{"$f":"'Rocky Reach Capability'!$U15-G34+'Rock Island Capability'!$AB15-G35","v":77.775000000000006},{"$f":"'Rocky Reach Capability'!$U16-H34+'Rock Island Capability'!$AB16-H35","v":77.775000000000006},{"$f":"'Rocky Reach Capability'!$U17-I34+'Rock Island Capability'!$AB17-I35","v":77.775000000000006},{"$f":"'Rocky Reach Capability'!$U18-J34+'Rock Island Capability'!$AB18-J35","v":77.775000000000006},{"$f":"'Rocky Reach Capability'!$U19-K34+'Rock Island Capability'!$AB19-K35","v":77.775000000000006},{"$f":"'Rocky Reach Capability'!$U20-L34+'Rock Island Capability'!$AB20-L35","v":77.775000000000006},{"$f":"'Rocky Reach Capability'!$U21-M34+'Rock Island Capability'!$AB21-M35","v":77.775000000000006},{"$f":"'Rocky Reach Capability'!$U22-N34+'Rock Island Capability'!$AB22-N35","v":77.775000000000006},{"$f":"'Rocky Reach Capability'!$U23-O34+'Rock Island Capability'!$AB23-O35","v":77.775000000000006},{"$f":"'Rocky Reach Capability'!$U24-P34+'Rock Island Capability'!$AB24-P35","v":77.775000000000006},{"$f":"'Rocky Reach Capability'!$U25-Q34+'Rock Island Capability'!$AB25-Q35","v":77.775000000000006},{"$f":"'Rocky Reach Capability'!$U26-R34+'Rock Island Capability'!$AB26-R35","v":77.775000000000006},{"$f":"'Rocky Reach Capability'!$U27-S34+'Rock Island Capability'!$AB27-S35","v":77.775000000000006},{"$f":"'Rocky Reach Capability'!$U28-T34+'Rock Island Capability'!$AB28-T35","v":77.775000000000006},{"$f":"'Rocky Reach Capability'!$U29-U34+'Rock Island Capability'!$AB29-U35","v":77.775000000000006},{"$f":"'Rocky Reach Capability'!$U30-V34+'Rock Island Capability'!$AB30-V35","v":77.775000000000006},{"$f":"'Rocky Reach Capability'!$U31-W34+'Rock Island Capability'!$AB31-W35","v":77.775000000000006},{"$f":"'Rocky Reach Capability'!$U32-X34+'Rock Island Capability'!$AB32-X35","v":77.775000000000006},{"$f":"'Rocky Reach Capability'!$U33-Y34+'Rock Island Capability'!$AB33-Y35","v":77.775000000000006},{"$f":"'Rocky Reach Capability'!$U34-Z34+'Rock Island Capability'!$AB34-Z35","v":77.775000000000006}]
[]
[]
["RR/RI Slice Share Min Project Gen Limits",14,14,null,14,14,14,14,8,6,6,6,6,6,6,6,6,6,6,6,6,6,6,6,6,6,{"$f":"SUM(B22:Z22)","v":194}]
["Total RR/RI Minimum Net Generation",{"$f":"IF(B22<(B31+B32),0,(B22-(B31+B32)))","v":14},{"$f":"IF(C22<(C31+C32),0,(C22-(C31+C32)))","v":14},0,14,14,14,14,{"$f":"IF(I22<(I31+I32),0,(I22-(I31+I32)))","v":4},1,1,1,0,1,2,2,1,2,0,2,2,1,1,1,6,6,118]
[]
["Total RR/RI Inflow (MWH)",{"$f":"'Rocky Reach Inflow'!$L5+'Rock Island Inflow'!$L5","v":46.617416030881415},{"$f":"'Rocky Reach Inflow'!$L6+'Rock Island Inflow'!$L6","v":41.623444037168966},{"$f":"'Rocky Reach Inflow'!$L7+'Rock Island Inflow'!$L7","v":0},{"$f":"'Rocky Reach Inflow'!$L8+'Rock Island Inflow'!$L8","v":37.756676622752472},{"$f":"'Rocky Reach Inflow'!$L9+'Rock Island Inflow'!$L9","v":37.075583377118775},{"$f":"'Rocky Reach Inflow'!$L10+'Rock Island Inflow'!$L10","v":35.185231369080633},{"$f":"'Rocky Reach Inflow'!$L11+'Rock Island Inflow'!$L11","v":37.999101823902073},{"$f":"'Rocky Reach Inflow'!$L12+'Rock Island Inflow'!$L12","v":41.226818021158905},{"$f":"'Rocky Reach Inflow'!$L13+'Rock Island Inflow'!$L13","v":51.123551682356222},{"$f":"'Rocky Reach Inflow'!$L14+'Rock Island Inflow'!$L14","v":53.796004045141281},{"$f":"'Rocky Reach Inflow'!$L15+'Rock Island Inflow'!$L15","v":56.669369227907666},{"$f":"'Rocky Reach Inflow'!$L16+'Rock Island Inflow'!$L16","v":56.395645184142282},{"$f":"'Rocky Reach Inflow'!$L17+'Rock Island Inflow'!$L17","v":53.507759397640228},{"$f":"'Rocky Reach Inflow'!$L18+'Rock Island Inflow'!$L18","v":50.709306613263259},{"$f":"'Rocky Reach Inflow'!$L19+'Rock Island Inflow'!$L19","v":48.814632053458141},{"$f":"'Rocky Reach Inflow'!$L20+'Rock Island Inflow'!$L20","v":49.161200066595441},{"$f":"'Rocky Reach Inflow'!$L21+'Rock Island Inflow'!$L21","v":50.586321978142749},{"$f":"'Rocky Reach Inflow'!$L22+'Rock Island Inflow'!$L22","v":52.848985195706028},{"$f":"'Rocky Reach Inflow'!$L23+'Rock Island Inflow'!$L23","v":55.563059152272089},{"$f":"'Rocky Reach Inflow'!$L24+'Rock Island Inflow'!$L24","v":59.499027884205972},{"$f":"'Rocky Reach Inflow'!$L25+'Rock Island Inflow'!$L25","v":60.926536536688189},{"$f":"'Rocky Reach Inflow'!$L26+'Rock Island Inflow'!$L26","v":60.816813479846701},{"$f":"'Rocky Reach Inflow'!$L27+'Rock Island Inflow'!$L27","v":61.383066344878017},{"$f":"'Rocky Reach Inflow'!$L28+'Rock Island Inflow'!$L28","v":60.319038085185454},{"$f":"'Rocky Reach Inflow'!$L29+'Rock Island Inflow'!$L29","v":50.66869970816046},{"$f":"SUM(B25:Z25)","v":1210.2732879176533}]
[]
["Total Purchases/Imports",0,0,0,0,0,0,0,0,0,0,0,0,0,0,0,0,0,0,0,0,0,0,0,0,0,{"$f":"SUM(B27:Z27)","v":0}]
["Total Sales/Exports",45,45,0,45,45,45,45,45,45,45,45,45,45,45,45,45,45,45,45,45,45,45,45,45,45,{"$f":"SUM(B28:Z28)","v":1080}]
["Net Purchases/(Sales)",{"$f":"B27-B28","v":-45},-45,0,-45,-45,-45,-45,-45,-45,-45,-45,-45,-45,-45,-45,-45,-45,-45,-45,-45,-45,-45,-45,-45,-45,-1080]
[]
["Rocky Reach Canadian Entitlement",{"$f":"VLOOKUP($A$2,'RR CEAEA'!$A$7:$AA$371,3,FALSE)","v":0},{"$f":"VLOOKUP($A$2,'RR CEAEA'!$A$7:$AA$371,4,FALSE)","v":0},{"$f":"VLOOKUP($A$2,'RR CEAEA'!$A$7:$AA$371,5,FALSE)","v":0},{"$f":"VLOOKUP($A$2,'RR CEAEA'!$A$7:$AA$371,6,FALSE)","v":0},{"$f":"VLOOKUP($A$2,'RR CEAEA'!$A$7:$AA$371,7,FALSE)","v":0},{"$f":"VLOOKUP($A$2,'RR CEAEA'!$A$7:$AA$371,8,FALSE)","v":0},{"$f":"VLOOKUP($A$2,'RR CEAEA'!$A$7:$AA$371,9,FALSE)","v":0},{"$f":"VLOOKUP($A$2,'RR CEAEA'!$A$7:$AA$371,10,FALSE)","v":3},{"$f":"VLOOKUP($A$2,'RR CEAEA'!$A$7:$AA$371,11,FALSE)","v":3},{"$f":"VLOOKUP($A$2,'RR CEAEA'!$A$7:$AA$371,12,FALSE)","v":3},{"$f":"VLOOKUP($A$2,'RR CEAEA'!$A$7:$AA$371,13,FALSE)","v":4},{"$f":"VLOOKUP($A$2,'RR CEAEA'!$A$7:$AA$371,14,FALSE)","v":4},{"$f":"VLOOKUP($A$2,'RR CEAEA'!$A$7:$AA$371,15,FALSE)","v":4},{"$f":"VLOOKUP($A$2,'RR CEAEA'!$A$7:$AA$371,16,FALSE)","v":3},{"$f":"VLOOKUP($A$2,'RR CEAEA'!$A$7:$AA$371,17,FALSE)","v":3},{"$f":"VLOOKUP($A$2,'RR CEAEA'!$A$7:$AA$371,18,FALSE)","v":3},{"$f":"VLOOKUP($A$2,'RR CEAEA'!$A$7:$AA$371,19,FALSE)","v":3},{"$f":"VLOOKUP($A$2,'RR CEAEA'!$A$7:$AA$371,20,FALSE)","v":4},{"$f":"VLOOKUP($A$2,'RR CEAEA'!$A$7:$AA$371,21,FALSE)","v":3},{"$f":"VLOOKUP($A$2,'RR CEAEA'!$A$7:$AA$371,22,FALSE)","v":3},{"$f":"VLOOKUP($A$2,'RR CEAEA'!$A$7:$AA$371,23,FALSE)","v":3},{"$f":"VLOOKUP($A$2,'RR CEAEA'!$A$7:$AA$371,24,FALSE)","v":3},{"$f":"VLOOKUP($A$2,'RR CEAEA'!$A$7:$AA$371,25,FALSE)","v":3},{"$f":"VLOOKUP($A$2,'RR CEAEA'!$A$7:$AA$371,26,FALSE)","v":0},{"$f":"VLOOKUP($A$2,'RR CEAEA'!$A$7:$AA$371,27,FALSE)","v":0},{"$f":"SUM(B31:Z31)","v":52}]
["Rock Island Canadian Entitlement",{"$f":"VLOOKUP($A$2,'RI CEAEA'!$A$7:$AA$371,3,FALSE)","v":0},{"$f":"VLOOKUP($A$2,'RI CEAEA'!$A$7:$AA$371,4,FALSE)","v":0},{"$f":"VLOOKUP($A$2,'RI CEAEA'!$A$7:$AA$371,5,FALSE)","v":0},{"$f":"VLOOKUP($A$2,'RI CEAEA'!$A$7:$AA$371,6,FALSE)","v":0},{"$f":"VLOOKUP($A$2,'RI CEAEA'!$A$7:$AA$371,7,FALSE)","v":0},{"$f":"VLOOKUP($A$2,'RI CEAEA'!$A$7:$AA$371,8,FALSE)","v":0},{"$f":"VLOOKUP($A$2,'RI CEAEA'!$A$7:$AA$371,9,FALSE)","v":0},{"$f":"VLOOKUP($A$2,'RI CEAEA'!$A$7:$AA$371,10,FALSE)","v":1},{"$f":"VLOOKUP($A$2,'RI CEAEA'!$A$7:$AA$371,11,FALSE)","v":2},{"$f":"VLOOKUP($A$2,'RI CEAEA'!$A$7:$AA$371,12,FALSE)","v":2},{"$f":"VLOOKUP($A$2,'RI CEAEA'!$A$7:$AA$371,13,FALSE)","v":1},{"$f":"VLOOKUP($A$2,'RI CEAEA'!$A$7:$AA$371,14,FALSE)","v":2},{"$f":"VLOOKUP($A$2,'RI CEAEA'!$A$7:$AA$371,15,FALSE)","v":1},{"$f":"VLOOKUP($A$2,'RI CEAEA'!$A$7:$AA$371,16,FALSE)","v":1},{"$f":"VLOOKUP($A$2,'RI CEAEA'!$A$7:$AA$371,17,FALSE)","v":1},{"$f":"VLOOKUP($A$2,'RI CEAEA'!$A$7:$AA$371,18,FALSE)","v":2},{"$f":"VLOOKUP($A$2,'RI CEAEA'!$A$7:$AA$371,19,FALSE)","v":1},{"$f":"VLOOKUP($A$2,'RI CEAEA'!$A$7:$AA$371,20,FALSE)","v":2},{"$f":"VLOOKUP($A$2,'RI CEAEA'!$A$7:$AA$371,21,FALSE)","v":1},{"$f":"VLOOKUP($A$2,'RI CEAEA'!$A$7:$AA$371,22,FALSE)","v":1},{"$f":"VLOOKUP($A$2,'RI CEAEA'!$A$7:$AA$371,23,FALSE)","v":2},{"$f":"VLOOKUP($A$2,'RI CEAEA'!$A$7:$AA$371,24,FALSE)","v":2},{"$f":"VLOOKUP($A$2,'RI CEAEA'!$A$7:$AA$371,25,FALSE)","v":2},{"$f":"VLOOKUP($A$2,'RI CEAEA'!$A$7:$AA$371,26,FALSE)","v":0},{"$f":"VLOOKUP($A$2,'RI CEAEA'!$A$7:$AA$371,27,FALSE)","v":0},{"$f":"SUM(B32:Z32)","v":24}]
[]
["Rocky Reach Immediate Spill",0,0,0,0,0,0,0,0,0,0,0,0,0,0,0,0,0,0,0,0,0,0,0,0,0,{"$f":"SUM(B34:Z34)","v":0}]
["Rock Island Immediate Spill",0,0,0,0,0,0,0,0,0,0,0,0,0,0,0,0,0,0,0,0,0,0,0,0,0,{"$f":"SUM(B35:Z35)","v":0}]
[]
["Net Requirements/Allocated Gen",{"$f":"IF(B22> (-B29+B31+B32-B34-B35), B22, (-B29+B31+B32-B34-B35))","v":45},45,0,45,45,45,45,49,50,50,50,51,50,49,49,50,49,51,49,49,50,50,50,45,45,{"$f":"SUM(B37:Z37)","v":1156}]
[]
["Remaining Capability Available",{"$f":"B19-B37","v":32.775000000000006},32.775000000000006,0,32.775000000000006,32.775000000000006,32.775000000000006,32.775000000000006,28.775000000000006,27.775000000000006,27.775000000000006,27.775000000000006,26.775000000000006,27.775000000000006,28.775000000000006,28.775000000000006,27.775000000000006,28.775000000000006,26.775000000000006,28.775000000000006,28.775000000000006,27.775000000000006,27.775000000000006,27.775000000000006,32.775000000000006,32.775000000000006,{"$f":"SUM(B39:Z39)","v":710.59999999999968}]
[]
[]
[]
[]
[null,null,null,null,null,null,null,null,"  RR/RI COMBINED POND DAILY EXCESS OR (DEFICIENT)  ",null,null,null,null,null,null,null,{"$f":"AA25-AA37","v":54.273287917653306}]
[null,null,null,null,null,null,null,null,null,null,null,null,null,null,null,null,null,null,null,null,null,null,null,"  "]
[]
["For Use on Real-Time - References Pond Tab"]
["Negative RR/RI Actual Comb Pond",{"$f":"IF(Pond!D19<0,Pond!D19,\"\")","v":""},{"$f":"IF(Pond!E19<0,Pond!E19,\"\")","v":""},{"$f":"IF(Pond!F19<0,Pond!F19,\"\")","v":""},{"$f":"IF(Pond!G19<0,Pond!G19,\"\")","v":""},{"$f":"IF(Pond!H19<0,Pond!H19,\"\")","v":""},{"$f":"IF(Pond!I19<0,Pond!I19,\"\")","v":""},{"$f":"IF(Pond!J19<0,Pond!J19,\"\")","v":""},{"$f":"IF(Pond!K19<0,Pond!K19,\"\")","v":""},{"$f":"IF(Pond!L19<0,Pond!L19,\"\")","v":""},{"$f":"IF(Pond!M19<0,Pond!M19,\"\")","v":""},{"$f":"IF(Pond!N19<0,Pond!N19,\"\")","v":""},{"$f":"IF(Pond!O19<0,Pond!O19,\"\")","v":""},{"$f":"IF(Pond!P19<0,Pond!P19,\"\")","v":""},{"$f":"IF(Pond!Q19<0,Pond!Q19,\"\")","v":""},{"$f":"IF(Pond!R19<0,Pond!R19,\"\")","v":""},{"$f":"IF(Pond!S19<0,Pond!S19,\"\")","v":""},{"$f":"IF(Pond!T19<0,Pond!T19,\"\")","v":""},{"$f":"IF(Pond!U19<0,Pond!U19,\"\")","v":""},{"$f":"IF(Pond!V19<0,Pond!V19,\"\")","v":""},{"$f":"IF(Pond!W19<0,Pond!W19,\"\")","v":""},{"$f":"IF(Pond!X19<0,Pond!X19,\"\")","v":""},{"$f":"IF(Pond!Y19<0,Pond!Y19,\"\")","v":""},{"$f":"IF(Pond!Z19<0,Pond!Z19,\"\")","v":""},{"$f":"IF(Pond!AA19<0,Pond!AA19,\"\")","v":""},{"$f":"IF(Pond!AB19<0,Pond!AB19,\"\")","v":""},{"$f":"SUM(B48:Z48)","v":0}]
["RR Spill",{"$f":"Pond!D9","v":0},{"$f":"Pond!E9","v":0},{"$f":"Pond!F9","v":0},{"$f":"Pond!G9","v":0},{"$f":"Pond!H9","v":0},{"$f":"Pond!I9","v":0},{"$f":"Pond!J9","v":0},{"$f":"Pond!K9","v":0},{"$f":"Pond!L9","v":0},{"$f":"Pond!M9","v":0},{"$f":"Pond!N9","v":0},{"$f":"Pond!O9","v":0},{"$f":"Pond!P9","v":0},{"$f":"Pond!Q9","v":0},{"$f":"Pond!R9","v":0},{"$f":"Pond!S9","v":0},{"$f":"Pond!T9","v":0},{"$f":"Pond!U9","v":0},{"$f":"Pond!V9","v":0},{"$f":"Pond!W9","v":0},{"$f":"Pond!X9","v":0},{"$f":"Pond!Y9","v":0},{"$f":"Pond!Z9","v":0},{"$f":"Pond!AA9","v":0},{"$f":"Pond!AB9","v":0},{"$f":"SUM(B49:Z49)","v":0}]
["RI Spill",{"$f":"Pond!D15","v":0},{"$f":"Pond!E15","v":0},{"$f":"Pond!F15","v":0},{"$f":"Pond!G15","v":0},{"$f":"Pond!H15","v":0},{"$f":"Pond!I15","v":0},{"$f":"Pond!J15","v":0},{"$f":"Pond!K15","v":0},{"$f":"Pond!L15","v":0},{"$f":"Pond!M15","v":0},{"$f":"Pond!N15","v":0},{"$f":"Pond!O15","v":0},{"$f":"Pond!P15","v":0},{"$f":"Pond!Q15","v":0},{"$f":"Pond!R15","v":0},{"$f":"Pond!S15","v":0},{"$f":"Pond!T15","v":0},{"$f":"Pond!U15","v":0},{"$f":"Pond!V15","v":0},{"$f":"Pond!W15","v":0},{"$f":"Pond!X15","v":0},{"$f":"Pond!Y15","v":0},{"$f":"Pond!Z15","v":0},{"$f":"Pond!AA15","v":0},{"$f":"Pond!AB15","v":0},{"$f":"SUM(B50:Z50)","v":0}]

{"sheet":"Pond","index":1,"n_rows":37,"n_cols":29,"rows_kept":37,"cut":false,"hidden":false,"merged":[]}
["NOTE - Inputs on this tab are to be filled in on Real Time to assist with pond mgmt.",null,null,null,null,null,null,null,null,"POND"]
["The estimated pond (line 21) is calculated for assistance on Preschedule & Real-Time.",null,null,null,null,null,null,null,null," Hourly Inflows (MWH) & End Of Hour Accounts (MWH)"]
[]
["HOUR",null,24,1,2,"2B",3,4,5,6,7,8,9,10,11,12,13,14,15,16,17,18,19,20,21,22,23,24]
["RR pond limit",{"$f":"2970*'Generation Summary'!B4","v":148.5}]
["Wells Discharge (kcfs)",null,null,null,null,null,null,null,null,null,null,null,null,null,null,null,null,null,null,null,null,null,null,null,null,null,null,null,{"$f":"SUM(D6:AB6)","v":0}]
["RR Inflow",null,null,null,null,null,null,null,null,null,null,null,null,null,null,null,null,null,null,null,null,null,null,null,null,null,null,null,0]
["RR Allocated Gen",null,null,null,null,null,null,null,null,null,null,null,null,null,null,null,null,null,null,null,null,null,null,null,null,null,null,null,0]
["RR Pond Spill",null,null,null,null,null,null,null,null,null,null,null,null,null,null,null,null,null,null,null,null,null,null,null,null,null,null,null,{"$f":"SUM(D9:AB9)","v":0}]
["RR End of Hour",null,30]
["Deferred Spill Return",0]
["RI pond limit",{"$f":"418*'Generation Summary'!B5","v":20.900000000000002}]
["RI Inflow",null,0,0,0,0,0,0,0,0,0,0,0,0,0,0,0,0,0,0,0,0,0,0,0,0,0,0,{"$f":"SUM(D13:AB13)","v":0}]
["RI Allocated Gen",null,0,0,0,0,0,0,0,0,0,0,0,0,0,0,0,0,0,0,0,0,0,0,0,0,0,0,0]
["RI Pond Spill",null,0,0,0,0,0,0,0,0,0,0,0,0,0,0,0,0,0,0,0,0,0,0,0,0,0,0,{"$f":"SUM(D15:AB15)","v":0}]
["RI End of Hour",null,0,0,0,0,0,0,0,0,0,0,0,0,0,0,0,0,0,0,0,0,0,0,0,0,0,0]
[]
["Comb pond limit ",{"$f":"B5+B12","v":169.4}]
["RR/RI Actual Comb Pond",null,{"$f":"C16+C10","v":30},0,0,0,0,0,0,0,0,0,0,0,0,0,0,0,0,0,0,0,0,0,0,0,0,0]
[]
["Estimated Comb Pond (MWH)",null,null,{"$f":"B11+C19+'Rocky Reach Inflow'!L5+'Rock Island Inflow'!L5-'Generation Summary'!B37-D33-D34-D35-D36-D37","v":31.617416030881415},{"$f":"IF(D10=0,D21,D19)+'Rocky Reach Inflow'!L6+'Rock Island Inflow'!L6-'Generation Summary'!C37-E33-E34-E35-E36-E37","v":28.240860068050381},{"$f":"IF(E10=0,E21,E19)+'Rocky Reach Inflow'!L7+'Rock Island Inflow'!L7-'Generation Summary'!D37-F33-F34-F35-F36-F37","v":28.240860068050381},{"$f":"IF(F10=0,F21,F19)+'Rocky Reach Inflow'!L8+'Rock Island Inflow'!L8-'Generation Summary'!E37-G33-G34-G35-G36-G37","v":20.99753669080286},{"$f":"IF(G10=0,G21,G19)+'Rocky Reach Inflow'!L9+'Rock Island Inflow'!L9-'Generation Summary'!F37-H33-H34-H35-H36-H37","v":13.073120067921636},{"$f":"IF(H10=0,H21,H19)+'Rocky Reach Inflow'!L10+'Rock Island Inflow'!L10-'Generation Summary'!G37-I33-I34-I35-I36-I37","v":3.2583514370022684},{"$f":"IF(I10=0,I21,I19)+'Rocky Reach Inflow'!L11+'Rock Island Inflow'!L11-'Generation Summary'!H37-J33-J34-J35-J36-J37","v":-3.7425467390956584},{"$f":"IF(J10=0,J21,J19)+'Rocky Reach Inflow'!L12+'Rock Island Inflow'!L12-'Generation Summary'!I37-K33-K34-K35-K36-K37","v":-11.515728717936753},{"$f":"IF(K10=0,K21,K19)+'Rocky Reach Inflow'!L13+'Rock Island Inflow'!L13-'Generation Summary'!J37-L33-L34-L35-L36-L37","v":-10.392177035580531},{"$f":"IF(L10=0,L21,L19)+'Rocky Reach Inflow'!L14+'Rock Island Inflow'!L14-'Generation Summary'!K37-M33-M34-M35-M36-M37","v":-6.5961729904392499},{"$f":"IF(M10=0,M21,M19)+'Rocky Reach Inflow'!L15+'Rock Island Inflow'!L15-'Generation Summary'!L37-N33-N34-N35-N36-N37","v":7.3196237468415859E-2},{"$f":"IF(N10=0,N21,N19)+'Rocky Reach Inflow'!L16+'Rock Island Inflow'!L16-'Generation Summary'!M37-O33-O34-O35-O36-O37","v":5.4688414216106978},{"$f":"IF(O10=0,O21,O19)+'Rocky Reach Inflow'!L17+'Rock Island Inflow'!L17-'Generation Summary'!N37-P33-P34-P35-P36-P37","v":8.976600819250919},{"$f":"IF(P10=0,P21,P19)+'Rocky Reach Inflow'!L18+'Rock Island Inflow'!L18-'Generation Summary'!O37-Q33-Q34-Q35-Q36-Q37","v":10.685907432514178},{"$f":"IF(Q10=0,Q21,Q19)+'Rocky Reach Inflow'!L19+'Rock Island Inflow'!L19-'Generation Summary'!P37-R33-R34-R35-R36-R37","v":10.500539485972318},{"$f":"IF(R10=0,R21,R19)+'Rocky Reach Inflow'!L20+'Rock Island Inflow'!L20-'Generation Summary'!Q37-S33-S34-S35-S36-S37","v":9.6617395525677665},{"$f":"IF(S10=0,S21,S19)+'Rocky Reach Inflow'!L21+'Rock Island Inflow'!L21-'Generation Summary'!R37-T33-T34-T35-T36-T37","v":11.248061530710515},{"$f":"IF(T10=0,T21,T19)+'Rocky Reach Inflow'!L22+'Rock Island Inflow'!L22-'Generation Summary'!S37-U33-U34-U35-U36-U37","v":13.097046726416551},{"$f":"IF(U10=0,U21,U19)+'Rocky Reach Inflow'!L23+'Rock Island Inflow'!L23-'Generation Summary'!T37-V33-V34-V35-V36-V37","v":19.66010587868864},{"$f":"IF(V10=0,V21,V19)+'Rocky Reach Inflow'!L24+'Rock Island Inflow'!L24-'Generation Summary'!U37-W33-W34-W35-W36-W37","v":30.159133762894612},{"$f":"IF(W10=0,W21,W19)+'Rocky Reach Inflow'!L25+'Rock Island Inflow'!L25-'Generation Summary'!V37-X33-X34-X35-X36-X37","v":41.085670299582802},{"$f":"IF(X10=0,X21,X19)+'Rocky Reach Inflow'!L26+'Rock Island Inflow'!L26-'Generation Summary'!W37-Y33-Y34-Y35-Y36-Y37","v":51.902483779429502},{"$f":"IF(Y10=0,Y21,Y19)+'Rocky Reach Inflow'!L27+'Rock Island Inflow'!L27-'Generation Summary'!X37-Z33-Z34-Z35-Z36-Z37","v":63.28555012430752},{"$f":"IF(Z10=0,Z21,Z19)+'Rocky Reach Inflow'!L28+'Rock Island Inflow'!L28-'Generation Summary'!Y37-AA33-AA34-AA35-AA36-AA37","v":78.60458820949296},{"$f":"IF(AA10=0,AA21,AA19)+'Rocky Reach Inflow'!L29+'Rock Island Inflow'!L29-'Generation Summary'!Z37-AB33-AB34-AB35-AB36-AB37","v":84.27328791765342}]
[]
[]
[]
[]
[]
[]
[]
[]
[]
[]
["POND TRANSFERS/SALES/(BUYS)",null,null,1,2,"2B",3,4,5,6,7,8,9,10,11,12,13,14,15,16,17,18,19,20,21,22,23,24]
["Transfer/Transaction #1"]
["Transfer/Transaction #2"]
["Transfer/Transaction #3"]
["Transfer/Transaction #4"]
["Transfer/Transaction #5"]

{"sheet":"Rocky Reach Inflow","index":2,"n_rows":30,"n_cols":12,"rows_kept":30,"cut":false,"hidden":false,"merged":[[0,0,0,11]]}
["Rocky Reach Inflow"]
[null,null,null,null,null,null,null,"Estimated","RI - RR","RR - LKCH","Net Estimated","Slice Share"]
[null,null,"Shaped Inflow","Fish Spill","Max. Discharge","Headwater Spill","RR Plant","Inflow","Encroachment","Encroachment","Inflow","Inflow"]
["Hour","Water Shape","(KCFS)","(KCFS)","(KCFS)","(KCFS)","H/K","(MWH)","(MWH)","(MWH)","(MWH)","(MWH)"]
["Hour 1",{"$f":"'Generation Summary'!B$17","v":0.91},{"$f":"('Generation Summary'!$B$8+'Generation Summary'!$B$9+'Generation Summary'!$B$10+'Generation Summary'!$B$11+'Generation Summary'!$B$12)*'Rocky Reach Inflow'!B5","v":85.722000000000008},0,201,{"$f":"IF(C5-D5>E5,C5-D5-E5,0)","v":0},{"$f":"-0.0042*C5+7.3091","v":6.9490676000000002},{"$f":"IF('Rocky Reach Capability'!Q10<(C5-D5-F5)*G5,'Rocky Reach Capability'!Q10,(C5-D5-F5)*G5)","v":595.68797280720003},{"$f":"-'Rock Island Inflow'!J5","v":22.151054790005251},{"$f":"IF(C5=0, 0,'Rocky Reach Capability'!S10)","v":-4},{"$f":"(H5+I5+J5)","v":613.83902759720525},{"$f":"K5*'Generation Summary'!$B$4","v":30.691951379860264}]
["Hour 2",{"$f":"'Generation Summary'!C$17","v":0.8},{"$f":"('Generation Summary'!$B$8+'Generation Summary'!$B$9+'Generation Summary'!$B$10+'Generation Summary'!$B$11+'Generation Summary'!$B$12)*'Rocky Reach Inflow'!B6","v":75.36},0,201,{"$f":"IF(C6-D6>E6,C6-D6-E6,0)","v":0},{"$f":"-0.0042*C6+7.3091","v":6.9925879999999996},{"$f":"IF('Rocky Reach Capability'!Q11<(C6-D6-F6)*G6,'Rocky Reach Capability'!Q11,(C6-D6-F6)*G6)","v":526.96143167999992},{"$f":"-'Rock Island Inflow'!J6","v":20.933209117339477},{"$f":"IF(C6=0, 0,'Rocky Reach Capability'!S11)","v":-4},{"$f":"(H6+I6+J6)","v":543.89464079733943},{"$f":"K6*'Generation Summary'!$B$4","v":27.194732039866974}]
["Hour 2B",{"$f":"'Generation Summary'!D$17","v":0},{"$f":"('Generation Summary'!$B$8+'Generation Summary'!$B$9+'Generation Summary'!$B$10+'Generation Summary'!$B$11+'Generation Summary'!$B$12)*'Rocky Reach Inflow'!B7","v":0},null,201,0,7.3090999999999999,{"$f":"IF('Rocky Reach Capability'!Q12<(C7-D7-F7)*G7,'Rocky Reach Capability'!Q12,(C7-D7-F7)*G7)","v":0},{"$f":"-'Rock Island Inflow'!J7","v":-0.41474749999999999},{"$f":"IF(C7=0, 0,'Rocky Reach Capability'!S12)","v":0},-0.41474749999999999,{"$f":"K7*'Generation Summary'!$B$4","v":-2.0737375000000002E-2}]
["Hour 3",{"$f":"'Generation Summary'!E$17","v":0.71709069636858314},{"$f":"('Generation Summary'!$B$8+'Generation Summary'!$B$9+'Generation Summary'!$B$10+'Generation Summary'!$B$11+'Generation Summary'!$B$12)*'Rocky Reach Inflow'!B8","v":67.549943597920532},0,201,0,7.0253902368887333,{"$f":"IF('Rocky Reach Capability'!Q13<(C8-D8-F8)*G8,'Rocky Reach Capability'!Q13,(C8-D8-F8)*G8)","v":474.56471425521551},{"$f":"-'Rock Island Inflow'!J8","v":19.826940812292431},{"$f":"IF(C8=0, 0,'Rocky Reach Capability'!S13)","v":-4},490.39165506750794,{"$f":"K8*'Generation Summary'!$B$4","v":24.519582753375399}]
["Hour 4",{"$f":"'Generation Summary'!F$17","v":0.70269486945854831},{"$f":"('Generation Summary'!$B$8+'Generation Summary'!$B$9+'Generation Summary'!$B$10+'Generation Summary'!$B$11+'Generation Summary'!$B$12)*'Rocky Reach Inflow'!B9","v":66.193856702995248},0,201,0,7.0310858018474196,{"$f":"IF('Rocky Reach Capability'!Q14<(C9-D9-F9)*G9,'Rocky Reach Capability'!Q14,(C9-D9-F9)*G9)","v":465.41468603395253},{"$f":"-'Rock Island Inflow'!J9","v":19.616564917770269},{"$f":"IF(C9=0, 0,'Rocky Reach Capability'!S14)","v":-4},481.03125095172282,{"$f":"K9*'Generation Summary'!$B$4","v":24.051562547586144}]
["Hour 5",{"$f":"'Generation Summary'!G$17","v":0.66306873245762465},{"$f":"('Generation Summary'!$B$8+'Generation Summary'!$B$9+'Generation Summary'!$B$10+'Generation Summary'!$B$11+'Generation Summary'!$B$12)*'Rocky Reach Inflow'!B10","v":62.461074597508244},0,201,0,7.0467634866904652,{"$f":"IF('Rocky Reach Capability'!Q15<(C10-D10-F10)*G10,'Rocky Reach Capability'!Q15,(C10-D10-F10)*G10)","v":440.14841981317045},{"$f":"-'Rock Island Inflow'!J10","v":19.007581868282553},{"$f":"IF(C10=0, 0,'Rocky Reach Capability'!S15)","v":-4},455.15600168145301,{"$f":"K10*'Generation Summary'!$B$4","v":22.757800084072652}]
["Hour 6",{"$f":"'Generation Summary'!H$17","v":0.72222978140964578},{"$f":"('Generation Summary'!$B$8+'Generation Summary'!$B$9+'Generation Summary'!$B$10+'Generation Summary'!$B$11+'Generation Summary'!$B$12)*'Rocky Reach Inflow'!B11","v":68.034045408788629},0,201,0,7.0233570092830879,{"$f":"IF('Rocky Reach Capability'!Q16<(C11-D11-F11)*G11,'Rocky Reach Capability'!Q16,(C11-D11-F11)*G11)","v":477.82738969169952},{"$f":"-'Rock Island Inflow'!J11","v":19.900679847917836},{"$f":"IF(C11=0, 0,'Rocky Reach Capability'!S16)","v":-4},493.72806953961737,{"$f":"K11*'Generation Summary'!$B$4","v":24.686403476980871}]
["Hour 7",{"$f":"'Generation Summary'!I$17","v":0.79140398006066237},{"$f":"('Generation Summary'!$B$8+'Generation Summary'!$B$9+'Generation Summary'!$B$10+'Generation Summary'!$B$11+'Generation Summary'!$B$12)*'Rocky Reach Inflow'!B12","v":74.550254921714398},0,201,0,6.9959889293287993,{"$f":"IF('Rocky Reach Capability'!Q17<(C12-D12-F12)*G12,'Rocky Reach Capability'!Q17,(C12-D12-F12)*G12)","v":521.55275811095373},{"$f":"-'Rock Island Inflow'!J12","v":20.826489691829533},{"$f":"IF(C12=0, 0,'Rocky Reach Capability'!S17)","v":-4},538.37924780278331,{"$f":"K12*'Generation Summary'!$B$4","v":26.918962390139168}]
["Hour 8",{"$f":"'Generation Summary'!J$17","v":1.0120049516290797},{"$f":"('Generation Summary'!$B$8+'Generation Summary'!$B$9+'Generation Summary'!$B$10+'Generation Summary'!$B$11+'Generation Summary'!$B$12)*'Rocky Reach Inflow'!B13","v":95.330866443459314},0,201,0,6.9087103609374712,{"$f":"IF('Rocky Reach Capability'!Q18<(C13-D13-F13)*G13,'Rocky Reach Capability'!Q18,(C13-D13-F13)*G13)","v":658.61334471507371},{"$f":"-'Rock Island Inflow'!J13","v":23.061401386040583},{"$f":"IF(C13=0, 0,'Rocky Reach Capability'!S18)","v":-4},677.67474610111424,{"$f":"K13*'Generation Summary'!$B$4","v":33.88373730505571}]
["Hour 9",{"$f":"'Generation Summary'!K$17","v":1.0736985104222285},{"$f":"('Generation Summary'!$B$8+'Generation Summary'!$B$9+'Generation Summary'!$B$10+'Generation Summary'!$B$11+'Generation Summary'!$B$12)*'Rocky Reach Inflow'!B14","v":101.14239968177392},0,201,0,6.8843019213365491,{"$f":"IF('Rocky Reach Capability'!Q19<(C14-D14-F14)*G14,'Rocky Reach Capability'!Q19,(C14-D14-F14)*G14)","v":696.29481645782539},{"$f":"-'Rock Island Inflow'!J14","v":23.523331365467168},{"$f":"IF(C14=0, 0,'Rocky Reach Capability'!S19)","v":-4},715.81814782329252,{"$f":"K14*'Generation Summary'!$B$4","v":35.79090739116463}]
["Hour 10",{"$f":"'Generation Summary'!L$17","v":1.1409999052557878},{"$f":"('Generation Summary'!$B$8+'Generation Summary'!$B$9+'Generation Summary'!$B$10+'Generation Summary'!$B$11+'Generation Summary'!$B$12)*'Rocky Reach Inflow'!B15","v":107.48219107509522},0,201,0,6.8576747974846004,{"$f":"IF('Rocky Reach Capability'!Q20<(C15-D15-F15)*G15,'Rocky Reach Capability'!Q20,(C15-D15-F15)*G15)","v":737.07791291410467},{"$f":"-'Rock Island Inflow'!J15","v":23.959622343880412},{"$f":"IF(C15=0, 0,'Rocky Reach Capability'!S20)","v":-4},757.03753525798504,{"$f":"K15*'Generation Summary'!$B$4","v":37.851876762899252}]
["Hour 11",{"$f":"'Generation Summary'!M$17","v":1.1345458742877044},{"$f":"('Generation Summary'!$B$8+'Generation Summary'!$B$9+'Generation Summary'!$B$10+'Generation Summary'!$B$11+'Generation Summary'!$B$12)*'Rocky Reach Inflow'!B16","v":106.87422135790176},0,201,0,6.8602282702968127,{"$f":"IF('Rocky Reach Capability'!Q21<(C16-D16-F16)*G16,'Rocky Reach Capability'!Q21,(C16-D16-F16)*G16)","v":733.18155472543708},{"$f":"-'Rock Island Inflow'!J16","v":23.920656696620828},{"$f":"IF(C16=0, 0,'Rocky Reach Capability'!S21)","v":-4},753.10221142205796,{"$f":"K16*'Generation Summary'!$B$4","v":37.655110571102902}]
["Hour 12",{"$f":"'Generation Summary'!N$17","v":1.0670022236168517},{"$f":"('Generation Summary'!$B$8+'Generation Summary'!$B$9+'Generation Summary'!$B$10+'Generation Summary'!$B$11+'Generation Summary'!$B$12)*'Rocky Reach Inflow'!B17","v":100.51160946470743},0,201,0,6.8869512402482291,{"$f":"IF('Rocky Reach Capability'!Q22<(C17-D17-F17)*G17,'Rocky Reach Capability'!Q22,(C17-D17-F17)*G17)","v":692.21855346231246},{"$f":"-'Rock Island Inflow'!J17","v":23.476170371234826},{"$f":"IF(C17=0, 0,'Rocky Reach Capability'!S22)","v":-4},711.6947238335473,{"$f":"K17*'Generation Summary'!$B$4","v":35.584736191677365}]
["Hour 13",{"$f":"'Generation Summary'!O$17","v":1.0025211059945074},{"$f":"('Generation Summary'!$B$8+'Generation Summary'!$B$9+'Generation Summary'!$B$10+'Generation Summary'!$B$11+'Generation Summary'!$B$12)*'Rocky Reach Inflow'!B18","v":94.437488184682593},0,201,0,6.9124625496243333,{"$f":"IF('Rocky Reach Capability'!Q23<(C18-D18-F18)*G18,'Rocky Reach Capability'!Q23,(C18-D18-F18)*G18)","v":652.79560035720885},{"$f":"-'Rock Island Inflow'!J18","v":22.984748957304902},{"$f":"IF(C18=0, 0,'Rocky Reach Capability'!S23)","v":-4},671.78034931451373,{"$f":"K18*'Generation Summary'!$B$4","v":33.589017465725689}]
["Hour 14",{"$f":"'Generation Summary'!P$17","v":0.95941757533746996},{"$f":"('Generation Summary'!$B$8+'Generation Summary'!$B$9+'Generation Summary'!$B$10+'Generation Summary'!$B$11+'Generation Summary'!$B$12)*'Rocky Reach Inflow'!B19","v":90.377135596789671},0,201,0,6.9295160304934837,{"$f":"IF('Rocky Reach Capability'!Q24<(C19-D19-F19)*G19,'Rocky Reach Capability'!Q24,(C19-D19-F19)*G19)","v":626.26980990803725},{"$f":"-'Rock Island Inflow'!J19","v":22.616269789055774},{"$f":"IF(C19=0, 0,'Rocky Reach Capability'!S24)","v":-4},644.88607969709301,{"$f":"K19*'Generation Summary'!$B$4","v":32.244303984854653}]
["Hour 15",{"$f":"'Generation Summary'!Q$17","v":0.96726820979242201},{"$f":"('Generation Summary'!$B$8+'Generation Summary'!$B$9+'Generation Summary'!$B$10+'Generation Summary'!$B$11+'Generation Summary'!$B$12)*'Rocky Reach Inflow'!B20","v":91.116665362446156},0,201,0,6.9264100054777265,{"$f":"IF('Rocky Reach Capability'!Q25<(C20-D20-F20)*G20,'Rocky Reach Capability'!Q25,(C20-D20-F20)*G20)","v":631.11138263221289},{"$f":"-'Rock Island Inflow'!J20","v":22.685894016000734},{"$f":"IF(C20=0, 0,'Rocky Reach Capability'!S25)","v":-4},649.7972766482136,{"$f":"K20*'Generation Summary'!$B$4","v":32.489863832410684}]
["Hour 16",{"$f":"'Generation Summary'!R$17","v":0.99970957582515407},{"$f":"('Generation Summary'!$B$8+'Generation Summary'!$B$9+'Generation Summary'!$B$10+'Generation Summary'!$B$11+'Generation Summary'!$B$12)*'Rocky Reach Inflow'!B21","v":94.172642042729521},0,201,0,6.9135749034205363,{"$f":"IF('Rocky Reach Capability'!Q26<(C21-D21-F21)*G21,'Rocky Reach Capability'!Q26,(C21-D21-F21)*G21)","v":651.06961461542051},{"$f":"-'Rock Island Inflow'!J21","v":22.961724864790195},{"$f":"IF(C21=0, 0,'Rocky Reach Capability'!S26)","v":-4},670.0313394802107,{"$f":"K21*'Generation Summary'!$B$4","v":33.501566974010537}]
["Hour 17",{"$f":"'Generation Summary'!S$17","v":1.0517361718959712},{"$f":"('Generation Summary'!$B$8+'Generation Summary'!$B$9+'Generation Summary'!$B$10+'Generation Summary'!$B$11+'Generation Summary'!$B$12)*'Rocky Reach Inflow'!B22","v":99.073547392600489},0,201,0,6.892991100951078,{"$f":"IF('Rocky Reach Capability'!Q27<(C22-D22-F22)*G22,'Rocky Reach Capability'!Q27,(C22-D22-F22)*G22)","v":682.91308051685007},{"$f":"-'Rock Island Inflow'!J22","v":23.365998454313015},{"$f":"IF(C22=0, 0,'Rocky Reach Capability'!S27)","v":-4},702.27907897116313,{"$f":"K22*'Generation Summary'!$B$4","v":35.113953948558155}]
["Hour 18",{"$f":"'Generation Summary'!T$17","v":1.1149697234376048},{"$f":"('Generation Summary'!$B$8+'Generation Summary'!$B$9+'Generation Summary'!$B$10+'Generation Summary'!$B$11+'Generation Summary'!$B$12)*'Rocky Reach Inflow'!B23","v":105.03014794782237},0,201,0,6.8679733786191459,{"$f":"IF('Rocky Reach Capability'!Q28<(C23-D23-F23)*G23,'Rocky Reach Capability'!Q28,(C23-D23-F23)*G23)","v":721.34426005807438},{"$f":"-'Rock Island Inflow'!J23","v":23.798815805392241},{"$f":"IF(C23=0, 0,'Rocky Reach Capability'!S28)","v":-4},741.14307586346661,{"$f":"K23*'Generation Summary'!$B$4","v":37.057153793173335}]
["Hour 19",{"$f":"'Generation Summary'!U$17","v":1.2082393064541275},{"$f":"('Generation Summary'!$B$8+'Generation Summary'!$B$9+'Generation Summary'!$B$10+'Generation Summary'!$B$11+'Generation Summary'!$B$12)*'Rocky Reach Inflow'!B24","v":113.81614266797881},0,201,0,6.8310722007944893,{"$f":"IF('Rocky Reach Capability'!Q29<(C24-D24-F24)*G24,'Rocky Reach Capability'!Q29,(C24-D24-F24)*G24)","v":777.48628818088957},{"$f":"-'Rock Island Inflow'!J24","v":24.331641520466523},{"$f":"IF(C24=0, 0,'Rocky Reach Capability'!S29)","v":-4},797.81792970135609,{"$f":"K24*'Generation Summary'!$B$4","v":39.890896485067806}]
["Hour 20",{"$f":"'Generation Summary'!V$17","v":1.2425164022151054},{"$f":"('Generation Summary'!$B$8+'Generation Summary'!$B$9+'Generation Summary'!$B$10+'Generation Summary'!$B$11+'Generation Summary'!$B$12)*'Rocky Reach Inflow'!B25","v":117.04504508866293},0,201,0,6.8175108106276152,{"$f":"IF('Rocky Reach Capability'!Q30<(C25-D25-F25)*G25,'Rocky Reach Capability'!Q30,(C25-D25-F25)*G25)","v":797.95586022235614},{"$f":"-'Rock Island Inflow'!J25","v":24.498649619102391},{"$f":"IF(C25=0, 0,'Rocky Reach Capability'!S30)","v":-4},818.4545098414585,{"$f":"K25*'Generation Summary'!$B$4","v":40.922725492072928}]
["Hour 21",{"$f":"'Generation Summary'!W$17","v":1.2398733552036647},{"$f":"('Generation Summary'!$B$8+'Generation Summary'!$B$9+'Generation Summary'!$B$10+'Generation Summary'!$B$11+'Generation Summary'!$B$12)*'Rocky Reach Inflow'!B26","v":116.79607006018522},0,201,0,6.8185565057472219,{"$f":"IF('Rocky Reach Capability'!Q31<(C26-D26-F26)*G26,'Rocky Reach Capability'!Q31,(C26-D26-F26)*G26)","v":796.3806033545842},{"$f":"-'Rock Island Inflow'!J26","v":24.486291328954483},{"$f":"IF(C26=0, 0,'Rocky Reach Capability'!S31)","v":-4},816.8668946835387,{"$f":"K26*'Generation Summary'!$B$4","v":40.843344734176938}]
["Hour 22",{"$f":"'Generation Summary'!X$17","v":1.2535284027365166},{"$f":"('Generation Summary'!$B$8+'Generation Summary'!$B$9+'Generation Summary'!$B$10+'Generation Summary'!$B$11+'Generation Summary'!$B$12)*'Rocky Reach Inflow'!B27","v":118.08237553777987},0,201,0,6.8131540227413243,{"$f":"IF('Rocky Reach Capability'!Q32<(C27-D27-F27)*G27,'Rocky Reach Capability'!Q32,(C27-D27-F27)*G27)","v":804.51341191007668},{"$f":"-'Rock Island Inflow'!J27","v":24.549223882523453},{"$f":"IF(C27=0, 0,'Rocky Reach Capability'!S32)","v":-4},825.06263579260019,{"$f":"K27*'Generation Summary'!$B$4","v":41.253131789630011}]
["Hour 23",{"$f":"'Generation Summary'!Y$17","v":1.2279002973925903},{"$f":"('Generation Summary'!$B$8+'Generation Summary'!$B$9+'Generation Summary'!$B$10+'Generation Summary'!$B$11+'Generation Summary'!$B$12)*'Rocky Reach Inflow'!B28","v":115.66820801438202},0,201,0,6.8232935263395955,{"$f":"IF('Rocky Reach Capability'!Q33<(C28-D28-F28)*G28,'Rocky Reach Capability'!Q33,(C28-D28-F28)*G28)","v":789.23813494783451},{"$f":"-'Rock Island Inflow'!J28","v":24.4292305221291},{"$f":"IF(C28=0, 0,'Rocky Reach Capability'!S33)","v":-4},809.66736546996356,{"$f":"K28*'Generation Summary'!$B$4","v":40.483368273498179}]
["Hour 24",{"$f":"'Generation Summary'!Z$17","v":1.0015925900639744},{"$f":"('Generation Summary'!$B$8+'Generation Summary'!$B$9+'Generation Summary'!$B$10+'Generation Summary'!$B$11+'Generation Summary'!$B$12)*'Rocky Reach Inflow'!B29","v":94.350021984026384},0,201,0,6.9128299076670894,{"$f":"IF('Rocky Reach Capability'!Q34<(C29-D29-F29)*G29,'Rocky Reach Capability'!Q34,(C29-D29-F29)*G29)","v":652.22565376022499},{"$f":"-'Rock Island Inflow'!J29","v":22.977160446083541},{"$f":"IF(C29=0, 0,'Rocky Reach Capability'!S34)","v":-4},671.20281420630852,{"$f":"K29*'Generation Summary'!$B$4","v":33.56014071031543}]
[null,"AVG",{"$f":"AVERAGE(C5:C6,C8:C29)","v":94.215748047164595},null,null,null,null,null,null,"SUM",{"$f":"SUM(K5:K29)/2","v":8025.1609300227565},{"$f":"SUM(L5:L29)","v":802.51609300227585}]

{"sheet":"Rock Island Inflow","index":3,"n_rows":30,"n_cols":12,"rows_kept":30,"cut":false,"hidden":false,"merged":[[0,0,0,11]]}
["Rock Island Inflow"]
[null,null,null,null,null,null,null,"Estimated","Wan - RI ","RI - RR","Net Estimated","Slice Share"]
[null,null,"Shaped Inflow","Fish Spill","Max. Discharge","Headwater Spill","RI Plant","Inflow","Encroachment","Encroachment","Inflow","Inflow"]
["Hour","Water Shape","(KCFS)","(KCFS)","(KCFS)","(KCFS)","H/K","(MWH)","(MWH)","(MWH)","(MWH)","(MWH)"]
["Hour 1",{"$f":"'Generation Summary'!B$17","v":0.91},{"$f":"('Generation Summary'!$B$8+'Generation Summary'!$B$9+'Generation Summary'!$B$10+'Generation Summary'!$B$11+'Generation Summary'!$B$12+'Generation Summary'!$B$13)*'Rock Island Inflow'!B5","v":86.814000000000007},0,217,{"$f":"IF(C5-D5>E5,C5-D5-E5,0)","v":0},{"$f":"-0.004*C5+3.4277","v":3.080444},{"$f":"IF('Rock Island Capability'!X10<(C5-D5-F5)*G5,'Rock Island Capability'!X10,(C5-D5-F5)*G5)","v":267.42566541600002},{"$f":"IF(C5=0, 0, IF(C5<210,-0.00000016176*(C5-D5-F5)^4+0.00010366*(C5-D5-F5)^3-0.024223*(C5-D5-F5)^2+2.4258*(C5-D5-F5)-5.4333,(-0.00000016176*(C5-D5-F5)^4+0.00010366*(C5-D5-F5)^3-0.024223*(C5-D5-F5)^2+2.4258*(C5-D5-F5)-5.4333)-(0.162*(C5-210)))-((18-SUM('Rock Island Capability'!C10:T10))*2))","v":73.234682394428262},{"$f":"IF(D5>0,-(0.000002231361*C5^3-0.001727269*C5^2+0.3686574*C5-0.7627374),-(-0.00000002276714*C5^4+0.00001391477*C5^3-0.003700159*C5^2+0.4911836*C5-0.4147475))","v":-22.151054790005251},{"$f":"(H5+I5+J5)","v":318.509293020423},{"$f":"K5*'Generation Summary'!$B$5","v":15.925464651021151}]
["Hour 2",{"$f":"'Generation Summary'!C$17","v":0.8},{"$f":"('Generation Summary'!$B$8+'Generation Summary'!$B$9+'Generation Summary'!$B$10+'Generation Summary'!$B$11+'Generation Summary'!$B$12+'Generation Summary'!$B$13)*'Rock Island Inflow'!B6","v":76.320000000000007},0,217,{"$f":"IF(C6-D6>E6,C6-D6-E6,0)","v":0},{"$f":"-0.004*C6+3.4277","v":3.12242},{"$f":"IF('Rock Island Capability'!X11<(C6-D6-F6)*G6,'Rock Island Capability'!X11,(C6-D6-F6)*G6)","v":238.30309440000002},{"$f":"IF(C6=0, 0, IF(C6<210,-0.00000016176*(C6-D6-F6)^4+0.00010366*(C6-D6-F6)^3-0.024223*(C6-D6-F6)^2+2.4258*(C6-D6-F6)-5.4333,(-0.00000016176*(C6-D6-F6)^4+0.00010366*(C6-D6-F6)^3-0.024223*(C6-D6-F6)^2+2.4258*(C6-D6-F6)-5.4333)-(0.162*(C6-210)))-((18-SUM('Rock Island Capability'!C11:T11))*2))","v":71.204354663379235},{"$f":"IF(D6>0,-(0.000002231361*C6^3-0.001727269*C6^2+0.3686574*C6-0.7627374),-(-0.00000002276714*C6^4+0.00001391477*C6^3-0.003700159*C6^2+0.4911836*C6-0.4147475))","v":-20.933209117339477},{"$f":"(H6+I6+J6)","v":288.57423994603977},{"$f":"K6*'Generation Summary'!$B$5","v":14.428711997301988}]
["Hour 2B",{"$f":"'Generation Summary'!D$17","v":0},{"$f":"('Generation Summary'!$B$8+'Generation Summary'!$B$9+'Generation Summary'!$B$10+'Generation Summary'!$B$11+'Generation Summary'!$B$12+'Generation Summary'!$B$13)*'Rock Island Inflow'!B7","v":0},null,217,0,3.4277000000000002,{"$f":"IF('Rock Island Capability'!X12<(C7-D7-F7)*G7,'Rock Island Capability'!X12,(C7-D7-F7)*G7)","v":0},{"$f":"IF(C7=0, 0, IF(C7<210,-0.00000016176*(C7-D7-F7)^4+0.00010366*(C7-D7-F7)^3-0.024223*(C7-D7-F7)^2+2.4258*(C7-D7-F7)-5.4333,(-0.00000016176*(C7-D7-F7)^4+0.00010366*(C7-D7-F7)^3-0.024223*(C7-D7-F7)^2+2.4258*(C7-D7-F7)-5.4333)-(0.162*(C7-210)))-((18-SUM('Rock Island Capability'!C12:T12))*2))","v":0},{"$f":"IF(D7>0,-(0.000002231361*C7^3-0.001727269*C7^2+0.3686574*C7-0.7627374),-(-0.00000002276714*C7^4+0.00001391477*C7^3-0.003700159*C7^2+0.4911836*C7-0.4147475))","v":0.41474749999999999},{"$f":"(H7+I7+J7)","v":0.41474749999999999},{"$f":"K7*'Generation Summary'!$B$5","v":2.0737375000000002E-2}]
["Hour 3",{"$f":"'Generation Summary'!E$17","v":0.71709069636858314},{"$f":"('Generation Summary'!$B$8+'Generation Summary'!$B$9+'Generation Summary'!$B$10+'Generation Summary'!$B$11+'Generation Summary'!$B$12+'Generation Summary'!$B$13)*'Rock Island Inflow'!B8","v":68.410452433562838},0,217,0,3.154058190265749,{"$f":"IF('Rock Island Capability'!X13<(C8-D8-F8)*G8,'Rock Island Capability'!X13,(C8-D8-F8)*G8)","v":215.77054779786431},{"$f":"IF(C8=0, 0, IF(C8<210,-0.00000016176*(C8-D8-F8)^4+0.00010366*(C8-D8-F8)^3-0.024223*(C8-D8-F8)^2+2.4258*(C8-D8-F8)-5.4333,(-0.00000016176*(C8-D8-F8)^4+0.00010366*(C8-D8-F8)^3-0.024223*(C8-D8-F8)^2+2.4258*(C8-D8-F8)-5.4333)-(0.162*(C8-210)))-((18-SUM('Rock Island Capability'!C13:T13))*2))","v":68.798270401969575},-19.826940812292431,264.74187738754148,{"$f":"K8*'Generation Summary'!$B$5","v":13.237093869377075}]
["Hour 4",{"$f":"'Generation Summary'!F$17","v":0.70269486945854831},{"$f":"('Generation Summary'!$B$8+'Generation Summary'!$B$9+'Generation Summary'!$B$10+'Generation Summary'!$B$11+'Generation Summary'!$B$12+'Generation Summary'!$B$13)*'Rock Island Inflow'!B9","v":67.03709054634551},0,217,0,3.159551637814618,{"$f":"IF('Rock Island Capability'!X14<(C9-D9-F9)*G9,'Rock Island Capability'!X14,(C9-D9-F9)*G9)","v":211.80714923003279},{"$f":"IF(C9=0, 0, IF(C9<210,-0.00000016176*(C9-D9-F9)^4+0.00010366*(C9-D9-F9)^3-0.024223*(C9-D9-F9)^2+2.4258*(C9-D9-F9)-5.4333,(-0.00000016176*(C9-D9-F9)^4+0.00010366*(C9-D9-F9)^3-0.024223*(C9-D9-F9)^2+2.4258*(C9-D9-F9)-5.4333)-(0.162*(C9-210)))-((18-SUM('Rock Island Capability'!C14:T14))*2))","v":68.289832278390136},{"$f":"IF(D9>0,-(0.000002231361*C9^3-0.001727269*C9^2+0.3686574*C9-0.7627374),-(-0.00000002276714*C9^4+0.00001391477*C9^3-0.003700159*C9^2+0.4911836*C9-0.4147475))","v":-19.616564917770269},260.48041659065262,{"$f":"K9*'Generation Summary'!$B$5","v":13.024020829532631}]
["Hour 5",{"$f":"'Generation Summary'!G$17","v":0.66306873245762465},{"$f":"('Generation Summary'!$B$8+'Generation Summary'!$B$9+'Generation Summary'!$B$10+'Generation Summary'!$B$11+'Generation Summary'!$B$12+'Generation Summary'!$B$13)*'Rock Island Inflow'!B10","v":63.256757076457397},0,217,0,3.1746729716941706,{"$f":"IF('Rock Island Capability'!X15<(C10-D10-F10)*G10,'Rock Island Capability'!X15,(C10-D10-F10)*G10)","v":200.81951696765327},{"$f":"IF(C10=0, 0, IF(C10<210,-0.00000016176*(C10-D10-F10)^4+0.00010366*(C10-D10-F10)^3-0.024223*(C10-D10-F10)^2+2.4258*(C10-D10-F10)-5.4333,(-0.00000016176*(C10-D10-F10)^4+0.00010366*(C10-D10-F10)^3-0.024223*(C10-D10-F10)^2+2.4258*(C10-D10-F10)-5.4333)-(0.162*(C10-210)))-((18-SUM('Rock Island Capability'!C15:T15))*2))","v":66.736690600788862},{"$f":"IF(D10>0,-(0.000002231361*C10^3-0.001727269*C10^2+0.3686574*C10-0.7627374),-(-0.00000002276714*C10^4+0.00001391477*C10^3-0.003700159*C10^2+0.4911836*C10-0.4147475))","v":-19.007581868282553},248.54862570015956,{"$f":"K10*'Generation Summary'!$B$5","v":12.427431285007978}]
["Hour 6",{"$f":"'Generation Summary'!H$17","v":0.72222978140964578},{"$f":"('Generation Summary'!$B$8+'Generation Summary'!$B$9+'Generation Summary'!$B$10+'Generation Summary'!$B$11+'Generation Summary'!$B$12+'Generation Summary'!$B$13)*'Rock Island Inflow'!B11","v":68.900721146480208},0,217,0,3.1520971154140796,{"$f":"IF('Rock Island Capability'!X16<(C11-D11-F11)*G11,'Rock Island Capability'!X16,(C11-D11-F11)*G11)","v":217.18176437577014},{"$f":"IF(C11=0, 0, IF(C11<210,-0.00000016176*(C11-D11-F11)^4+0.00010366*(C11-D11-F11)^3-0.024223*(C11-D11-F11)^2+2.4258*(C11-D11-F11)-5.4333,(-0.00000016176*(C11-D11-F11)^4+0.00010366*(C11-D11-F11)^3-0.024223*(C11-D11-F11)^2+2.4258*(C11-D11-F11)-5.4333)-(0.162*(C11-210)))-((18-SUM('Rock Island Capability'!C16:T16))*2))","v":68.972882410571742},-19.900679847917836,266.25396693842407,{"$f":"K11*'Generation Summary'!$B$5","v":13.312698346921204}]
["Hour 7",{"$f":"'Generation Summary'!I$17","v":0.79140398006066237},{"$f":"('Generation Summary'!$B$8+'Generation Summary'!$B$9+'Generation Summary'!$B$10+'Generation Summary'!$B$11+'Generation Summary'!$B$12+'Generation Summary'!$B$13)*'Rock Island Inflow'!B12","v":75.499939697787198},0,217,0,3.1257002412088513,{"$f":"IF('Rock Island Capability'!X17<(C12-D12-F12)*G12,'Rock Island Capability'!X17,(C12-D12-F12)*G12)","v":235.99017972462718},{"$f":"IF(C12=0, 0, IF(C12<210,-0.00000016176*(C12-D12-F12)^4+0.00010366*(C12-D12-F12)^3-0.024223*(C12-D12-F12)^2+2.4258*(C12-D12-F12)-5.4333,(-0.00000016176*(C12-D12-F12)^4+0.00010366*(C12-D12-F12)^3-0.024223*(C12-D12-F12)^2+2.4258*(C12-D12-F12)-5.4333)-(0.162*(C12-210)))-((18-SUM('Rock Island Capability'!C17:T17))*2))","v":70.993422587597138},-20.826489691829533,286.1571126203948,{"$f":"K12*'Generation Summary'!$B$5","v":14.307855631019741}]
["Hour 8",{"$f":"'Generation Summary'!J$17","v":1.0120049516290797},{"$f":"('Generation Summary'!$B$8+'Generation Summary'!$B$9+'Generation Summary'!$B$10+'Generation Summary'!$B$11+'Generation Summary'!$B$12+'Generation Summary'!$B$13)*'Rock Island Inflow'!B13","v":96.545272385414208},0,217,0,3.0415189104583433,{"$f":"IF('Rock Island Capability'!X18<(C13-D13-F13)*G13,'Rock Island Capability'!X18,(C13-D13-F13)*G13)","v":293.64427167558898},{"$f":"IF(C13=0, 0, IF(C13<210,-0.00000016176*(C13-D13-F13)^4+0.00010366*(C13-D13-F13)^3-0.024223*(C13-D13-F13)^2+2.4258*(C13-D13-F13)-5.4333,(-0.00000016176*(C13-D13-F13)^4+0.00010366*(C13-D13-F13)^3-0.024223*(C13-D13-F13)^2+2.4258*(C13-D13-F13)-5.4333)-(0.162*(C13-210)))-((18-SUM('Rock Island Capability'!C18:T18))*2))","v":74.213417256461952},-23.061401386040583,344.79628754601032,{"$f":"K13*'Generation Summary'!$B$5","v":17.239814377300515}]
["Hour 9",{"$f":"'Generation Summary'!K$17","v":1.0736985104222285},{"$f":"('Generation Summary'!$B$8+'Generation Summary'!$B$9+'Generation Summary'!$B$10+'Generation Summary'!$B$11+'Generation Summary'!$B$12+'Generation Summary'!$B$13)*'Rock Island Inflow'!B14","v":102.43083789428061},0,217,0,3.0179766484228776,{"$f":"IF('Rock Island Capability'!X19<(C14-D14-F14)*G14,'Rock Island Capability'!X19,(C14-D14-F14)*G14)","v":309.1338768433281},{"$f":"IF(C14=0, 0, IF(C14<210,-0.00000016176*(C14-D14-F14)^4+0.00010366*(C14-D14-F14)^3-0.024223*(C14-D14-F14)^2+2.4258*(C14-D14-F14)-5.4333,(-0.00000016176*(C14-D14-F14)^4+0.00010366*(C14-D14-F14)^3-0.024223*(C14-D14-F14)^2+2.4258*(C14-D14-F14)-5.4333)-(0.162*(C14-210)))-((18-SUM('Rock Island Capability'!C19:T19))*2))","v":74.491387601672102},-23.523331365467168,360.10193307953301,{"$f":"K14*'Generation Summary'!$B$5","v":18.005096653976651}]
["Hour 10",{"$f":"'Generation Summary'!L$17","v":1.1409999052557878},{"$f":"('Generation Summary'!$B$8+'Generation Summary'!$B$9+'Generation Summary'!$B$10+'Generation Summary'!$B$11+'Generation Summary'!$B$12+'Generation Summary'!$B$13)*'Rock Island Inflow'!B15","v":108.85139096140216},0,217,0,2.9922944361543915,{"$f":"IF('Rock Island Capability'!X20<(C15-D15-F15)*G15,'Rock Island Capability'!X20,(C15-D15-F15)*G15)","v":325.71541154147008},{"$f":"IF(C15=0, 0, IF(C15<210,-0.00000016176*(C15-D15-F15)^4+0.00010366*(C15-D15-F15)^3-0.024223*(C15-D15-F15)^2+2.4258*(C15-D15-F15)-5.4333,(-0.00000016176*(C15-D15-F15)^4+0.00010366*(C15-D15-F15)^3-0.024223*(C15-D15-F15)^2+2.4258*(C15-D15-F15)-5.4333)-(0.162*(C15-210)))-((18-SUM('Rock Island Capability'!C20:T20))*2))","v":74.594060102578652},-23.959622343880412,376.34984930016827,{"$f":"K15*'Generation Summary'!$B$5","v":18.817492465008414}]
["Hour 11",{"$f":"'Generation Summary'!M$17","v":1.1345458742877044},{"$f":"('Generation Summary'!$B$8+'Generation Summary'!$B$9+'Generation Summary'!$B$10+'Generation Summary'!$B$11+'Generation Summary'!$B$12+'Generation Summary'!$B$13)*'Rock Island Inflow'!B16","v":108.23567640704701},0,217,0,2.9947572943718122,{"$f":"IF('Rock Island Capability'!X21<(C16-D16-F16)*G16,'Rock Island Capability'!X21,(C16-D16-F16)*G16)","v":324.1395814312711},{"$f":"IF(C16=0, 0, IF(C16<210,-0.00000016176*(C16-D16-F16)^4+0.00010366*(C16-D16-F16)^3-0.024223*(C16-D16-F16)^2+2.4258*(C16-D16-F16)-5.4333,(-0.00000016176*(C16-D16-F16)^4+0.00010366*(C16-D16-F16)^3-0.024223*(C16-D16-F16)^2+2.4258*(C16-D16-F16)-5.4333)-(0.162*(C16-210)))-((18-SUM('Rock Island Capability'!C21:T21))*2))","v":74.591767526137318},-23.920656696620828,374.81069226078756,{"$f":"K16*'Generation Summary'!$B$5","v":18.74053461303938}]
["Hour 12",{"$f":"'Generation Summary'!N$17","v":1.0670022236168517},{"$f":"('Generation Summary'!$B$8+'Generation Summary'!$B$9+'Generation Summary'!$B$10+'Generation Summary'!$B$11+'Generation Summary'!$B$12+'Generation Summary'!$B$13)*'Rock Island Inflow'!B17","v":101.79201213304766},0,217,0,3.0205319514678095,{"$f":"IF('Rock Island Capability'!X22<(C17-D17-F17)*G17,'Rock Island Capability'!X22,(C17-D17-F17)*G17)","v":307.46602505206943},{"$f":"IF(C17=0, 0, IF(C17<210,-0.00000016176*(C17-D17-F17)^4+0.00010366*(C17-D17-F17)^3-0.024223*(C17-D17-F17)^2+2.4258*(C17-D17-F17)-5.4333,(-0.00000016176*(C17-D17-F17)^4+0.00010366*(C17-D17-F17)^3-0.024223*(C17-D17-F17)^2+2.4258*(C17-D17-F17)-5.4333)-(0.162*(C17-210)))-((18-SUM('Rock Island Capability'!C22:T22))*2))","v":74.470609438422599},-23.476170371234826,358.46046411925715,{"$f":"K17*'Generation Summary'!$B$5","v":17.92302320596286}]
["Hour 13",{"$f":"'Generation Summary'!O$17","v":1.0025211059945074},{"$f":"('Generation Summary'!$B$8+'Generation Summary'!$B$9+'Generation Summary'!$B$10+'Generation Summary'!$B$11+'Generation Summary'!$B$12+'Generation Summary'!$B$13)*'Rock Island Inflow'!B18","v":95.640513511876009},0,217,0,3.0451379459524963,{"$f":"IF('Rock Island Capability'!X23<(C18-D18-F18)*G18,'Rock Island Capability'!X23,(C18-D18-F18)*G18)","v":291.23855686539611},{"$f":"IF(C18=0, 0, IF(C18<210,-0.00000016176*(C18-D18-F18)^4+0.00010366*(C18-D18-F18)^3-0.024223*(C18-D18-F18)^2+2.4258*(C18-D18-F18)-5.4333,(-0.00000016176*(C18-D18-F18)^4+0.00010366*(C18-D18-F18)^3-0.024223*(C18-D18-F18)^2+2.4258*(C18-D18-F18)-5.4333)-(0.162*(C18-210)))-((18-SUM('Rock Island Capability'!C23:T23))*2))","v":74.151975042660183},-22.984748957304902,342.40578295075136,{"$f":"K18*'Generation Summary'!$B$5","v":17.120289147537569}]
["Hour 14",{"$f":"'Generation Summary'!P$17","v":0.95941757533746996},{"$f":"('Generation Summary'!$B$8+'Generation Summary'!$B$9+'Generation Summary'!$B$10+'Generation Summary'!$B$11+'Generation Summary'!$B$12+'Generation Summary'!$B$13)*'Rock Island Inflow'!B19","v":91.528436687194642},0,217,0,3.0615862532512215,{"$f":"IF('Rock Island Capability'!X24<(C19-D19-F19)*G19,'Rock Island Capability'!X24,(C19-D19-F19)*G19)","v":280.2222035430899},{"$f":"IF(C19=0, 0, IF(C19<210,-0.00000016176*(C19-D19-F19)^4+0.00010366*(C19-D19-F19)^3-0.024223*(C19-D19-F19)^2+2.4258*(C19-D19-F19)-5.4333,(-0.00000016176*(C19-D19-F19)^4+0.00010366*(C19-D19-F19)^3-0.024223*(C19-D19-F19)^2+2.4258*(C19-D19-F19)-5.4333)-(0.162*(C19-210)))-((18-SUM('Rock Island Capability'!C24:T24))*2))","v":73.800627618035577},-22.616269789055774,331.40656137206975,{"$f":"K19*'Generation Summary'!$B$5","v":16.570328068603487}]
["Hour 15",{"$f":"'Generation Summary'!Q$17","v":0.96726820979242201},{"$f":"('Generation Summary'!$B$8+'Generation Summary'!$B$9+'Generation Summary'!$B$10+'Generation Summary'!$B$11+'Generation Summary'!$B$12+'Generation Summary'!$B$13)*'Rock Island Inflow'!B20","v":92.277387214197063},0,217,0,3.0585904511432118,{"$f":"IF('Rock Island Capability'!X25<(C20-D20-F20)*G20,'Rock Island Capability'!X25,(C20-D20-F20)*G20)","v":282.23873538978785},{"$f":"IF(C20=0, 0, IF(C20<210,-0.00000016176*(C20-D20-F20)^4+0.00010366*(C20-D20-F20)^3-0.024223*(C20-D20-F20)^2+2.4258*(C20-D20-F20)-5.4333,(-0.00000016176*(C20-D20-F20)^4+0.00010366*(C20-D20-F20)^3-0.024223*(C20-D20-F20)^2+2.4258*(C20-D20-F20)-5.4333)-(0.162*(C20-210)))-((18-SUM('Rock Island Capability'!C25:T25))*2))","v":73.873883309908138},-22.685894016000734,333.42672468369523,{"$f":"K20*'Generation Summary'!$B$5","v":16.671336234184761}]
["Hour 16",{"$f":"'Generation Summary'!R$17","v":0.99970957582515407},{"$f":"('Generation Summary'!$B$8+'Generation Summary'!$B$9+'Generation Summary'!$B$10+'Generation Summary'!$B$11+'Generation Summary'!$B$12+'Generation Summary'!$B$13)*'Rock Island Inflow'!B21","v":95.372293533719699},0,217,0,3.0462108258651215,{"$f":"IF('Rock Island Capability'!X26<(C21-D21-F21)*G21,'Rock Island Capability'!X26,(C21-D21-F21)*G21)","v":290.52411305000305},{"$f":"IF(C21=0, 0, IF(C21<210,-0.00000016176*(C21-D21-F21)^4+0.00010366*(C21-D21-F21)^3-0.024223*(C21-D21-F21)^2+2.4258*(C21-D21-F21)-5.4333,(-0.00000016176*(C21-D21-F21)^4+0.00010366*(C21-D21-F21)^3-0.024223*(C21-D21-F21)^2+2.4258*(C21-D21-F21)-5.4333)-(0.162*(C21-210)))-((18-SUM('Rock Island Capability'!C26:T26))*2))","v":74.132711897431363},-22.961724864790195,341.69510008264422,{"$f":"K21*'Generation Summary'!$B$5","v":17.084755004132212}]
["Hour 17",{"$f":"'Generation Summary'!S$17","v":1.0517361718959712},{"$f":"('Generation Summary'!$B$8+'Generation Summary'!$B$9+'Generation Summary'!$B$10+'Generation Summary'!$B$11+'Generation Summary'!$B$12+'Generation Summary'!$B$13)*'Rock Island Inflow'!B22","v":100.33563079887566},0,217,0,3.0263574768044976,{"$f":"IF('Rock Island Capability'!X27<(C22-D22-F22)*G22,'Rock Island Capability'!X27,(C22-D22-F22)*G22)","v":303.65148645807295},{"$f":"IF(C22=0, 0, IF(C22<210,-0.00000016176*(C22-D22-F22)^4+0.00010366*(C22-D22-F22)^3-0.024223*(C22-D22-F22)^2+2.4258*(C22-D22-F22)-5.4333,(-0.00000016176*(C22-D22-F22)^4+0.00010366*(C22-D22-F22)^3-0.024223*(C22-D22-F22)^2+2.4258*(C22-D22-F22)-5.4333)-(0.162*(C22-210)))-((18-SUM('Rock Island Capability'!C27:T27))*2))","v":74.415136939197509},{"$f":"IF(D22>0,-(0.000002231361*C22^3-0.001727269*C22^2+0.3686574*C22-0.7627374),-(-0.00000002276714*C22^4+0.00001391477*C22^3-0.003700159*C22^2+0.4911836*C22-0.4147475))","v":-23.365998454313015},354.70062494295746,{"$f":"K22*'Generation Summary'!$B$5","v":17.735031247147873}]
["Hour 18",{"$f":"'Generation Summary'!T$17","v":1.1149697234376048},{"$f":"('Generation Summary'!$B$8+'Generation Summary'!$B$9+'Generation Summary'!$B$10+'Generation Summary'!$B$11+'Generation Summary'!$B$12+'Generation Summary'!$B$13)*'Rock Island Inflow'!B23","v":106.3681116159475},0,217,0,3.0022275535362102,{"$f":"IF('Rock Island Capability'!X28<(C23-D23-F23)*G23,'Rock Island Capability'!X28,(C23-D23-F23)*G23)","v":319.34127551101261},{"$f":"IF(C23=0, 0, IF(C23<210,-0.00000016176*(C23-D23-F23)^4+0.00010366*(C23-D23-F23)^3-0.024223*(C23-D23-F23)^2+2.4258*(C23-D23-F23)-5.4333,(-0.00000016176*(C23-D23-F23)^4+0.00010366*(C23-D23-F23)^3-0.024223*(C23-D23-F23)^2+2.4258*(C23-D23-F23)-5.4333)-(0.162*(C23-210)))-((18-SUM('Rock Island Capability'!C28:T28))*2))","v":74.575647476354646},{"$f":"IF(D23>0,-(0.000002231361*C23^3-0.001727269*C23^2+0.3686574*C23-0.7627374),-(-0.00000002276714*C23^4+0.00001391477*C23^3-0.003700159*C23^2+0.4911836*C23-0.4147475))","v":-23.798815805392241},370.11810718197501,{"$f":"K23*'Generation Summary'!$B$5","v":18.505905359098751}]
["Hour 19",{"$f":"'Generation Summary'!U$17","v":1.2082393064541275},{"$f":"('Generation Summary'!$B$8+'Generation Summary'!$B$9+'Generation Summary'!$B$10+'Generation Summary'!$B$11+'Generation Summary'!$B$12+'Generation Summary'!$B$13)*'Rock Island Inflow'!B24","v":115.26602983572377},0,217,0,2.9666358806571052,{"$f":"IF('Rock Island Capability'!X29<(C24-D24-F24)*G24,'Rock Island Capability'!X29,(C24-D24-F24)*G24)","v":341.95233993155057},{"$f":"IF(C24=0, 0, IF(C24<210,-0.00000016176*(C24-D24-F24)^4+0.00010366*(C24-D24-F24)^3-0.024223*(C24-D24-F24)^2+2.4258*(C24-D24-F24)-5.4333,(-0.00000016176*(C24-D24-F24)^4+0.00010366*(C24-D24-F24)^3-0.024223*(C24-D24-F24)^2+2.4258*(C24-D24-F24)-5.4333)-(0.162*(C24-210)))-((18-SUM('Rock Island Capability'!C29:T29))*2))","v":74.541929571679219},{"$f":"IF(D24>0,-(0.000002231361*C24^3-0.001727269*C24^2+0.3686574*C24-0.7627374),-(-0.00000002276714*C24^4+0.00001391477*C24^3-0.003700159*C24^2+0.4911836*C24-0.4147475))","v":-24.331641520466523},392.1626279827633,{"$f":"K24*'Generation Summary'!$B$5","v":19.608131399138166}]
["Hour 20",{"$f":"'Generation Summary'!V$17","v":1.2425164022151054},{"$f":"('Generation Summary'!$B$8+'Generation Summary'!$B$9+'Generation Summary'!$B$10+'Generation Summary'!$B$11+'Generation Summary'!$B$12+'Generation Summary'!$B$13)*'Rock Island Inflow'!B25","v":118.53606477132107},0,217,0,2.953555740914716,{"$f":"IF('Rock Island Capability'!X30<(C25-D25-F25)*G25,'Rock Island Capability'!X30,(C25-D25-F25)*G25)","v":350.10287461077394},{"$f":"IF(C25=0, 0, IF(C25<210,-0.00000016176*(C25-D25-F25)^4+0.00010366*(C25-D25-F25)^3-0.024223*(C25-D25-F25)^2+2.4258*(C25-D25-F25)-5.4333,(-0.00000016176*(C25-D25-F25)^4+0.00010366*(C25-D25-F25)^3-0.024223*(C25-D25-F25)^2+2.4258*(C25-D25-F25)-5.4333)-(0.162*(C25-210)))-((18-SUM('Rock Island Capability'!C30:T30))*2))","v":74.471995900633573},{"$f":"IF(D25>0,-(0.000002231361*C25^3-0.001727269*C25^2+0.3686574*C25-0.7627374),-(-0.00000002276714*C25^4+0.00001391477*C25^3-0.003700159*C25^2+0.4911836*C25-0.4147475))","v":-24.498649619102391},400.07622089230517,{"$f":"K25*'Generation Summary'!$B$5","v":20.003811044615261}]
["Hour 21",{"$f":"'Generation Summary'!W$17","v":1.2398733552036647},{"$f":"('Generation Summary'!$B$8+'Generation Summary'!$B$9+'Generation Summary'!$B$10+'Generation Summary'!$B$11+'Generation Summary'!$B$12+'Generation Summary'!$B$13)*'Rock Island Inflow'!B26","v":118.28391808642962},0,217,0,2.9545643276542819,{"$f":"IF('Rock Island Capability'!X31<(C26-D26-F26)*G26,'Rock Island Capability'!X31,(C26-D26-F26)*G26)","v":349.47744491334612},{"$f":"IF(C26=0, 0, IF(C26<210,-0.00000016176*(C26-D26-F26)^4+0.00010366*(C26-D26-F26)^3-0.024223*(C26-D26-F26)^2+2.4258*(C26-D26-F26)-5.4333,(-0.00000016176*(C26-D26-F26)^4+0.00010366*(C26-D26-F26)^3-0.024223*(C26-D26-F26)^2+2.4258*(C26-D26-F26)-5.4333)-(0.162*(C26-210)))-((18-SUM('Rock Island Capability'!C31:T31))*2))","v":74.478221329003532},-24.486291328954483,399.46937491339514,{"$f":"K26*'Generation Summary'!$B$5","v":19.973468745669759}]
["Hour 22",{"$f":"'Generation Summary'!X$17","v":1.2535284027365166},{"$f":"('Generation Summary'!$B$8+'Generation Summary'!$B$9+'Generation Summary'!$B$10+'Generation Summary'!$B$11+'Generation Summary'!$B$12+'Generation Summary'!$B$13)*'Rock Island Inflow'!B27","v":119.58660962106369},0,217,0,2.9493535615157453,{"$f":"IF('Rock Island Capability'!X32<(C27-D27-F27)*G27,'Rock Island Capability'!X32,(C27-D27-F27)*G27)","v":352.70319299547731},{"$f":"IF(C27=0, 0, IF(C27<210,-0.00000016176*(C27-D27-F27)^4+0.00010366*(C27-D27-F27)^3-0.024223*(C27-D27-F27)^2+2.4258*(C27-D27-F27)-5.4333,(-0.00000016176*(C27-D27-F27)^4+0.00010366*(C27-D27-F27)^3-0.024223*(C27-D27-F27)^2+2.4258*(C27-D27-F27)-5.4333)-(0.162*(C27-210)))-((18-SUM('Rock Island Capability'!C32:T32))*2))","v":74.444721992006265},{"$f":"IF(D27>0,-(0.000002231361*C27^3-0.001727269*C27^2+0.3686574*C27-0.7627374),-(-0.00000002276714*C27^4+0.00001391477*C27^3-0.003700159*C27^2+0.4911836*C27-0.4147475))","v":-24.549223882523453},402.5986911049601,{"$f":"K27*'Generation Summary'!$B$5","v":20.129934555248006}]
["Hour 23",{"$f":"'Generation Summary'!Y$17","v":1.2279002973925903},{"$f":"('Generation Summary'!$B$8+'Generation Summary'!$B$9+'Generation Summary'!$B$10+'Generation Summary'!$B$11+'Generation Summary'!$B$12+'Generation Summary'!$B$13)*'Rock Island Inflow'!B28","v":117.14168837125312},0,217,0,2.9591332465149875,{"$f":"IF('Rock Island Capability'!X33<(C28-D28-F28)*G28,'Rock Island Capability'!X33,(C28-D28-F28)*G28)","v":346.63786461227323},{"$f":"IF(C28=0, 0, IF(C28<210,-0.00000016176*(C28-D28-F28)^4+0.00010366*(C28-D28-F28)^3-0.024223*(C28-D28-F28)^2+2.4258*(C28-D28-F28)-5.4333,(-0.00000016176*(C28-D28-F28)^4+0.00010366*(C28-D28-F28)^3-0.024223*(C28-D28-F28)^2+2.4258*(C28-D28-F28)-5.4333)-(0.162*(C28-210)))-((18-SUM('Rock Island Capability'!C33:T33))*2))","v":74.504762143601312},{"$f":"IF(D28>0,-(0.000002231361*C28^3-0.001727269*C28^2+0.3686574*C28-0.7627374),-(-0.00000002276714*C28^4+0.00001391477*C28^3-0.003700159*C28^2+0.4911836*C28-0.4147475))","v":-24.4292305221291},396.71339623374541,{"$f":"K28*'Generation Summary'!$B$5","v":19.835669811687271}]
["Hour 24",{"$f":"'Generation Summary'!Z$17","v":1.0015925900639744},{"$f":"('Generation Summary'!$B$8+'Generation Summary'!$B$9+'Generation Summary'!$B$10+'Generation Summary'!$B$11+'Generation Summary'!$B$12+'Generation Summary'!$B$13)*'Rock Island Inflow'!B29","v":95.551933092103155},0,217,0,3.0454922676315874,{"$f":"IF('Rock Island Capability'!X34<(C29-D29-F29)*G29,'Rock Island Capability'!X34,(C29-D29-F29)*G29)","v":291.00267338925096},{"$f":"IF(C29=0, 0, IF(C29<210,-0.00000016176*(C29-D29-F29)^4+0.00010366*(C29-D29-F29)^3-0.024223*(C29-D29-F29)^2+2.4258*(C29-D29-F29)-5.4333,(-0.00000016176*(C29-D29-F29)^4+0.00010366*(C29-D29-F29)^3-0.024223*(C29-D29-F29)^2+2.4258*(C29-D29-F29)-5.4333)-(0.162*(C29-210)))-((18-SUM('Rock Island Capability'!C34:T34))*2))","v":74.145667013733288},-22.977160446083541,342.17117995690069,{"$f":"K29*'Generation Summary'!$B$5","v":17.108558997845034}]
[null,"AVG",{"$f":"AVERAGE(C5:C6,C8:C29)","v":95.415948659230423},null,null,null,null,null,null,"SUM",{"$f":"SUM(K5:K29)/2","v":4077.5719491537775},{"$f":"SUM(L5:L29)","v":407.75719491537774}]

{"sheet":"Rocky Reach Capability","index":4,"n_rows":34,"n_cols":23,"rows_kept":34,"cut":false,"hidden":false,"merged":[[0,2,0,12]]}
[null,null,"Rocky Reach Capability Calculations"]
[null,null,null,null,null,null,null,null,null,null,null,null,null,null,null,null,"Unit outages sent via email (TOAsubscription@chelanpud.org)"]
[null,"Units","C1","C2","C3","C4","C5","C6","C7","C8","C9","C10","C11","TOTAL"]
[null,null,null,null,null,null,null,null,null,null,null,null,null,null,null,null,"Please See Comment for Explanation of Plant Derating Outages"]
[null,"Max Cap (MW)",105,105,105,105,105,105,105,130,130,130,130,{"$f":"SUM(C5:M5)","v":1255}]
[null,"Reduce Cap by…",100,100,100,100,100,100,100,125,125,125,125]
[1,"= available"]
[0,"= unavailable"]
[null,"Water (KCFS)",null,null,null,null,null,null,null,null,null,null,null,"Flows                 <= 180 KCFS","All Units Avail.","Flows                  > 180 KCFS","Plant Capability","RI-RR Encrch","RR-LKCH Encrch","Net Plant Capability","Slice Share Capability before Reserve Requirements",null,"Total Plant Capability modified by...                                (+ increase /- decrease)  "]
["Hour 1",{"$f":"'Rocky Reach Inflow'!C5","v":85.722000000000008},1,1,1,1,1,0,1,1,1,1,0,{"$f":"$N$5-COUNTIF(C10,\"=0\")*C$6-COUNTIF(D10,\"=0\")*D$6-COUNTIF(E10,\"=0\")*E$6-COUNTIF(F10,\"=0\")*F$6-COUNTIF(G10,\"=0\")*G$6-COUNTIF(H10,\"=0\")*H$6-COUNTIF(I10,\"=0\")*I$6-COUNTIF(J10,\"=0\")*J$6-COUNTIF(K10,\"=0\")*K$6-COUNTIF(L10,\"=0\")*L$6-COUNTIF(M10,\"=0\")*M$6","v":1030},{"$f":"-0.935101*B10+1423.18","v":1343.021272078},{"$f":"O10-COUNTIF(C10,\"=0\")*C$5-COUNTIF(D10,\"=0\")*D$5-COUNTIF(E10,\"=0\")*E$5-COUNTIF(F10,\"=0\")*F$5-COUNTIF(G10,\"=0\")*G$5-COUNTIF(H10,\"=0\")*H$5-COUNTIF(I10,\"=0\")*I$5-COUNTIF(J10,\"=0\")*J$5-COUNTIF(K10,\"=0\")*K$5-COUNTIF(L10,\"=0\")*L$5-COUNTIF(M10,\"=0\")*M$5","v":1108.021272078},{"$f":"IF(N10<P10,N10+W10,P10+W10)","v":1010},25,{"$f":"IF((OR('Generation Summary'!$A$3=9,'Generation Summary'!$A$3=10)),-2,IF((OR('Generation Summary'!$A$3=5,'Generation Summary'!$A$3=6,'Generation Summary'!$A$3=7,'Generation Summary'!$A$3=8,'Generation Summary'!$A$3=11)),-3,IF((OR('Generation Summary'!$A$3=1,'Generation Summary'!$A$3=2,'Generation Summary'!$A$3=3,'Generation Summary'!$A$3=4,'Generation Summary'!$A$3=12)),-4,\"BLANK\")))","v":-4},{"$f":"Q10+R10+S10","v":1031},{"$f":"(T10*'Generation Summary'!$B$4)","v":51.550000000000004},"Hour 1",-20]
["Hour 2",{"$f":"'Rocky Reach Inflow'!C6","v":75.36},1,1,1,1,1,0,1,1,1,1,0,{"$f":"$N$5-COUNTIF(C11,\"=0\")*C$6-COUNTIF(D11,\"=0\")*D$6-COUNTIF(E11,\"=0\")*E$6-COUNTIF(F11,\"=0\")*F$6-COUNTIF(G11,\"=0\")*G$6-COUNTIF(H11,\"=0\")*H$6-COUNTIF(I11,\"=0\")*I$6-COUNTIF(J11,\"=0\")*J$6-COUNTIF(K11,\"=0\")*K$6-COUNTIF(L11,\"=0\")*L$6-COUNTIF(M11,\"=0\")*M$6","v":1030},1352.7107886400001,{"$f":"O11-COUNTIF(C11,\"=0\")*C$5-COUNTIF(D11,\"=0\")*D$5-COUNTIF(E11,\"=0\")*E$5-COUNTIF(F11,\"=0\")*F$5-COUNTIF(G11,\"=0\")*G$5-COUNTIF(H11,\"=0\")*H$5-COUNTIF(I11,\"=0\")*I$5-COUNTIF(J11,\"=0\")*J$5-COUNTIF(K11,\"=0\")*K$5-COUNTIF(L11,\"=0\")*L$5-COUNTIF(M11,\"=0\")*M$5","v":1117.7107886400001},{"$f":"IF(N11<P11,N11+W11,P11+W11)","v":1010},25,{"$f":"IF((OR('Generation Summary'!$A$3=9,'Generation Summary'!$A$3=10)),-2,IF((OR('Generation Summary'!$A$3=5,'Generation Summary'!$A$3=6,'Generation Summary'!$A$3=7,'Generation Summary'!$A$3=8,'Generation Summary'!$A$3=11)),-3,IF((OR('Generation Summary'!$A$3=1,'Generation Summary'!$A$3=2,'Generation Summary'!$A$3=3,'Generation Summary'!$A$3=4,'Generation Summary'!$A$3=12)),-4,\"BLANK\")))","v":-4},{"$f":"Q11+R11+S11","v":1031},{"$f":"(T11*'Generation Summary'!$B$4)","v":51.550000000000004},"Hour 2",-20]
["Hour 2B",{"$f":"'Rocky Reach Inflow'!C7","v":0},1,1,1,1,1,0,1,1,1,1,0,{"$f":"$N$5-COUNTIF(C12,\"=0\")*C$6-COUNTIF(D12,\"=0\")*D$6-COUNTIF(E12,\"=0\")*E$6-COUNTIF(F12,\"=0\")*F$6-COUNTIF(G12,\"=0\")*G$6-COUNTIF(H12,\"=0\")*H$6-COUNTIF(I12,\"=0\")*I$6-COUNTIF(J12,\"=0\")*J$6-COUNTIF(K12,\"=0\")*K$6-COUNTIF(L12,\"=0\")*L$6-COUNTIF(M12,\"=0\")*M$6","v":1030},1423.18,1188.18,1010,25,{"$f":"IF((OR('Generation Summary'!$A$3=9,'Generation Summary'!$A$3=10)),-2,IF((OR('Generation Summary'!$A$3=5,'Generation Summary'!$A$3=6,'Generation Summary'!$A$3=7,'Generation Summary'!$A$3=8,'Generation Summary'!$A$3=11)),-3,IF((OR('Generation Summary'!$A$3=1,'Generation Summary'!$A$3=2,'Generation Summary'!$A$3=3,'Generation Summary'!$A$3=4,'Generation Summary'!$A$3=12)),-4,\"BLANK\")))","v":-4},1031,{"$f":"IF(B12=0,0,(T12*'Generation Summary'!$B$4))","v":0},"Hour 2B",-20]
["Hour 3",{"$f":"'Rocky Reach Inflow'!C8","v":67.549943597920532},1,1,1,1,1,0,1,1,1,1,0,{"$f":"$N$5-COUNTIF(C13,\"=0\")*C$6-COUNTIF(D13,\"=0\")*D$6-COUNTIF(E13,\"=0\")*E$6-COUNTIF(F13,\"=0\")*F$6-COUNTIF(G13,\"=0\")*G$6-COUNTIF(H13,\"=0\")*H$6-COUNTIF(I13,\"=0\")*I$6-COUNTIF(J13,\"=0\")*J$6-COUNTIF(K13,\"=0\")*K$6-COUNTIF(L13,\"=0\")*L$6-COUNTIF(M13,\"=0\")*M$6","v":1030},1360.0139801916409,{"$f":"O13-COUNTIF(C13,\"=0\")*C$5-COUNTIF(D13,\"=0\")*D$5-COUNTIF(E13,\"=0\")*E$5-COUNTIF(F13,\"=0\")*F$5-COUNTIF(G13,\"=0\")*G$5-COUNTIF(H13,\"=0\")*H$5-COUNTIF(I13,\"=0\")*I$5-COUNTIF(J13,\"=0\")*J$5-COUNTIF(K13,\"=0\")*K$5-COUNTIF(L13,\"=0\")*L$5-COUNTIF(M13,\"=0\")*M$5","v":1125.0139801916409},1010,25,{"$f":"IF((OR('Generation Summary'!$A$3=9,'Generation Summary'!$A$3=10)),-2,IF((OR('Generation Summary'!$A$3=5,'Generation Summary'!$A$3=6,'Generation Summary'!$A$3=7,'Generation Summary'!$A$3=8,'Generation Summary'!$A$3=11)),-3,IF((OR('Generation Summary'!$A$3=1,'Generation Summary'!$A$3=2,'Generation Summary'!$A$3=3,'Generation Summary'!$A$3=4,'Generation Summary'!$A$3=12)),-4,\"BLANK\")))","v":-4},1031,{"$f":"(T13*'Generation Summary'!$B$4)","v":51.550000000000004},"Hour 3",-20]
["Hour 4",{"$f":"'Rocky Reach Inflow'!C9","v":66.193856702995248},1,1,1,1,1,0,1,1,1,1,0,{"$f":"$N$5-COUNTIF(C14,\"=0\")*C$6-COUNTIF(D14,\"=0\")*D$6-COUNTIF(E14,\"=0\")*E$6-COUNTIF(F14,\"=0\")*F$6-COUNTIF(G14,\"=0\")*G$6-COUNTIF(H14,\"=0\")*H$6-COUNTIF(I14,\"=0\")*I$6-COUNTIF(J14,\"=0\")*J$6-COUNTIF(K14,\"=0\")*K$6-COUNTIF(L14,\"=0\")*L$6-COUNTIF(M14,\"=0\")*M$6","v":1030},1361.2820584031724,1126.2820584031724,{"$f":"IF(N14<P14,N14+W14,P14+W14)","v":1010},25,{"$f":"IF((OR('Generation Summary'!$A$3=9,'Generation Summary'!$A$3=10)),-2,IF((OR('Generation Summary'!$A$3=5,'Generation Summary'!$A$3=6,'Generation Summary'!$A$3=7,'Generation Summary'!$A$3=8,'Generation Summary'!$A$3=11)),-3,IF((OR('Generation Summary'!$A$3=1,'Generation Summary'!$A$3=2,'Generation Summary'!$A$3=3,'Generation Summary'!$A$3=4,'Generation Summary'!$A$3=12)),-4,\"BLANK\")))","v":-4},1031,{"$f":"(T14*'Generation Summary'!$B$4)","v":51.550000000000004},"Hour 4",-20]
["Hour 5",{"$f":"'Rocky Reach Inflow'!C10","v":62.461074597508244},1,1,1,1,1,0,1,1,1,1,0,1030,1364.7725866827955,1129.7725866827955,1010,25,{"$f":"IF((OR('Generation Summary'!$A$3=9,'Generation Summary'!$A$3=10)),-2,IF((OR('Generation Summary'!$A$3=5,'Generation Summary'!$A$3=6,'Generation Summary'!$A$3=7,'Generation Summary'!$A$3=8,'Generation Summary'!$A$3=11)),-3,IF((OR('Generation Summary'!$A$3=1,'Generation Summary'!$A$3=2,'Generation Summary'!$A$3=3,'Generation Summary'!$A$3=4,'Generation Summary'!$A$3=12)),-4,\"BLANK\")))","v":-4},1031,{"$f":"(T15*'Generation Summary'!$B$4)","v":51.550000000000004},"Hour 5",-20]
["Hour 6",{"$f":"'Rocky Reach Inflow'!C11","v":68.034045408788629},1,1,1,1,1,0,1,1,1,1,0,1030,1359.5612961041963,1124.5612961041963,1010,25,{"$f":"IF((OR('Generation Summary'!$A$3=9,'Generation Summary'!$A$3=10)),-2,IF((OR('Generation Summary'!$A$3=5,'Generation Summary'!$A$3=6,'Generation Summary'!$A$3=7,'Generation Summary'!$A$3=8,'Generation Summary'!$A$3=11)),-3,IF((OR('Generation Summary'!$A$3=1,'Generation Summary'!$A$3=2,'Generation Summary'!$A$3=3,'Generation Summary'!$A$3=4,'Generation Summary'!$A$3=12)),-4,\"BLANK\")))","v":-4},1031,{"$f":"(T16*'Generation Summary'!$B$4)","v":51.550000000000004},"Hour 6",-20]
["Hour 7",{"$f":"'Rocky Reach Inflow'!C12","v":74.550254921714398},1,1,1,1,1,0,1,1,1,1,0,1030,1353.46798207245,1118.46798207245,1010,25,{"$f":"IF((OR('Generation Summary'!$A$3=9,'Generation Summary'!$A$3=10)),-2,IF((OR('Generation Summary'!$A$3=5,'Generation Summary'!$A$3=6,'Generation Summary'!$A$3=7,'Generation Summary'!$A$3=8,'Generation Summary'!$A$3=11)),-3,IF((OR('Generation Summary'!$A$3=1,'Generation Summary'!$A$3=2,'Generation Summary'!$A$3=3,'Generation Summary'!$A$3=4,'Generation Summary'!$A$3=12)),-4,\"BLANK\")))","v":-4},1031,{"$f":"(T17*'Generation Summary'!$B$4)","v":51.550000000000004},"Hour 7",-20]
["Hour 8",{"$f":"'Rocky Reach Inflow'!C13","v":95.330866443459314},1,1,1,1,1,0,1,1,1,1,0,1030,1334.0360114578548,1099.0360114578548,1010,25,{"$f":"IF((OR('Generation Summary'!$A$3=9,'Generation Summary'!$A$3=10)),-2,IF((OR('Generation Summary'!$A$3=5,'Generation Summary'!$A$3=6,'Generation Summary'!$A$3=7,'Generation Summary'!$A$3=8,'Generation Summary'!$A$3=11)),-3,IF((OR('Generation Summary'!$A$3=1,'Generation Summary'!$A$3=2,'Generation Summary'!$A$3=3,'Generation Summary'!$A$3=4,'Generation Summary'!$A$3=12)),-4,\"BLANK\")))","v":-4},1031,{"$f":"(T18*'Generation Summary'!$B$4)","v":51.550000000000004},"Hour 8",-20]
["Hour 9",{"$f":"'Rocky Reach Inflow'!C14","v":101.14239968177392},1,1,1,1,1,0,1,1,1,1,0,1030,1328.6016409151737,1093.6016409151737,1010,25,{"$f":"IF((OR('Generation Summary'!$A$3=9,'Generation Summary'!$A$3=10)),-2,IF((OR('Generation Summary'!$A$3=5,'Generation Summary'!$A$3=6,'Generation Summary'!$A$3=7,'Generation Summary'!$A$3=8,'Generation Summary'!$A$3=11)),-3,IF((OR('Generation Summary'!$A$3=1,'Generation Summary'!$A$3=2,'Generation Summary'!$A$3=3,'Generation Summary'!$A$3=4,'Generation Summary'!$A$3=12)),-4,\"BLANK\")))","v":-4},1031,{"$f":"(T19*'Generation Summary'!$B$4)","v":51.550000000000004},"Hour 9",-20]
["Hour 10",{"$f":"'Rocky Reach Inflow'!C15","v":107.48219107509522},1,1,1,1,1,0,1,1,1,1,0,1030,1322.6732956434876,1087.6732956434876,1010,25,{"$f":"IF((OR('Generation Summary'!$A$3=9,'Generation Summary'!$A$3=10)),-2,IF((OR('Generation Summary'!$A$3=5,'Generation Summary'!$A$3=6,'Generation Summary'!$A$3=7,'Generation Summary'!$A$3=8,'Generation Summary'!$A$3=11)),-3,IF((OR('Generation Summary'!$A$3=1,'Generation Summary'!$A$3=2,'Generation Summary'!$A$3=3,'Generation Summary'!$A$3=4,'Generation Summary'!$A$3=12)),-4,\"BLANK\")))","v":-4},1031,{"$f":"(T20*'Generation Summary'!$B$4)","v":51.550000000000004},"Hour 10",-20]
["Hour 11",{"$f":"'Rocky Reach Inflow'!C16","v":106.87422135790176},1,1,1,1,1,0,1,1,1,1,0,1030,1323.2418087340047,1088.2418087340047,1010,25,{"$f":"IF((OR('Generation Summary'!$A$3=9,'Generation Summary'!$A$3=10)),-2,IF((OR('Generation Summary'!$A$3=5,'Generation Summary'!$A$3=6,'Generation Summary'!$A$3=7,'Generation Summary'!$A$3=8,'Generation Summary'!$A$3=11)),-3,IF((OR('Generation Summary'!$A$3=1,'Generation Summary'!$A$3=2,'Generation Summary'!$A$3=3,'Generation Summary'!$A$3=4,'Generation Summary'!$A$3=12)),-4,\"BLANK\")))","v":-4},1031,{"$f":"(T21*'Generation Summary'!$B$4)","v":51.550000000000004},"Hour 11",-20]
["Hour 12",{"$f":"'Rocky Reach Inflow'!C17","v":100.51160946470743},1,1,1,1,1,0,1,1,1,1,0,1030,1329.1914934779427,1094.1914934779427,1010,25,{"$f":"IF((OR('Generation Summary'!$A$3=9,'Generation Summary'!$A$3=10)),-2,IF((OR('Generation Summary'!$A$3=5,'Generation Summary'!$A$3=6,'Generation Summary'!$A$3=7,'Generation Summary'!$A$3=8,'Generation Summary'!$A$3=11)),-3,IF((OR('Generation Summary'!$A$3=1,'Generation Summary'!$A$3=2,'Generation Summary'!$A$3=3,'Generation Summary'!$A$3=4,'Generation Summary'!$A$3=12)),-4,\"BLANK\")))","v":-4},1031,{"$f":"(T22*'Generation Summary'!$B$4)","v":51.550000000000004},"Hour 12",-20]
["Hour 13",{"$f":"'Rocky Reach Inflow'!C18","v":94.437488184682593},1,1,1,1,1,0,1,1,1,1,0,1030,1334.8714103610153,1099.8714103610153,1010,25,{"$f":"IF((OR('Generation Summary'!$A$3=9,'Generation Summary'!$A$3=10)),-2,IF((OR('Generation Summary'!$A$3=5,'Generation Summary'!$A$3=6,'Generation Summary'!$A$3=7,'Generation Summary'!$A$3=8,'Generation Summary'!$A$3=11)),-3,IF((OR('Generation Summary'!$A$3=1,'Generation Summary'!$A$3=2,'Generation Summary'!$A$3=3,'Generation Summary'!$A$3=4,'Generation Summary'!$A$3=12)),-4,\"BLANK\")))","v":-4},1031,{"$f":"(T23*'Generation Summary'!$B$4)","v":51.550000000000004},"Hour 13",-20]
["Hour 14",{"$f":"'Rocky Reach Inflow'!C19","v":90.377135596789671},1,1,1,1,1,0,1,1,1,1,0,1030,1338.6682501263065,1103.6682501263065,1010,25,{"$f":"IF((OR('Generation Summary'!$A$3=9,'Generation Summary'!$A$3=10)),-2,IF((OR('Generation Summary'!$A$3=5,'Generation Summary'!$A$3=6,'Generation Summary'!$A$3=7,'Generation Summary'!$A$3=8,'Generation Summary'!$A$3=11)),-3,IF((OR('Generation Summary'!$A$3=1,'Generation Summary'!$A$3=2,'Generation Summary'!$A$3=3,'Generation Summary'!$A$3=4,'Generation Summary'!$A$3=12)),-4,\"BLANK\")))","v":-4},1031,{"$f":"(T24*'Generation Summary'!$B$4)","v":51.550000000000004},"Hour 14",-20]
["Hour 15",{"$f":"'Rocky Reach Inflow'!C20","v":91.116665362446156},1,1,1,1,1,0,1,1,1,1,0,1030,1337.9767151029114,1102.9767151029114,1010,25,{"$f":"IF((OR('Generation Summary'!$A$3=9,'Generation Summary'!$A$3=10)),-2,IF((OR('Generation Summary'!$A$3=5,'Generation Summary'!$A$3=6,'Generation Summary'!$A$3=7,'Generation Summary'!$A$3=8,'Generation Summary'!$A$3=11)),-3,IF((OR('Generation Summary'!$A$3=1,'Generation Summary'!$A$3=2,'Generation Summary'!$A$3=3,'Generation Summary'!$A$3=4,'Generation Summary'!$A$3=12)),-4,\"BLANK\")))","v":-4},1031,{"$f":"(T25*'Generation Summary'!$B$4)","v":51.550000000000004},"Hour 15",-20]
["Hour 16",{"$f":"'Rocky Reach Inflow'!C21","v":94.172642042729521},1,1,1,1,1,0,1,1,1,1,0,1030,1335.1190682532017,1100.1190682532017,1010,25,{"$f":"IF((OR('Generation Summary'!$A$3=9,'Generation Summary'!$A$3=10)),-2,IF((OR('Generation Summary'!$A$3=5,'Generation Summary'!$A$3=6,'Generation Summary'!$A$3=7,'Generation Summary'!$A$3=8,'Generation Summary'!$A$3=11)),-3,IF((OR('Generation Summary'!$A$3=1,'Generation Summary'!$A$3=2,'Generation Summary'!$A$3=3,'Generation Summary'!$A$3=4,'Generation Summary'!$A$3=12)),-4,\"BLANK\")))","v":-4},1031,{"$f":"(T26*'Generation Summary'!$B$4)","v":51.550000000000004},"Hour 16",-20]
["Hour 17",{"$f":"'Rocky Reach Inflow'!C22","v":99.073547392600489},1,1,1,1,1,0,1,1,1,1,0,1030,1330.536226759632,1095.536226759632,1010,25,{"$f":"IF((OR('Generation Summary'!$A$3=9,'Generation Summary'!$A$3=10)),-2,IF((OR('Generation Summary'!$A$3=5,'Generation Summary'!$A$3=6,'Generation Summary'!$A$3=7,'Generation Summary'!$A$3=8,'Generation Summary'!$A$3=11)),-3,IF((OR('Generation Summary'!$A$3=1,'Generation Summary'!$A$3=2,'Generation Summary'!$A$3=3,'Generation Summary'!$A$3=4,'Generation Summary'!$A$3=12)),-4,\"BLANK\")))","v":-4},1031,{"$f":"(T27*'Generation Summary'!$B$4)","v":51.550000000000004},"Hour 17",-20]
["Hour 18",{"$f":"'Rocky Reach Inflow'!C23","v":105.03014794782237},1,1,1,1,1,0,1,1,1,1,0,1030,1324.9662036238435,1089.9662036238435,1010,25,{"$f":"IF((OR('Generation Summary'!$A$3=9,'Generation Summary'!$A$3=10)),-2,IF((OR('Generation Summary'!$A$3=5,'Generation Summary'!$A$3=6,'Generation Summary'!$A$3=7,'Generation Summary'!$A$3=8,'Generation Summary'!$A$3=11)),-3,IF((OR('Generation Summary'!$A$3=1,'Generation Summary'!$A$3=2,'Generation Summary'!$A$3=3,'Generation Summary'!$A$3=4,'Generation Summary'!$A$3=12)),-4,\"BLANK\")))","v":-4},1031,{"$f":"(T28*'Generation Summary'!$B$4)","v":51.550000000000004},"Hour 18",-20]
["Hour 19",{"$f":"'Rocky Reach Inflow'!C24","v":113.81614266797881},1,1,1,1,1,0,1,1,1,1,0,1030,1316.7504111750304,1081.7504111750304,1010,25,{"$f":"IF((OR('Generation Summary'!$A$3=9,'Generation Summary'!$A$3=10)),-2,IF((OR('Generation Summary'!$A$3=5,'Generation Summary'!$A$3=6,'Generation Summary'!$A$3=7,'Generation Summary'!$A$3=8,'Generation Summary'!$A$3=11)),-3,IF((OR('Generation Summary'!$A$3=1,'Generation Summary'!$A$3=2,'Generation Summary'!$A$3=3,'Generation Summary'!$A$3=4,'Generation Summary'!$A$3=12)),-4,\"BLANK\")))","v":-4},1031,{"$f":"(T29*'Generation Summary'!$B$4)","v":51.550000000000004},"Hour 19",-20]
["Hour 20",{"$f":"'Rocky Reach Inflow'!C25","v":117.04504508866293},1,1,1,1,1,0,1,1,1,1,0,1030,1313.7310612925462,1078.7310612925462,1010,25,{"$f":"IF((OR('Generation Summary'!$A$3=9,'Generation Summary'!$A$3=10)),-2,IF((OR('Generation Summary'!$A$3=5,'Generation Summary'!$A$3=6,'Generation Summary'!$A$3=7,'Generation Summary'!$A$3=8,'Generation Summary'!$A$3=11)),-3,IF((OR('Generation Summary'!$A$3=1,'Generation Summary'!$A$3=2,'Generation Summary'!$A$3=3,'Generation Summary'!$A$3=4,'Generation Summary'!$A$3=12)),-4,\"BLANK\")))","v":-4},1031,{"$f":"(T30*'Generation Summary'!$B$4)","v":51.550000000000004},"Hour 20",-20]
["Hour 21",{"$f":"'Rocky Reach Inflow'!C26","v":116.79607006018522},1,1,1,1,1,0,1,1,1,1,0,1030,1313.9638780906507,1078.9638780906507,1010,25,{"$f":"IF((OR('Generation Summary'!$A$3=9,'Generation Summary'!$A$3=10)),-2,IF((OR('Generation Summary'!$A$3=5,'Generation Summary'!$A$3=6,'Generation Summary'!$A$3=7,'Generation Summary'!$A$3=8,'Generation Summary'!$A$3=11)),-3,IF((OR('Generation Summary'!$A$3=1,'Generation Summary'!$A$3=2,'Generation Summary'!$A$3=3,'Generation Summary'!$A$3=4,'Generation Summary'!$A$3=12)),-4,\"BLANK\")))","v":-4},1031,{"$f":"(T31*'Generation Summary'!$B$4)","v":51.550000000000004},"Hour 21",-20]
["Hour 22",{"$f":"'Rocky Reach Inflow'!C27","v":118.08237553777987},1,1,1,1,1,0,1,1,1,1,0,1030,1312.7610525522466,1077.7610525522466,1010,25,{"$f":"IF((OR('Generation Summary'!$A$3=9,'Generation Summary'!$A$3=10)),-2,IF((OR('Generation Summary'!$A$3=5,'Generation Summary'!$A$3=6,'Generation Summary'!$A$3=7,'Generation Summary'!$A$3=8,'Generation Summary'!$A$3=11)),-3,IF((OR('Generation Summary'!$A$3=1,'Generation Summary'!$A$3=2,'Generation Summary'!$A$3=3,'Generation Summary'!$A$3=4,'Generation Summary'!$A$3=12)),-4,\"BLANK\")))","v":-4},1031,{"$f":"(T32*'Generation Summary'!$B$4)","v":51.550000000000004},"Hour 22",-20]
["Hour 23",{"$f":"'Rocky Reach Inflow'!C28","v":115.66820801438202},1,1,1,1,1,0,1,1,1,1,0,1030,1315.0185430175434,1080.0185430175434,1010,25,{"$f":"IF((OR('Generation Summary'!$A$3=9,'Generation Summary'!$A$3=10)),-2,IF((OR('Generation Summary'!$A$3=5,'Generation Summary'!$A$3=6,'Generation Summary'!$A$3=7,'Generation Summary'!$A$3=8,'Generation Summary'!$A$3=11)),-3,IF((OR('Generation Summary'!$A$3=1,'Generation Summary'!$A$3=2,'Generation Summary'!$A$3=3,'Generation Summary'!$A$3=4,'Generation Summary'!$A$3=12)),-4,\"BLANK\")))","v":-4},1031,{"$f":"(T33*'Generation Summary'!$B$4)","v":51.550000000000004},"Hour 23",-20]
["Hour 24",{"$f":"'Rocky Reach Inflow'!C29","v":94.350021984026384},1,1,1,1,1,0,1,1,1,1,0,1030,1334.953200092715,1099.953200092715,1010,25,{"$f":"IF((OR('Generation Summary'!$A$3=9,'Generation Summary'!$A$3=10)),-2,IF((OR('Generation Summary'!$A$3=5,'Generation Summary'!$A$3=6,'Generation Summary'!$A$3=7,'Generation Summary'!$A$3=8,'Generation Summary'!$A$3=11)),-3,IF((OR('Generation Summary'!$A$3=1,'Generation Summary'!$A$3=2,'Generation Summary'!$A$3=3,'Generation Summary'!$A$3=4,'Generation Summary'!$A$3=12)),-4,\"BLANK\")))","v":-4},1031,{"$f":"(T34*'Generation Summary'!$B$4)","v":51.550000000000004},"Hour 24",-20]

{"sheet":"Rock Island Capability","index":5,"n_rows":34,"n_cols":30,"rows_kept":34,"cut":false,"hidden":false,"merged":[[0,2,0,18]]}
[null,null,"Rock Island Capability Calculations"]
[]
[null,"Units","B1","B2","B3","B4","B5","B6","B7","B8","B9","B10","U1","U2","U3","U4","U5","U6","U7","U8","Total",null,"Unit outages sent via email (TOAsubscription@chelanpud.org)"]
[]
[null,"Max Cap (MW)",15,15,15.5,15,17,17,17,17,17,19.5,42,42,42,42,42,42,42,42,{"$f":"SUM(C5:T5)","v":501},null,"Please See Comment for Explanation of Plant Derating Outages"]
[null,"Reduce Cap by…",12,12,12.5,12,15,15,15,15,15,17.5,40,40,40,40,40,40,40,40]
[1,"= available"]
[0,"= unavailable"]
[null,"Water (KCFS)",null,null,null,null,null,null,null,null,null,null,null,null,null,null,null,null,null,null,"Flows                 <= 260 KCFS","All Units Avail.","Flows                  > 260 KCFS","Plant Capability","Wan-RI Encrch","RI-RR Encrch","Net Plant Capability","Slice Share Capability before Reserve Requirements",null,"Total Plant Capability modified by...                                (+ increase /- decrease)  "]
["Hour 1",{"$f":"'Rock Island Inflow'!C5","v":86.814000000000007},0,0,0,1,1,1,1,1,0,1,1,1,1,1,1,1,1,1,{"$f":"$U$5-COUNTIF(C10,\"=0\")*C$6-COUNTIF(D10,\"=0\")*D$6-COUNTIF(E10,\"=0\")*E$6-COUNTIF(F10,\"=0\")*F$6-COUNTIF(G10,\"=0\")*G$6-COUNTIF(H10,\"=0\")*H$6-COUNTIF(I10,\"=0\")*I$6-COUNTIF(J10,\"=0\")*J$6-COUNTIF(K10,\"=0\")*K$6-COUNTIF(L10,\"=0\")*L$6-COUNTIF(M10,\"=0\")*M$6-COUNTIF(N10,\"=0\")*N$6-COUNTIF(O10,\"=0\")*O$6-COUNTIF(P10,\"=0\")*P$6-COUNTIF(Q10,\"=0\")*Q$6-COUNTIF(R10,\"=0\")*R$6-COUNTIF(S10,\"=0\")*S$6-COUNTIF(T10,\"=0\")*T$6","v":449.5},{"$f":"-0.905634*B10+730","v":651.378289924},{"$f":"V10-COUNTIF(C10,\"=0\")*C$5-COUNTIF(D10,\"=0\")*D$5-COUNTIF(E10,\"=0\")*E$5-COUNTIF(F10,\"=0\")*F$5-COUNTIF(G10,\"=0\")*G$5-COUNTIF(H10,\"=0\")*H$5-COUNTIF(I10,\"=0\")*I$5-COUNTIF(J10,\"=0\")*J$5-COUNTIF(K10,\"=0\")*K$5-COUNTIF(L10,\"=0\")*L$5-COUNTIF(M10,\"=0\")*M$5-COUNTIF(N10,\"=0\")*N$5-COUNTIF(O10,\"=0\")*O$5-COUNTIF(P10,\"=0\")*P$5-COUNTIF(Q10,\"=0\")*Q$5-COUNTIF(R10,\"=0\")*R$5-COUNTIF(S10,\"=0\")*S$5-COUNTIF(T10,\"=0\")*T$5","v":588.878289924},{"$f":"IF(U10<W10,U10+AD10,W10+AD10)","v":464.5},85,{"$f":"-'Rocky Reach Capability'!R10","v":-25},{"$f":"X10+Y10+Z10","v":524.5},{"$f":"(AA10*'Generation Summary'!$B$5)","v":26.225000000000001},"Hour 1",15]
["Hour 2",{"$f":"'Rock Island Inflow'!C6","v":76.320000000000007},0,0,0,1,1,1,1,1,0,1,1,1,1,1,1,1,1,1,449.5,{"$f":"-0.905634*B11+730","v":660.88201312000001},598.38201312000001,{"$f":"IF(U11<W11,U11+AD11,W11+AD11)","v":464.5},85,{"$f":"-'Rocky Reach Capability'!R11","v":-25},{"$f":"X11+Y11+Z11","v":524.5},{"$f":"(AA11*'Generation Summary'!$B$5)","v":26.225000000000001},"Hour 2",15]
["Hour 2B",{"$f":"'Rock Island Inflow'!C7","v":0},0,0,0,1,1,1,1,1,0,1,1,1,1,1,1,1,1,1,449.5,730,667.5,464.5,85,{"$f":"-'Rocky Reach Capability'!R12","v":-25},524.5,{"$f":"IF(B12=0, 0,(AA12*'Generation Summary'!$B$5))","v":0},"Hour 2B",15]
["Hour 3",{"$f":"'Rock Island Inflow'!C8","v":68.410452433562838},0,0,0,1,1,1,1,1,0,1,1,1,1,1,1,1,1,1,449.5,668.04516832078275,605.54516832078275,464.5,85,{"$f":"-'Rocky Reach Capability'!R13","v":-25},524.5,{"$f":"(AA13*'Generation Summary'!$B$5)","v":26.225000000000001},"Hour 3",15]
["Hour 4",{"$f":"'Rock Island Inflow'!C9","v":67.03709054634551},0,0,0,1,1,1,1,1,0,1,1,1,1,1,1,1,1,1,449.5,669.28893154015088,606.78893154015088,464.5,85,{"$f":"-'Rocky Reach Capability'!R14","v":-25},524.5,{"$f":"(AA14*'Generation Summary'!$B$5)","v":26.225000000000001},"Hour 4",15]
["Hour 5",{"$f":"'Rock Island Inflow'!C10","v":63.256757076457397},0,0,0,1,1,1,1,1,0,1,1,1,1,1,1,1,1,1,449.5,672.71253006181962,610.21253006181962,464.5,85,{"$f":"-'Rocky Reach Capability'!R15","v":-25},524.5,{"$f":"(AA15*'Generation Summary'!$B$5)","v":26.225000000000001},"Hour 5",15]
["Hour 6",{"$f":"'Rock Island Inflow'!C11","v":68.900721146480208},0,0,0,1,1,1,1,1,0,1,1,1,1,1,1,1,1,1,449.5,667.60116430522851,605.10116430522851,464.5,85,{"$f":"-'Rocky Reach Capability'!R16","v":-25},524.5,{"$f":"(AA16*'Generation Summary'!$B$5)","v":26.225000000000001},"Hour 6",15]
["Hour 7",{"$f":"'Rock Island Inflow'!C12","v":75.499939697787198},0,0,0,1,1,1,1,1,0,1,1,1,1,1,1,1,1,1,449.5,661.6246876117342,599.1246876117342,464.5,85,{"$f":"-'Rocky Reach Capability'!R17","v":-25},524.5,{"$f":"(AA17*'Generation Summary'!$B$5)","v":26.225000000000001},"Hour 7",15]
["Hour 8",{"$f":"'Rock Island Inflow'!C13","v":96.545272385414208},0,0,0,1,1,1,1,1,0,1,1,1,1,1,1,1,1,1,449.5,642.56531878850774,580.06531878850774,464.5,85,{"$f":"-'Rocky Reach Capability'!R18","v":-25},524.5,{"$f":"(AA18*'Generation Summary'!$B$5)","v":26.225000000000001},"Hour 8",15]
["Hour 9",{"$f":"'Rock Island Inflow'!C14","v":102.43083789428061},0,0,0,1,1,1,1,1,0,1,1,1,1,1,1,1,1,1,449.5,637.23515055445102,574.73515055445102,464.5,85,{"$f":"-'Rocky Reach Capability'!R19","v":-25},524.5,{"$f":"(AA19*'Generation Summary'!$B$5)","v":26.225000000000001},"Hour 9",15]
["Hour 10",{"$f":"'Rock Island Inflow'!C15","v":108.85139096140216},0,0,0,1,1,1,1,1,0,1,1,1,1,1,1,1,1,1,449.5,631.4204793980615,568.9204793980615,464.5,85,{"$f":"-'Rocky Reach Capability'!R20","v":-25},524.5,{"$f":"(AA20*'Generation Summary'!$B$5)","v":26.225000000000001},"Hour 10",15]
["Hour 11",{"$f":"'Rock Island Inflow'!C16","v":108.23567640704701},0,0,0,1,1,1,1,1,0,1,1,1,1,1,1,1,1,1,449.5,631.97809143278039,569.47809143278039,464.5,85,{"$f":"-'Rocky Reach Capability'!R21","v":-25},524.5,{"$f":"(AA21*'Generation Summary'!$B$5)","v":26.225000000000001},"Hour 11",15]
["Hour 12",{"$f":"'Rock Island Inflow'!C17","v":101.79201213304766},0,0,0,1,1,1,1,1,0,1,1,1,1,1,1,1,1,1,449.5,637.81369288389953,575.31369288389953,464.5,85,{"$f":"-'Rocky Reach Capability'!R22","v":-25},524.5,{"$f":"(AA22*'Generation Summary'!$B$5)","v":26.225000000000001},"Hour 12",15]
["Hour 13",{"$f":"'Rock Island Inflow'!C18","v":95.640513511876009},0,0,0,1,1,1,1,1,0,1,1,1,1,1,1,1,1,1,449.5,643.38469918618568,580.88469918618568,464.5,85,{"$f":"-'Rocky Reach Capability'!R23","v":-25},524.5,{"$f":"(AA23*'Generation Summary'!$B$5)","v":26.225000000000001},"Hour 13",15]
["Hour 14",{"$f":"'Rock Island Inflow'!C19","v":91.528436687194642},0,0,0,1,1,1,1,1,0,1,1,1,1,1,1,1,1,1,449.5,647.10873576922916,584.60873576922916,464.5,85,{"$f":"-'Rocky Reach Capability'!R24","v":-25},524.5,{"$f":"(AA24*'Generation Summary'!$B$5)","v":26.225000000000001},"Hour 14",15]
["Hour 15",{"$f":"'Rock Island Inflow'!C20","v":92.277387214197063},0,0,0,1,1,1,1,1,0,1,1,1,1,1,1,1,1,1,449.5,646.43046070765786,583.93046070765786,464.5,85,{"$f":"-'Rocky Reach Capability'!R25","v":-25},524.5,{"$f":"(AA25*'Generation Summary'!$B$5)","v":26.225000000000001},"Hour 15",15]
["Hour 16",{"$f":"'Rock Island Inflow'!C21","v":95.372293533719699},0,0,0,1,1,1,1,1,0,1,1,1,1,1,1,1,1,1,449.5,643.6276083178833,581.1276083178833,464.5,85,{"$f":"-'Rocky Reach Capability'!R26","v":-25},524.5,{"$f":"(AA26*'Generation Summary'!$B$5)","v":26.225000000000001},"Hour 16",15]
["Hour 17",{"$f":"'Rock Island Inflow'!C22","v":100.33563079887566},0,0,0,1,1,1,1,1,0,1,1,1,1,1,1,1,1,1,449.5,639.13264133709106,576.63264133709106,464.5,85,{"$f":"-'Rocky Reach Capability'!R27","v":-25},524.5,{"$f":"(AA27*'Generation Summary'!$B$5)","v":26.225000000000001},"Hour 17",15]
["Hour 18",{"$f":"'Rock Island Inflow'!C23","v":106.3681116159475},0,0,0,1,1,1,1,1,0,1,1,1,1,1,1,1,1,1,449.5,633.66942160480301,571.16942160480301,464.5,85,{"$f":"-'Rocky Reach Capability'!R28","v":-25},524.5,{"$f":"(AA28*'Generation Summary'!$B$5)","v":26.225000000000001},"Hour 18",15]
["Hour 19",{"$f":"'Rock Island Inflow'!C24","v":115.26602983572377},0,0,0,1,1,1,1,1,0,1,1,1,1,1,1,1,1,1,449.5,625.6111643357541,563.1111643357541,464.5,85,{"$f":"-'Rocky Reach Capability'!R29","v":-25},524.5,{"$f":"(AA29*'Generation Summary'!$B$5)","v":26.225000000000001},"Hour 19",15]
["Hour 20",{"$f":"'Rock Island Inflow'!C25","v":118.53606477132107},0,0,0,1,1,1,1,1,0,1,1,1,1,1,1,1,1,1,449.5,622.6497095168894,560.1497095168894,464.5,85,{"$f":"-'Rocky Reach Capability'!R30","v":-25},524.5,{"$f":"(AA30*'Generation Summary'!$B$5)","v":26.225000000000001},"Hour 20",15]
["Hour 21",{"$f":"'Rock Island Inflow'!C26","v":118.28391808642962},0,0,0,1,1,1,1,1,0,1,1,1,1,1,1,1,1,1,449.5,622.87806212771443,560.37806212771443,464.5,85,{"$f":"-'Rocky Reach Capability'!R31","v":-25},524.5,{"$f":"(AA31*'Generation Summary'!$B$5)","v":26.225000000000001},"Hour 21",15]
["Hour 22",{"$f":"'Rock Island Inflow'!C27","v":119.58660962106369},0,0,0,1,1,1,1,1,0,1,1,1,1,1,1,1,1,1,449.5,621.69830038243765,559.19830038243765,464.5,85,{"$f":"-'Rocky Reach Capability'!R32","v":-25},524.5,{"$f":"(AA32*'Generation Summary'!$B$5)","v":26.225000000000001},"Hour 22",15]
["Hour 23",{"$f":"'Rock Island Inflow'!C28","v":117.14168837125312},0,0,0,1,1,1,1,1,0,1,1,1,1,1,1,1,1,1,449.5,623.91250419358857,561.41250419358857,464.5,85,{"$f":"-'Rocky Reach Capability'!R33","v":-25},524.5,{"$f":"(AA33*'Generation Summary'!$B$5)","v":26.225000000000001},"Hour 23",15]
["Hour 24",{"$f":"'Rock Island Inflow'!C29","v":95.551933092103155},0,0,0,1,1,1,1,1,0,1,1,1,1,1,1,1,1,1,449.5,{"$f":"-0.905634*B34+730","v":643.46492062606626},580.96492062606626,464.5,85,{"$f":"-'Rocky Reach Capability'!R34","v":-25},524.5,{"$f":"(AA34*'Generation Summary'!$B$5)","v":26.225000000000001},"Hour 24",15]

{"sheet":"RR CEAEA","index":6,"n_rows":371,"n_cols":28,"rows_kept":371,"cut":false,"hidden":false,"merged":[]}
[]
["Canadian ",null,"**Please note 3/15/2022 is an adjustment day with a different schedule and schedule for 4/1/22 and beyond have not yet been established.  Below are estimates."]
["Entitlement",null,1,2,"2B",3,4,5,6,7,8,9,10,11,12,13,14,15,16,17,18,19,20,21,22,23,24,"Day"]
[]
["Rocky Reach CEAEA"]
[]
["2022-01-01",{"$f":"A7","v":"2022-01-01"},null,null,null,null,null,null,null,3,3,3,4,4,4,3,3,3,3,4,3,3,3,3,3,null,null,{"$f":"SUM(C7:AA7)","v":52}]
["2022-01-02",{"$f":"A8","v":"2022-01-02"},null,null,null,null,null,null,null,null,null,null,null,null,null,null,null,null,null,null,null,null,null,null,null,null,null,{"$f":"SUM(C8:AA8)","v":0}]
["2022-01-03","2022-01-03",null,null,null,null,null,null,null,3,3,3,4,4,3,3,3,3,3,4,3,3,3,3,3,null,null,51]
["2022-01-04","2022-01-04",null,null,null,null,null,null,null,3,3,3,4,4,3,3,3,3,3,4,3,3,3,3,3,null,null,51]
["2022-01-05","2022-01-05",null,null,null,null,null,null,null,3,3,3,4,4,3,3,3,3,3,4,3,3,3,3,3,null,null,51]
["2022-01-06","2022-01-06",null,null,null,null,null,null,null,3,3,3,4,4,3,3,3,3,3,4,3,3,3,3,3,null,null,51]
["2022-01-07","2022-01-07",null,null,null,null,null,null,null,3,3,3,4,4,3,3,3,3,3,4,3,3,3,3,3,null,null,51]
["2022-01-08","2022-01-08",null,null,null,null,null,null,null,3,3,3,4,4,4,3,3,3,3,4,3,3,3,3,3,null,null,52]
["2022-01-09","2022-01-09",null,null,null,null,null,null,null,null,null,null,null,null,null,null,null,null,null,null,null,null,null,null,null,null,null,0]
["2022-01-10","2022-01-10",null,null,null,null,null,null,null,3,3,3,4,4,3,3,3,3,3,4,3,3,3,3,3,null,null,51]
["2022-01-11","2022-01-11",null,null,null,null,null,null,null,3,3,3,4,4,3,3,3,3,3,4,3,3,3,3,3,null,null,51]
["2022-01-12","2022-01-12",null,null,null,null,null,null,null,3,3,3,4,4,3,3,3,3,3,4,3,3,3,3,3,null,null,51]
["2022-01-13","2022-01-13",null,null,null,null,null,null,null,3,3,3,4,4,3,3,3,3,3,4,3,3,3,3,3,null,null,51]
["2022-01-14","2022-01-14",null,null,null,null,null,null,null,3,3,3,4,4,3,3,3,3,3,4,3,3,3,3,3,null,null,51]
["2022-01-15","2022-01-15",null,null,null,null,null,null,null,3,3,3,4,4,4,3,3,3,3,4,3,3,3,3,3,null,null,52]
["2022-01-16","2022-01-16",null,null,null,null,null,null,null,null,null,null,null,null,null,null,null,null,null,null,null,null,null,null,null,null,null,0]
["2022-01-17","2022-01-17",null,null,null,null,null,null,null,3,3,3,4,4,3,3,3,3,3,4,3,3,3,3,3,null,null,51]
["2022-01-18","2022-01-18",null,null,null,null,null,null,null,3,3,3,4,4,3,3,3,3,3,4,3,3,3,3,3,null,null,51]
["2022-01-19","2022-01-19",null,null,null,null,null,null,null,3,3,3,4,4,3,3,3,3,3,4,3,3,3,3,3,null,null,51]
["2022-01-20","2022-01-20",null,null,null,null,null,null,null,3,3,3,4,4,3,3,3,3,3,4,3,3,3,3,3,null,null,51]
["2022-01-21","2022-01-21",null,null,null,null,null,null,null,3,3,3,4,4,3,3,3,3,3,4,3,3,3,3,3,null,null,51]
["2022-01-22","2022-01-22",null,null,null,null,null,null,null,3,3,3,4,4,4,3,3,3,3,4,3,3,3,3,3,null,null,52]
["2022-01-23","2022-01-23",null,null,null,null,null,null,null,null,null,null,null,null,null,null,null,null,null,null,null,null,null,null,null,null,null,0]
["2022-01-24","2022-01-24",null,null,null,null,null,null,null,3,3,3,4,4,3,3,3,3,3,4,3,3,3,3,3,null,null,51]
["2022-01-25","2022-01-25",null,null,null,null,null,null,null,3,3,3,4,4,3,3,3,3,3,4,3,3,3,3,3,null,null,51]
["2022-01-26","2022-01-26",null,null,null,null,null,null,null,3,3,3,4,4,3,3,3,3,3,4,3,3,3,3,3,null,null,51]
["2022-01-27","2022-01-27",null,null,null,null,null,null,null,3,3,3,4,4,3,3,3,3,3,4,3,3,3,3,3,null,null,51]
["2022-01-28","2022-01-28",null,null,null,null,null,null,null,3,3,3,4,4,3,3,3,3,3,4,3,3,3,3,3,null,null,51]
["2022-01-29","2022-01-29",null,null,null,null,null,null,null,3,3,3,4,4,4,3,3,3,3,4,3,3,3,3,3,null,null,52]
["2022-01-30","2022-01-30",null,null,null,null,null,null,null,null,null,null,null,null,null,null,null,null,null,null,null,null,null,null,null,null,null,0]
["2022-01-31","2022-01-31",null,null,null,null,null,null,null,3,3,3,4,4,3,3,3,3,3,4,3,3,3,3,3,null,null,51]
["2022-02-01","2022-02-01",null,null,null,null,null,null,null,3,3,3,4,4,3,3,3,3,3,4,3,3,3,3,3,null,null,51]
["2022-02-02","2022-02-02",null,null,null,null,null,null,null,3,3,3,4,4,3,3,3,3,3,4,3,3,3,3,3,null,null,51]
["2022-02-03","2022-02-03",null,null,null,null,null,null,null,3,3,3,4,4,3,3,3,3,3,4,3,3,3,3,3,null,null,51]
["2022-02-04","2022-02-04",null,null,null,null,null,null,null,3,3,3,4,4,3,3,3,3,3,4,3,3,3,3,3,null,null,51]
["2022-02-05","2022-02-05",null,null,null,null,null,null,null,3,3,3,4,4,4,3,3,3,3,4,3,3,3,3,3,null,null,52]
["2022-02-06","2022-02-06",null,null,null,null,null,null,null,null,null,null,null,null,null,null,null,null,null,null,null,null,null,null,null,null,null,0]
["2022-02-07","2022-02-07",null,null,null,null,null,null,null,3,3,3,4,4,3,3,3,3,3,4,3,3,3,3,3,null,null,51]
["2022-02-08","2022-02-08",null,null,null,null,null,null,null,3,3,3,4,4,3,3,3,3,3,4,3,3,3,3,3,null,null,51]
["2022-02-09","2022-02-09",null,null,null,null,null,null,null,3,3,3,4,4,3,3,3,3,3,4,3,3,3,3,3,null,null,51]
["2022-02-10","2022-02-10",null,null,null,null,null,null,null,3,3,3,4,4,3,3,3,3,3,4,3,3,3,3,3,null,null,51]
["2022-02-11","2022-02-11",null,null,null,null,null,null,null,3,3,3,4,4,3,3,3,3,3,4,3,3,3,3,3,null,null,51]
["2022-02-12","2022-02-12",null,null,null,null,null,null,null,3,3,3,4,4,4,3,3,3,3,4,3,3,3,3,3,null,null,52]
["2022-02-13","2022-02-13",null,null,null,null,null,null,null,null,null,null,null,null,null,null,null,null,null,null,null,null,null,null,null,null,null,0]
["2022-02-14","2022-02-14",null,null,null,null,null,null,null,3,3,3,4,4,3,3,3,3,3,4,3,3,3,3,3,null,null,51]
["2022-02-15","2022-02-15",null,null,null,null,null,null,null,3,3,3,4,4,3,3,3,3,3,4,3,3,3,3,3,null,null,51]
["2022-02-16","2022-02-16",null,null,null,null,null,null,null,3,3,3,4,4,3,3,3,3,3,4,3,3,3,3,3,null,null,51]
["2022-02-17","2022-02-17",null,null,null,null,null,null,null,3,3,3,4,4,3,3,3,3,3,4,3,3,3,3,3,null,null,51]
["2022-02-18","2022-02-18",null,null,null,null,null,null,null,3,3,3,4,4,3,3,3,3,3,4,3,3,3,3,3,null,null,51]
["2022-02-19","2022-02-19",null,null,null,null,null,null,null,3,3,3,4,4,4,3,3,3,3,4,3,3,3,3,3,null,null,52]
["2022-02-20","2022-02-20",null,null,null,null,null,null,null,null,null,null,null,null,null,null,null,null,null,null,null,null,null,null,null,null,null,0]
["2022-02-21","2022-02-21",null,null,null,null,null,null,null,3,3,3,4,4,3,3,3,3,3,4,3,3,3,3,3,null,null,51]
["2022-02-22","2022-02-22",null,null,null,null,null,null,null,3,3,3,4,4,3,3,3,3,3,4,3,3,3,3,3,null,null,51]
["2022-02-23","2022-02-23",null,null,null,null,null,null,null,3,3,3,4,4,3,3,3,3,3,4,3,3,3,3,3,null,null,51]
["2022-02-24","2022-02-24",null,null,null,null,null,null,null,3,3,3,4,4,3,3,3,3,3,4,3,3,3,3,3,null,null,51]
["2022-02-25","2022-02-25",null,null,null,null,null,null,null,3,3,3,4,4,3,3,3,3,3,4,3,3,3,3,3,null,null,51]
["2022-02-26","2022-02-26",null,null,null,null,null,null,null,3,3,3,4,4,4,3,3,3,3,4,3,3,3,3,3,null,null,52]
["2022-02-27","2022-02-27",null,null,null,null,null,null,null,null,null,null,null,null,null,null,null,null,null,null,null,null,null,null,null,null,null,0]
["2022-02-28","2022-02-28",null,null,null,null,null,null,null,3,3,3,4,4,3,3,3,3,3,4,3,3,3,3,3,null,null,51]
["2022-03-01","2022-03-01",null,null,null,null,null,null,null,3,3,3,4,4,3,3,3,3,3,4,3,3,3,3,3,null,null,51]
["2022-03-02","2022-03-02",null,null,null,null,null,null,null,3,3,3,4,4,3,3,3,3,3,4,3,3,3,3,3,null,null,51]
["2022-03-03","2022-03-03",null,null,null,null,null,null,null,3,3,3,4,4,3,3,3,3,3,4,3,3,3,3,3,null,null,51]
["2022-03-04","2022-03-04",null,null,null,null,null,null,null,3,3,3,4,4,3,3,3,3,3,4,3,3,3,3,3,null,null,51]
["2022-03-05","2022-03-05",null,null,null,null,null,null,null,3,3,3,4,4,4,3,3,3,3,4,3,3,3,3,3,null,null,52]
["2022-03-06","2022-03-06",null,null,null,null,null,null,null,null,null,null,null,null,null,null,null,null,null,null,null,null,null,null,null,null,null,0]
["2022-03-07",{"$f":"A72","v":"2022-03-07"},null,null,null,null,null,null,null,3,3,3,4,4,3,3,3,3,3,4,3,3,3,3,3,null,null,{"$f":"SUM(C72:AA72)","v":51}]
["2022-03-08","2022-03-08",null,null,null,null,null,null,null,3,3,3,4,4,3,3,3,3,3,4,3,3,3,3,3,null,null,51]
["2022-03-09","2022-03-09",null,null,null,null,null,null,null,3,3,3,4,4,3,3,3,3,3,4,3,3,3,3,3,null,null,51]
["2022-03-10","2022-03-10",null,null,null,null,null,null,null,3,3,3,4,4,3,3,3,3,3,4,3,3,3,3,3,null,null,51]
["2022-03-11","2022-03-11",null,null,null,null,null,null,null,3,3,3,4,4,3,3,3,3,3,4,3,3,3,3,3,null,null,51]
["2022-03-12","2022-03-12",null,null,null,null,null,null,null,3,3,3,4,4,4,3,3,3,3,4,3,3,3,3,3,null,null,52]
["2022-03-13","2022-03-13",null,null,null,null,null,null,null,null,null,null,null,null,null,null,null,null,null,null,null,null,null,null,null,null,null,0]
["2022-03-14","2022-03-14",null,null,null,null,null,null,null,3,3,3,4,4,3,3,3,3,3,4,3,3,3,3,3,null,null,51]
["2022-03-15","2022-03-15",null,null,null,null,null,null,null,4,3,3,4,4,3,3,3,3,3,4,3,3,3,3,4,null,null,53]
["2022-03-16","2022-03-16",null,null,null,null,null,null,null,3,3,3,4,4,3,3,3,3,3,4,3,3,3,3,3,null,null,51]
["2022-03-17","2022-03-17",null,null,null,null,null,null,null,3,3,3,4,4,3,3,3,3,3,4,3,3,3,3,3,null,null,51]
["2022-03-18","2022-03-18",null,null,null,null,null,null,null,3,3,3,4,4,3,3,3,3,3,4,3,3,3,3,3,null,null,51]
["2022-03-19","2022-03-19",null,null,null,null,null,null,null,3,3,3,4,4,4,3,3,3,3,4,3,3,3,3,3,null,null,52]
["2022-03-20","2022-03-20",null,null,null,null,null,null,null,null,null,null,null,null,null,null,null,null,null,null,null,null,null,null,null,null,null,0]
["2022-03-21","2022-03-21",null,null,null,null,null,null,null,3,3,3,4,4,3,3,3,3,3,4,3,3,3,3,3,null,null,51]
["2022-03-22","2022-03-22",null,null,null,null,null,null,null,3,3,3,4,4,3,3,3,3,3,4,3,3,3,3,3,null,null,51]
["2022-03-23","2022-03-23",null,null,null,null,null,null,null,3,3,3,4,4,3,3,3,3,3,4,3,3,3,3,3,null,null,51]
["2022-03-24","2022-03-24",null,null,null,null,null,null,null,3,3,3,4,4,3,3,3,3,3,4,3,3,3,3,3,null,null,51]
["2022-03-25","2022-03-25",null,null,null,null,null,null,null,3,3,3,4,4,3,3,3,3,3,4,3,3,3,3,3,null,null,51]
["2022-03-26","2022-03-26",null,null,null,null,null,null,null,3,3,3,4,4,4,3,3,3,3,4,3,3,3,3,3,null,null,52]
["2022-03-27","2022-03-27",null,null,null,null,null,null,null,null,null,null,null,null,null,null,null,null,null,null,null,null,null,null,null,null,null,0]
["2022-03-28","2022-03-28",null,null,null,null,null,null,null,3,3,3,4,4,3,3,3,3,3,4,3,3,3,3,3,null,null,51]
["2022-03-29","2022-03-29",null,null,null,null,null,null,null,3,3,3,4,4,3,3,3,3,3,4,3,3,3,3,3,null,null,51]
["2022-03-30","2022-03-30",null,null,null,null,null,null,null,3,3,3,4,4,3,3,3,3,3,4,3,3,3,3,3,null,null,51]
["2022-03-31","2022-03-31",null,null,null,null,null,null,null,3,3,3,4,4,3,3,3,3,3,4,3,3,3,3,3,null,null,51]
["2022-04-01","2022-04-01",null,null,null,null,null,null,null,3,3,3,4,4,3,3,3,3,3,4,3,3,3,3,3,null,null,51]
["2022-04-02","2022-04-02",null,null,null,null,null,null,null,3,3,3,4,4,4,3,3,3,3,4,3,3,3,3,3,null,null,52]
["2022-04-03","2022-04-03",null,null,null,null,null,null,null,null,null,null,null,null,null,null,null,null,null,null,null,null,null,null,null,null,null,0]
["2022-04-04","2022-04-04",null,null,null,null,null,null,null,3,3,3,4,4,3,3,3,3,3,4,3,3,3,3,3,null,null,51]
["2022-04-05","2022-04-05",null,null,null,null,null,null,null,3,3,3,4,4,3,3,3,3,3,4,3,3,3,3,3,null,null,51]
["2022-04-06","2022-04-06",null,null,null,null,null,null,null,3,3,3,4,4,3,3,3,3,3,4,3,3,3,3,3,null,null,51]
["2022-04-07","2022-04-07",null,null,null,null,null,null,null,3,3,3,4,4,3,3,3,3,3,4,3,3,3,3,3,null,null,51]
["2022-04-08","2022-04-08",null,null,null,null,null,null,null,3,3,3,4,4,3,3,3,3,3,4,3,3,3,3,3,null,null,51]
["2022-04-09","2022-04-09",null,null,null,null,null,null,null,3,3,3,4,4,4,3,3,3,3,4,3,3,3,3,3,null,null,52]
["2022-04-10","2022-04-10",null,null,null,null,null,null,null,null,null,null,null,null,null,null,null,null,null,null,null,null,null,null,null,null,null,0]
["2022-04-11","2022-04-11",null,null,null,null,null,null,null,3,3,3,4,4,3,3,3,3,3,4,3,3,3,3,3,null,null,51]
["2022-04-12","2022-04-12",null,null,null,null,null,null,null,3,3,3,4,4,3,3,3,3,3,4,3,3,3,3,3,null,null,51]
["2022-04-13","2022-04-13",null,null,null,null,null,null,null,3,3,3,4,4,3,3,3,3,3,4,3,3,3,3,3,null,null,51]
["2022-04-14","2022-04-14",null,null,null,null,null,null,null,3,3,3,4,4,3,3,3,3,3,4,3,3,3,3,3,null,null,51]
["2022-04-15","2022-04-15",null,null,null,null,null,null,null,3,3,3,4,4,3,3,3,3,3,4,3,3,3,3,3,null,null,51]
["2022-04-16","2022-04-16",null,null,null,null,null,null,null,3,3,3,4,4,4,3,3,3,3,4,3,3,3,3,3,null,null,52]
["2022-04-17","2022-04-17",null,null,null,null,null,null,null,null,null,null,null,null,null,null,null,null,null,null,null,null,null,null,null,null,null,0]
["2022-04-18","2022-04-18",null,null,null,null,null,null,null,3,3,3,4,4,3,3,3,3,3,4,3,3,3,3,3,null,null,51]
["2022-04-19","2022-04-19",null,null,null,null,null,null,null,3,3,3,4,4,3,3,3,3,3,4,3,3,3,3,3,null,null,51]
["2022-04-20","2022-04-20",null,null,null,null,null,null,null,3,3,3,4,4,3,3,3,3,3,4,3,3,3,3,3,null,null,51]
["2022-04-21","2022-04-21",null,null,null,null,null,null,null,3,3,3,4,4,3,3,3,3,3,4,3,3,3,3,3,null,null,51]
["2022-04-22","2022-04-22",null,null,null,null,null,null,null,3,3,3,4,4,3,3,3,3,3,4,3,3,3,3,3,null,null,51]
["2022-04-23","2022-04-23",null,null,null,null,null,null,null,3,3,3,4,4,4,3,3,3,3,4,3,3,3,3,3,null,null,52]
["2022-04-24","2022-04-24",null,null,null,null,null,null,null,null,null,null,null,null,null,null,null,null,null,null,null,null,null,null,null,null,null,0]
["2022-04-25","2022-04-25",null,null,null,null,null,null,null,3,3,3,4,4,3,3,3,3,3,4,3,3,3,3,3,null,null,51]
["2022-04-26","2022-04-26",null,null,null,null,null,null,null,3,3,3,4,4,3,3,3,3,3,4,3,3,3,3,3,null,null,51]
["2022-04-27","2022-04-27",null,null,null,null,null,null,null,3,3,3,4,4,3,3,3,3,3,4,3,3,3,3,3,null,null,51]
["2022-04-28","2022-04-28",null,null,null,null,null,null,null,3,3,3,4,4,3,3,3,3,3,4,3,3,3,3,3,null,null,51]
["2022-04-29","2022-04-29",null,null,null,null,null,null,null,3,3,3,4,4,3,3,3,3,3,4,3,3,3,3,3,null,null,51]
["2022-04-30","2022-04-30",null,null,null,null,null,null,null,3,3,3,4,4,4,3,3,3,3,4,3,3,3,3,3,null,null,52]
["2022-05-01","2022-05-01",null,null,null,null,null,null,null,null,null,null,null,null,null,null,null,null,null,null,null,null,null,null,null,null,null,0]
["2022-05-02","2022-05-02",null,null,null,null,null,null,null,3,3,3,4,4,3,3,3,3,3,4,3,3,3,3,3,null,null,51]
["2022-05-03","2022-05-03",null,null,null,null,null,null,null,3,3,3,4,4,3,3,3,3,3,4,3,3,3,3,3,null,null,51]
["2022-05-04","2022-05-04",null,null,null,null,null,null,null,3,3,3,4,4,3,3,3,3,3,4,3,3,3,3,3,null,null,51]
["2022-05-05","2022-05-05",null,null,null,null,null,null,null,3,3,3,4,4,3,3,3,3,3,4,3,3,3,3,3,null,null,51]
["2022-05-06","2022-05-06",null,null,null,null,null,null,null,3,3,3,4,4,3,3,3,3,3,4,3,3,3,3,3,null,null,51]
["2022-05-07","2022-05-07",null,null,null,null,null,null,null,3,3,3,4,4,4,3,3,3,3,4,3,3,3,3,3,null,null,52]
["2022-05-08","2022-05-08",null,null,null,null,null,null,null,null,null,null,null,null,null,null,null,null,null,null,null,null,null,null,null,null,null,0]
["2022-05-09","2022-05-09",null,null,null,null,null,null,null,3,3,3,4,4,3,3,3,3,3,4,3,3,3,3,3,null,null,51]
["2022-05-10",{"$f":"A136","v":"2022-05-10"},null,null,null,null,null,null,null,3,3,3,4,4,3,3,3,3,3,4,3,3,3,3,3,null,null,{"$f":"SUM(C136:AA136)","v":51}]
["2022-05-11","2022-05-11",null,null,null,null,null,null,null,3,3,3,4,4,3,3,3,3,3,4,3,3,3,3,3,null,null,51]
["2022-05-12","2022-05-12",null,null,null,null,null,null,null,3,3,3,4,4,3,3,3,3,3,4,3,3,3,3,3,null,null,51]
["2022-05-13","2022-05-13",null,null,null,null,null,null,null,3,3,3,4,4,3,3,3,3,3,4,3,3,3,3,3,null,null,51]
["2022-05-14","2022-05-14",null,null,null,null,null,null,null,3,3,3,4,4,4,3,3,3,3,4,3,3,3,3,3,null,null,52]
["2022-05-15","2022-05-15",null,null,null,null,null,null,null,null,null,null,null,null,null,null,null,null,null,null,null,null,null,null,null,null,null,0]
["2022-05-16","2022-05-16",null,null,null,null,null,null,null,3,3,3,4,4,3,3,3,3,3,4,3,3,3,3,3,null,null,51]
["2022-05-17","2022-05-17",null,null,null,null,null,null,null,3,3,3,4,4,3,3,3,3,3,4,3,3,3,3,3,null,null,51]
["2022-05-18","2022-05-18",null,null,null,null,null,null,null,3,3,3,4,4,3,3,3,3,3,4,3,3,3,3,3,null,null,51]
["2022-05-19","2022-05-19",null,null,null,null,null,null,null,3,3,3,4,4,3,3,3,3,3,4,3,3,3,3,3,null,null,51]
["2022-05-20","2022-05-20",null,null,null,null,null,null,null,3,3,3,4,4,3,3,3,3,3,4,3,3,3,3,3,null,null,51]
["2022-05-21","2022-05-21",null,null,null,null,null,null,null,3,3,3,4,4,4,3,3,3,3,4,3,3,3,3,3,null,null,52]
["2022-05-22","2022-05-22",null,null,null,null,null,null,null,null,null,null,null,null,null,null,null,null,null,null,null,null,null,null,null,null,null,0]
["2022-05-23","2022-05-23",null,null,null,null,null,null,null,3,3,3,4,4,3,3,3,3,3,4,3,3,3,3,3,null,null,51]
["2022-05-24","2022-05-24",null,null,null,null,null,null,null,3,3,3,4,4,3,3,3,3,3,4,3,3,3,3,3,null,null,51]
["2022-05-25","2022-05-25",null,null,null,null,null,null,null,3,3,3,4,4,3,3,3,3,3,4,3,3,3,3,3,null,null,51]
["2022-05-26","2022-05-26",null,null,null,null,null,null,null,3,3,3,4,4,3,3,3,3,3,4,3,3,3,3,3,null,null,51]
["2022-05-27","2022-05-27",null,null,null,null,null,null,null,3,3,3,4,4,3,3,3,3,3,4,3,3,3,3,3,null,null,51]
["2022-05-28","2022-05-28",null,null,null,null,null,null,null,3,3,3,4,4,4,3,3,3,3,4,3,3,3,3,3,null,null,52]
["2022-05-29","2022-05-29",null,null,null,null,null,null,null,null,null,null,null,null,null,null,null,null,null,null,null,null,null,null,null,null,null,0]
["2022-05-30","2022-05-30",null,null,null,null,null,null,null,3,3,3,4,4,3,3,3,3,3,4,3,3,3,3,3,null,null,51]
["2022-05-31","2022-05-31",null,null,null,null,null,null,null,3,3,3,4,4,3,3,3,3,3,4,3,3,3,3,3,null,null,51]
["2022-06-01","2022-06-01",null,null,null,null,null,null,null,3,3,3,4,4,3,3,3,3,3,4,3,3,3,3,3,null,null,51]
["2022-06-02","2022-06-02",null,null,null,null,null,null,null,3,3,3,4,4,3,3,3,3,3,4,3,3,3,3,3,null,null,51]
["2022-06-03","2022-06-03",null,null,null,null,null,null,null,3,3,3,4,4,3,3,3,3,3,4,3,3,3,3,3,null,null,51]
["2022-06-04","2022-06-04",null,null,null,null,null,null,null,3,3,3,4,4,4,3,3,3,3,4,3,3,3,3,3,null,null,52]
["2022-06-05","2022-06-05",null,null,null,null,null,null,null,null,null,null,null,null,null,null,null,null,null,null,null,null,null,null,null,null,null,0]
["2022-06-06","2022-06-06",null,null,null,null,null,null,null,3,3,3,4,4,3,3,3,3,3,4,3,3,3,3,3,null,null,51]
["2022-06-07","2022-06-07",null,null,null,null,null,null,null,3,3,3,4,4,3,3,3,3,3,4,3,3,3,3,3,null,null,51]
["2022-06-08","2022-06-08",null,null,null,null,null,null,null,3,3,3,4,4,3,3,3,3,3,4,3,3,3,3,3,null,null,51]
["2022-06-09","2022-06-09",null,null,null,null,null,null,null,3,3,3,4,4,3,3,3,3,3,4,3,3,3,3,3,null,null,51]
["2022-06-10","2022-06-10",null,null,null,null,null,null,null,3,3,3,4,4,3,3,3,3,3,4,3,3,3,3,3,null,null,51]
["2022-06-11","2022-06-11",null,null,null,null,null,null,null,3,3,3,4,4,4,3,3,3,3,4,3,3,3,3,3,null,null,52]
["2022-06-12","2022-06-12",null,null,null,null,null,null,null,null,null,null,null,null,null,null,null,null,null,null,null,null,null,null,null,null,null,0]
["2022-06-13","2022-06-13",null,null,null,null,null,null,null,3,3,3,4,4,3,3,3,3,3,4,3,3,3,3,3,null,null,51]
["2022-06-14","2022-06-14",null,null,null,null,null,null,null,3,3,3,4,4,3,3,3,3,3,4,3,3,3,3,3,null,null,51]
["2022-06-15","2022-06-15",null,null,null,null,null,null,null,3,3,3,4,4,3,3,3,3,3,4,3,3,3,3,3,null,null,51]
["2022-06-16","2022-06-16",null,null,null,null,null,null,null,3,3,3,4,4,3,3,3,3,3,4,3,3,3,3,3,null,null,51]
["2022-06-17","2022-06-17",null,null,null,null,null,null,null,3,3,3,4,4,3,3,3,3,3,4,3,3,3,3,3,null,null,51]
["2022-06-18","2022-06-18",null,null,null,null,null,null,null,3,3,3,4,4,4,3,3,3,3,4,3,3,3,3,3,null,null,52]
["2022-06-19","2022-06-19",null,null,null,null,null,null,null,null,null,null,null,null,null,null,null,null,null,null,null,null,null,null,null,null,null,0]
["2022-06-20","2022-06-20",null,null,null,null,null,null,null,3,3,3,4,4,3,3,3,3,3,4,3,3,3,3,3,null,null,51]
["2022-06-21","2022-06-21",null,null,null,null,null,null,null,3,3,3,4,4,3,3,3,3,3,4,3,3,3,3,3,null,null,51]
["2022-06-22","2022-06-22",null,null,null,null,null,null,null,3,3,3,4,4,3,3,3,3,3,4,3,3,3,3,3,null,null,51]
["2022-06-23","2022-06-23",null,null,null,null,null,null,null,3,3,3,4,4,3,3,3,3,3,4,3,3,3,3,3,null,null,51]
["2022-06-24","2022-06-24",null,null,null,null,null,null,null,3,3,3,4,4,3,3,3,3,3,4,3,3,3,3,3,null,null,51]
["2022-06-25","2022-06-25",null,null,null,null,null,null,null,3,3,3,4,4,4,3,3,3,3,4,3,3,3,3,3,null,null,52]
["2022-06-26","2022-06-26",null,null,null,null,null,null,null,null,null,null,null,null,null,null,null,null,null,null,null,null,null,null,null,null,null,0]
["2022-06-27","2022-06-27",null,null,null,null,null,null,null,3,3,3,4,4,3,3,3,3,3,4,3,3,3,3,3,null,null,51]
["2022-06-28","2022-06-28",null,null,null,null,null,null,null,3,3,3,4,4,3,3,3,3,3,4,3,3,3,3,3,null,null,51]
["2022-06-29","2022-06-29",null,null,null,null,null,null,null,3,3,3,4,4,3,3,3,3,3,4,3,3,3,3,3,null,null,51]
["2022-06-30","2022-06-30",null,null,null,null,null,null,null,3,3,3,4,4,3,3,3,3,3,4,3,3,3,3,3,null,null,51]
["2022-07-01","2022-07-01",null,null,null,null,null,null,null,3,3,3,4,4,3,3,3,3,3,4,3,3,3,3,3,null,null,51]
["2022-07-02","2022-07-02",null,null,null,null,null,null,null,3,3,3,4,4,4,3,3,3,3,4,3,3,3,3,3,null,null,52]
["2022-07-03","2022-07-03",null,null,null,null,null,null,null,null,null,null,null,null,null,null,null,null,null,null,null,null,null,null,null,null,null,0]
["2022-07-04","2022-07-04",null,null,null,null,null,null,null,3,3,3,4,4,3,3,3,3,3,4,3,3,3,3,3,null,null,51]
["2022-07-05","2022-07-05",null,null,null,null,null,null,null,3,3,3,4,4,3,3,3,3,3,4,3,3,3,3,3,null,null,51]
["2022-07-06","2022-07-06",null,null,null,null,null,null,null,3,3,3,4,4,3,3,3,3,3,4,3,3,3,3,3,null,null,51]
["2022-07-07","2022-07-07",null,null,null,null,null,null,null,3,3,3,4,4,3,3,3,3,3,4,3,3,3,3,3,null,null,51]
["2022-07-08","2022-07-08",null,null,null,null,null,null,null,3,3,3,4,4,3,3,3,3,3,4,3,3,3,3,3,null,null,51]
["2022-07-09","2022-07-09",null,null,null,null,null,null,null,3,3,3,4,4,4,3,3,3,3,4,3,3,3,3,3,null,null,52]
["2022-07-10","2022-07-10",null,null,null,null,null,null,null,null,null,null,null,null,null,null,null,null,null,null,null,null,null,null,null,null,null,0]
["2022-07-11","2022-07-11",null,null,null,null,null,null,null,3,3,3,4,4,3,3,3,3,3,4,3,3,3,3,3,null,null,51]
["2022-07-12","2022-07-12",null,null,null,null,null,null,null,3,3,3,4,4,3,3,3,3,3,4,3,3,3,3,3,null,null,51]
["2022-07-13",{"$f":"A200","v":"2022-07-13"},null,null,null,null,null,null,null,3,3,3,4,4,3,3,3,3,3,4,3,3,3,3,3,null,null,{"$f":"SUM(C200:AA200)","v":51}]
["2022-07-14","2022-07-14",null,null,null,null,null,null,null,3,3,3,4,4,3,3,3,3,3,4,3,3,3,3,3,null,null,51]
["2022-07-15","2022-07-15",null,null,null,null,null,null,null,3,3,3,4,4,3,3,3,3,3,4,3,3,3,3,3,null,null,51]
["2022-07-16","2022-07-16",null,null,null,null,null,null,null,3,3,3,4,4,4,3,3,3,3,4,3,3,3,3,3,null,null,52]
["2022-07-17","2022-07-17",null,null,null,null,null,null,null,null,null,null,null,null,null,null,null,null,null,null,null,null,null,null,null,null,null,0]
["2022-07-18","2022-07-18",null,null,null,null,null,null,null,3,3,3,4,4,3,3,3,3,3,4,3,3,3,3,3,null,null,51]
["2022-07-19","2022-07-19",null,null,null,null,null,null,null,3,3,3,4,4,3,3,3,3,3,4,3,3,3,3,3,null,null,51]
["2022-07-20","2022-07-20",null,null,null,null,null,null,null,3,3,3,4,4,3,3,3,3,3,4,3,3,3,3,3,null,null,51]
["2022-07-21","2022-07-21",null,null,null,null,null,null,null,3,3,3,4,4,3,3,3,3,3,4,3,3,3,3,3,null,null,51]
["2022-07-22","2022-07-22",null,null,null,null,null,null,null,3,3,3,4,4,3,3,3,3,3,4,3,3,3,3,3,null,null,51]
["2022-07-23","2022-07-23",null,null,null,null,null,null,null,3,3,3,4,4,4,3,3,3,3,4,3,3,3,3,3,null,null,52]
["2022-07-24","2022-07-24",null,null,null,null,null,null,null,null,null,null,null,null,null,null,null,null,null,null,null,null,null,null,null,null,null,0]
["2022-07-25","2022-07-25",null,null,null,null,null,null,null,3,3,3,4,4,3,3,3,3,3,4,3,3,3,3,3,null,null,51]
["2022-07-26","2022-07-26",null,null,null,null,null,null,null,3,3,3,4,4,3,3,3,3,3,4,3,3,3,3,3,null,null,51]
["2022-07-27","2022-07-27",null,null,null,null,null,null,null,3,3,3,4,4,3,3,3,3,3,4,3,3,3,3,3,null,null,51]
["2022-07-28","2022-07-28",null,null,null,null,null,null,null,3,3,3,4,4,3,3,3,3,3,4,3,3,3,3,3,null,null,51]
["2022-07-29","2022-07-29",null,null,null,null,null,null,null,3,3,3,4,4,3,3,3,3,3,4,3,3,3,3,3,null,null,51]
["2022-07-30","2022-07-30",null,null,null,null,null,null,null,3,3,3,4,4,4,3,3,3,3,4,3,3,3,3,3,null,null,52]
["2022-07-31","2022-07-31",null,null,null,null,null,null,null,null,null,null,null,null,null,null,null,null,null,null,null,null,null,null,null,null,null,0]
["2022-08-01","2022-08-01",null,null,null,null,null,null,null,3,3,3,4,4,3,3,3,3,3,4,3,3,3,3,3,null,null,51]
["2022-08-02","2022-08-02",null,null,null,null,null,null,null,3,3,3,4,4,3,3,3,3,3,4,3,3,3,3,3,null,null,51]
["2022-08-03","2022-08-03",null,null,null,null,null,null,null,3,3,3,4,4,3,3,3,3,3,4,3,3,3,3,3,null,null,51]
["2022-08-04","2022-08-04",null,null,null,null,null,null,null,3,3,3,4,4,3,3,3,3,3,4,3,3,3,3,3,null,null,51]
["2022-08-05","2022-08-05",null,null,null,null,null,null,null,3,3,3,4,4,3,3,3,3,3,4,3,3,3,3,3,null,null,51]
["2022-08-06","2022-08-06",null,null,null,null,null,null,null,3,3,3,4,4,4,3,3,3,3,4,3,3,3,3,3,null,null,52]
["2022-08-07","2022-08-07",null,null,null,null,null,null,null,null,null,null,null,null,null,null,null,null,null,null,null,null,null,null,null,null,null,0]
["2022-08-08","2022-08-08",null,null,null,null,null,null,null,3,3,3,4,4,3,3,3,3,3,4,3,3,3,3,3,null,null,51]
["2022-08-09","2022-08-09",null,null,null,null,null,null,null,3,3,3,4,4,3,3,3,3,3,4,3,3,3,3,3,null,null,51]
["2022-08-10","2022-08-10",null,null,null,null,null,null,null,3,3,3,4,4,3,3,3,3,3,4,3,3,3,3,3,null,null,51]
["2022-08-11","2022-08-11",null,null,null,null,null,null,null,3,3,3,4,4,3,3,3,3,3,4,3,3,3,3,3,null,null,51]
["2022-08-12","2022-08-12",null,null,null,null,null,null,null,3,3,3,4,4,3,3,3,3,3,4,3,3,3,3,3,null,null,51]
["2022-08-13","2022-08-13",null,null,null,null,null,null,null,3,3,3,4,4,4,3,3,3,3,4,3,3,3,3,3,null,null,52]
["2022-08-14","2022-08-14",null,null,null,null,null,null,null,null,null,null,null,null,null,null,null,null,null,null,null,null,null,null,null,null,null,0]
["2022-08-15","2022-08-15",null,null,null,null,null,null,null,3,3,3,4,4,3,3,3,3,3,4,3,3,3,3,3,null,null,51]
["2022-08-16","2022-08-16",null,null,null,null,null,null,null,3,3,3,4,4,3,3,3,3,3,4,3,3,3,3,3,null,null,51]
["2022-08-17","2022-08-17",null,null,null,null,null,null,null,3,3,3,4,4,3,3,3,3,3,4,3,3,3,3,3,null,null,51]
["2022-08-18","2022-08-18",null,null,null,null,null,null,null,3,3,3,4,4,3,3,3,3,3,4,3,3,3,3,3,null,null,51]
["2022-08-19","2022-08-19",null,null,null,null,null,null,null,3,3,3,4,4,3,3,3,3,3,4,3,3,3,3,3,null,null,51]
["2022-08-20","2022-08-20",null,null,null,null,null,null,null,3,3,3,4,4,4,3,3,3,3,4,3,3,3,3,3,null,null,52]
["2022-08-21","2022-08-21",null,null,null,null,null,null,null,null,null,null,null,null,null,null,null,null,null,null,null,null,null,null,null,null,null,0]
["2022-08-22","2022-08-22",null,null,null,null,null,null,null,3,3,3,4,4,3,3,3,3,3,4,3,3,3,3,3,null,null,51]
["2022-08-23","2022-08-23",null,null,null,null,null,null,null,3,3,3,4,4,3,3,3,3,3,4,3,3,3,3,3,null,null,51]
["2022-08-24","2022-08-24",null,null,null,null,null,null,null,3,3,3,4,4,3,3,3,3,3,4,3,3,3,3,3,null,null,51]
["2022-08-25","2022-08-25",null,null,null,null,null,null,null,3,3,3,4,4,3,3,3,3,3,4,3,3,3,3,3,null,null,51]
["2022-08-26","2022-08-26",null,null,null,null,null,null,null,3,3,3,4,4,3,3,3,3,3,4,3,3,3,3,3,null,null,51]
["2022-08-27","2022-08-27",null,null,null,null,null,null,null,3,3,3,4,4,4,3,3,3,3,4,3,3,3,3,3,null,null,52]
["2022-08-28","2022-08-28",null,null,null,null,null,null,null,null,null,null,null,null,null,null,null,null,null,null,null,null,null,null,null,null,null,0]
["2022-08-29","2022-08-29",null,null,null,null,null,null,null,3,3,3,4,4,3,3,3,3,3,4,3,3,3,3,3,null,null,51]
["2022-08-30","2022-08-30",null,null,null,null,null,null,null,3,3,3,4,4,3,3,3,3,3,4,3,3,3,3,3,null,null,51]
["2022-08-31","2022-08-31",null,null,null,null,null,null,null,3,3,3,4,4,3,3,3,3,3,4,3,3,3,3,3,null,null,51]
["2022-09-01","2022-09-01",null,null,null,null,null,null,null,3,3,3,4,4,3,3,3,3,3,4,3,3,3,3,3,null,null,51]
["2022-09-02","2022-09-02",null,null,null,null,null,null,null,3,3,3,4,4,3,3,3,3,3,4,3,3,3,3,3,null,null,51]
["2022-09-03","2022-09-03",null,null,null,null,null,null,null,3,3,3,4,4,4,3,3,3,3,4,3,3,3,3,3,null,null,52]
["2022-09-04","2022-09-04",null,null,null,null,null,null,null,null,null,null,null,null,null,null,null,null,null,null,null,null,null,null,null,null,null,0]
["2022-09-05","2022-09-05",null,null,null,null,null,null,null,3,3,3,4,4,3,3,3,3,3,4,3,3,3,3,3,null,null,51]
["2022-09-06","2022-09-06",null,null,null,null,null,null,null,3,3,3,4,4,3,3,3,3,3,4,3,3,3,3,3,null,null,51]
["2022-09-07","2022-09-07",null,null,null,null,null,null,null,3,3,3,4,4,3,3,3,3,3,4,3,3,3,3,3,null,null,51]
["2022-09-08","2022-09-08",null,null,null,null,null,null,null,3,3,3,4,4,3,3,3,3,3,4,3,3,3,3,3,null,null,51]
["2022-09-09","2022-09-09",null,null,null,null,null,null,null,3,3,3,4,4,3,3,3,3,3,4,3,3,3,3,3,null,null,51]
["2022-09-10","2022-09-10",null,null,null,null,null,null,null,3,3,3,4,4,4,3,3,3,3,4,3,3,3,3,3,null,null,52]
["2022-09-11","2022-09-11",null,null,null,null,null,null,null,null,null,null,null,null,null,null,null,null,null,null,null,null,null,null,null,null,null,0]
["2022-09-12","2022-09-12",null,null,null,null,null,null,null,3,3,3,4,4,3,3,3,3,3,4,3,3,3,3,3,null,null,51]
["2022-09-13","2022-09-13",null,null,null,null,null,null,null,3,3,3,4,4,3,3,3,3,3,4,3,3,3,3,3,null,null,51]
["2022-09-14","2022-09-14",null,null,null,null,null,null,null,3,3,3,4,4,3,3,3,3,3,4,3,3,3,3,3,null,null,51]
["2022-09-15","2022-09-15",null,null,null,null,null,null,null,3,3,3,4,4,3,3,3,3,3,4,3,3,3,3,3,null,null,{"$f":"SUM(C264:AA264)","v":51}]
["2022-09-16","2022-09-16",null,null,null,null,null,null,null,3,3,3,4,4,3,3,3,3,3,4,3,3,3,3,3,null,null,51]
["2022-09-17",{"$f":"A266","v":"2022-09-17"},null,null,null,null,null,null,null,3,3,3,4,4,4,3,3,3,3,4,3,3,3,3,3,null,null,52]
["2022-09-18","2022-09-18",null,null,null,null,null,null,null,null,null,null,null,null,null,null,null,null,null,null,null,null,null,null,null,null,null,0]
["2022-09-19","2022-09-19",null,null,null,null,null,null,null,3,3,3,4,4,3,3,3,3,3,4,3,3,3,3,3,null,null,51]
["2022-09-20","2022-09-20",null,null,null,null,null,null,null,3,3,3,4,4,3,3,3,3,3,4,3,3,3,3,3,null,null,51]
["2022-09-21","2022-09-21",null,null,null,null,null,null,null,3,3,3,4,4,3,3,3,3,3,4,3,3,3,3,3,null,null,51]
["2022-09-22","2022-09-22",null,null,null,null,null,null,null,3,3,3,4,4,3,3,3,3,3,4,3,3,3,3,3,null,null,51]
["2022-09-23","2022-09-23",null,null,null,null,null,null,null,3,3,3,4,4,3,3,3,3,3,4,3,3,3,3,3,null,null,51]
["2022-09-24","2022-09-24",null,null,null,null,null,null,null,3,3,3,4,4,4,3,3,3,3,4,3,3,3,3,3,null,null,52]
["2022-09-25","2022-09-25",null,null,null,null,null,null,null,null,null,null,null,null,null,null,null,null,null,null,null,null,null,null,null,null,null,0]
["2022-09-26","2022-09-26",null,null,null,null,null,null,null,3,3,3,4,4,3,3,3,3,3,4,3,3,3,3,3,null,null,51]
["2022-09-27","2022-09-27",null,null,null,null,null,null,null,3,3,3,4,4,3,3,3,3,3,4,3,3,3,3,3,null,null,51]
["2022-09-28","2022-09-28",null,null,null,null,null,null,null,3,3,3,4,4,3,3,3,3,3,4,3,3,3,3,3,null,null,51]
["2022-09-29","2022-09-29",null,null,null,null,null,null,null,3,3,3,4,4,3,3,3,3,3,4,3,3,3,3,3,null,null,51]
["2022-09-30","2022-09-30",null,null,null,null,null,null,null,3,3,3,4,4,3,3,3,3,3,4,3,3,3,3,3,null,null,51]
["2022-10-01","2022-10-01",null,null,null,null,null,null,null,3,3,3,4,4,4,3,3,3,3,4,3,3,3,3,3,null,null,52]
["2022-10-02","2022-10-02",null,null,null,null,null,null,null,null,null,null,null,null,null,null,null,null,null,null,null,null,null,null,null,null,null,0]
["2022-10-03","2022-10-03",null,null,null,null,null,null,null,3,3,3,4,4,3,3,3,3,3,4,3,3,3,3,3,null,null,51]
["2022-10-04","2022-10-04",null,null,null,null,null,null,null,3,3,3,4,4,3,3,3,3,3,4,3,3,3,3,3,null,null,51]
["2022-10-05","2022-10-05",null,null,null,null,null,null,null,3,3,3,4,4,3,3,3,3,3,4,3,3,3,3,3,null,null,51]
["2022-10-06","2022-10-06",null,null,null,null,null,null,null,3,3,3,4,4,3,3,3,3,3,4,3,3,3,3,3,null,null,51]
["2022-10-07","2022-10-07",null,null,null,null,null,null,null,3,3,3,4,4,3,3,3,3,3,4,3,3,3,3,3,null,null,51]
["2022-10-08","2022-10-08",null,null,null,null,null,null,null,3,3,3,4,4,4,3,3,3,3,4,3,3,3,3,3,null,null,52]
["2022-10-09","2022-10-09",null,null,null,null,null,null,null,null,null,null,null,null,null,null,null,null,null,null,null,null,null,null,null,null,null,0]
["2022-10-10","2022-10-10",null,null,null,null,null,null,null,3,3,3,4,4,3,3,3,3,3,4,3,3,3,3,3,null,null,51]
["2022-10-11","2022-10-11",null,null,null,null,null,null,null,3,3,3,4,4,3,3,3,3,3,4,3,3,3,3,3,null,null,51]
["2022-10-12","2022-10-12",null,null,null,null,null,null,null,3,3,3,4,4,3,3,3,3,3,4,3,3,3,3,3,null,null,51]
["2022-10-13","2022-10-13",null,null,null,null,null,null,null,3,3,3,4,4,3,3,3,3,3,4,3,3,3,3,3,null,null,51]
["2022-10-14","2022-10-14",null,null,null,null,null,null,null,3,3,3,4,4,3,3,3,3,3,4,3,3,3,3,3,null,null,51]
["2022-10-15","2022-10-15",null,null,null,null,null,null,null,3,3,3,4,4,4,3,3,3,3,4,3,3,3,3,3,null,null,52]
["2022-10-16","2022-10-16",null,null,null,null,null,null,null,null,null,null,null,null,null,null,null,null,null,null,null,null,null,null,null,null,null,0]
["2022-10-17","2022-10-17",null,null,null,null,null,null,null,3,3,3,4,4,3,3,3,3,3,4,3,3,3,3,3,null,null,51]
["2022-10-18","2022-10-18",null,null,null,null,null,null,null,3,3,3,4,4,3,3,3,3,3,4,3,3,3,3,3,null,null,51]
["2022-10-19","2022-10-19",null,null,null,null,null,null,null,3,3,3,4,4,3,3,3,3,3,4,3,3,3,3,3,null,null,51]
["2022-10-20","2022-10-20",null,null,null,null,null,null,null,3,3,3,4,4,3,3,3,3,3,4,3,3,3,3,3,null,null,51]
["2022-10-21","2022-10-21",null,null,null,null,null,null,null,3,3,3,4,4,3,3,3,3,3,4,3,3,3,3,3,null,null,51]
["2022-10-22","2022-10-22",null,null,null,null,null,null,null,3,3,3,4,4,4,3,3,3,3,4,3,3,3,3,3,null,null,52]
["2022-10-23","2022-10-23",null,null,null,null,null,null,null,null,null,null,null,null,null,null,null,null,null,null,null,null,null,null,null,null,null,0]
["2022-10-24","2022-10-24",null,null,null,null,null,null,null,3,3,3,4,4,3,3,3,3,3,4,3,3,3,3,3,null,null,51]
["2022-10-25","2022-10-25",null,null,null,null,null,null,null,3,3,3,4,4,3,3,3,3,3,4,3,3,3,3,3,null,null,51]
["2022-10-26","2022-10-26",null,null,null,null,null,null,null,3,3,3,4,4,3,3,3,3,3,4,3,3,3,3,3,null,null,51]
["2022-10-27","2022-10-27",null,null,null,null,null,null,null,3,3,3,4,4,3,3,3,3,3,4,3,3,3,3,3,null,null,51]
["2022-10-28","2022-10-28",null,null,null,null,null,null,null,3,3,3,4,4,3,3,3,3,3,4,3,3,3,3,3,null,null,51]
["2022-10-29","2022-10-29",null,null,null,null,null,null,null,3,3,3,4,4,4,3,3,3,3,4,3,3,3,3,3,null,null,52]
["2022-10-30","2022-10-30",null,null,null,null,null,null,null,null,null,null,null,null,null,null,null,null,null,null,null,null,null,null,null,null,null,0]
["2022-10-31","2022-10-31",null,null,null,null,null,null,null,3,3,3,4,4,3,3,3,3,3,4,3,3,3,3,3,null,null,51]
["2022-11-01","2022-11-01",null,null,null,null,null,null,null,3,3,3,4,4,3,3,3,3,3,4,3,3,3,3,3,null,null,51]
["2022-11-02","2022-11-02",null,null,null,null,null,null,null,3,3,3,4,4,3,3,3,3,3,4,3,3,3,3,3,null,null,51]
["2022-11-03","2022-11-03",null,null,null,null,null,null,null,3,3,3,4,4,3,3,3,3,3,4,3,3,3,3,3,null,null,51]
["2022-11-04","2022-11-04",null,null,null,null,null,null,null,3,3,3,4,4,3,3,3,3,3,4,3,3,3,3,3,null,null,51]
["2022-11-05","2022-11-05",null,null,null,null,null,null,null,3,3,3,4,4,4,3,3,3,3,4,3,3,3,3,3,null,null,52]
["2022-11-06","2022-11-06",null,null,null,null,null,null,null,null,null,null,null,null,null,null,null,null,null,null,null,null,null,null,null,null,null,0]
["2022-11-07","2022-11-07",null,null,null,null,null,null,null,3,3,3,4,4,3,3,3,3,3,4,3,3,3,3,3,null,null,51]
["2022-11-08","2022-11-08",null,null,null,null,null,null,null,3,3,3,4,4,3,3,3,3,3,4,3,3,3,3,3,null,null,51]
["2022-11-09","2022-11-09",null,null,null,null,null,null,null,3,3,3,4,4,3,3,3,3,3,4,3,3,3,3,3,null,null,51]
["2022-11-10","2022-11-10",null,null,null,null,null,null,null,3,3,3,4,4,3,3,3,3,3,4,3,3,3,3,3,null,null,51]
["2022-11-11","2022-11-11",null,null,null,null,null,null,null,3,3,3,4,4,3,3,3,3,3,4,3,3,3,3,3,null,null,51]
["2022-11-12","2022-11-12",null,null,null,null,null,null,null,3,3,3,4,4,4,3,3,3,3,4,3,3,3,3,3,null,null,52]
["2022-11-13","2022-11-13",null,null,null,null,null,null,null,null,null,null,null,null,null,null,null,null,null,null,null,null,null,null,null,null,null,0]
["2022-11-14","2022-11-14",null,null,null,null,null,null,null,3,3,3,4,4,3,3,3,3,3,4,3,3,3,3,3,null,null,51]
["2022-11-15","2022-11-15",null,null,null,null,null,null,null,3,3,3,4,4,3,3,3,3,3,4,3,3,3,3,3,null,null,51]
["2022-11-16","2022-11-16",null,null,null,null,null,null,null,3,3,3,4,4,3,3,3,3,3,4,3,3,3,3,3,null,null,51]
["2022-11-17","2022-11-17",null,null,null,null,null,null,null,3,3,3,4,4,3,3,3,3,3,4,3,3,3,3,3,null,null,51]
["2022-11-18","2022-11-18",null,null,null,null,null,null,null,3,3,3,4,4,3,3,3,3,3,4,3,3,3,3,3,null,null,{"$f":"SUM(C328:AA328)","v":51}]
["2022-11-19","2022-11-19",null,null,null,null,null,null,null,3,3,3,4,4,4,3,3,3,3,4,3,3,3,3,3,null,null,52]
["2022-11-20",{"$f":"A330","v":"2022-11-20"},null,null,null,null,null,null,null,null,null,null,null,null,null,null,null,null,null,null,null,null,null,null,null,null,null,0]
["2022-11-21","2022-11-21",null,null,null,null,null,null,null,3,3,3,4,4,3,3,3,3,3,4,3,3,3,3,3,null,null,51]
["2022-11-22","2022-11-22",null,null,null,null,null,null,null,3,3,3,4,4,3,3,3,3,3,4,3,3,3,3,3,null,null,51]
["2022-11-23","2022-11-23",null,null,null,null,null,null,null,3,3,3,4,4,3,3,3,3,3,4,3,3,3,3,3,null,null,51]
["2022-11-24","2022-11-24",null,null,null,null,null,null,null,3,3,3,4,4,3,3,3,3,3,4,3,3,3,3,3,null,null,51]
["2022-11-25","2022-11-25",null,null,null,null,null,null,null,3,3,3,4,4,3,3,3,3,3,4,3,3,3,3,3,null,null,51]
["2022-11-26","2022-11-26",null,null,null,null,null,null,null,3,3,3,4,4,4,3,3,3,3,4,3,3,3,3,3,null,null,52]
["2022-11-27","2022-11-27",null,null,null,null,null,null,null,null,null,null,null,null,null,null,null,null,null,null,null,null,null,null,null,null,null,0]
["2022-11-28","2022-11-28",null,null,null,null,null,null,null,3,3,3,4,4,3,3,3,3,3,4,3,3,3,3,3,null,null,51]
["2022-11-29","2022-11-29",null,null,null,null,null,null,null,3,3,3,4,4,3,3,3,3,3,4,3,3,3,3,3,null,null,51]
["2022-11-30","2022-11-30",null,null,null,null,null,null,null,3,3,3,4,4,3,3,3,3,3,4,3,3,3,3,3,null,null,51]
["2022-12-01","2022-12-01",null,null,null,null,null,null,null,3,3,3,4,4,3,3,3,3,3,4,3,3,3,3,3,null,null,51]
["2022-12-02","2022-12-02",null,null,null,null,null,null,null,3,3,3,4,4,3,3,3,3,3,4,3,3,3,3,3,null,null,51]
["2022-12-03","2022-12-03",null,null,null,null,null,null,null,3,3,3,4,4,4,3,3,3,3,4,3,3,3,3,3,null,null,52]
["2022-12-04","2022-12-04",null,null,null,null,null,null,null,null,null,null,null,null,null,null,null,null,null,null,null,null,null,null,null,null,null,0]
["2022-12-05","2022-12-05",null,null,null,null,null,null,null,3,3,3,4,4,3,3,3,3,3,4,3,3,3,3,3,null,null,51]
["2022-12-06","2022-12-06",null,null,null,null,null,null,null,3,3,3,4,4,3,3,3,3,3,4,3,3,3,3,3,null,null,51]
["2022-12-07","2022-12-07",null,null,null,null,null,null,null,3,3,3,4,4,3,3,3,3,3,4,3,3,3,3,3,null,null,51]
["2022-12-08","2022-12-08",null,null,null,null,null,null,null,3,3,3,4,4,3,3,3,3,3,4,3,3,3,3,3,null,null,51]
["2022-12-09","2022-12-09",null,null,null,null,null,null,null,3,3,3,4,4,3,3,3,3,3,4,3,3,3,3,3,null,null,51]
["2022-12-10","2022-12-10",null,null,null,null,null,null,null,3,3,3,4,4,4,3,3,3,3,4,3,3,3,3,3,null,null,52]
["2022-12-11","2022-12-11",null,null,null,null,null,null,null,null,null,null,null,null,null,null,null,null,null,null,null,null,null,null,null,null,null,0]
["2022-12-12","2022-12-12",null,null,null,null,null,null,null,3,3,3,4,4,3,3,3,3,3,4,3,3,3,3,3,null,null,51]
["2022-12-13","2022-12-13",null,null,null,null,null,null,null,3,3,3,4,4,3,3,3,3,3,4,3,3,3,3,3,null,null,51]
["2022-12-14","2022-12-14",null,null,null,null,null,null,null,3,3,3,4,4,3,3,3,3,3,4,3,3,3,3,3,null,null,51]
["2022-12-15","2022-12-15",null,null,null,null,null,null,null,3,3,3,4,4,3,3,3,3,3,4,3,3,3,3,3,null,null,51]
["2022-12-16","2022-12-16",null,null,null,null,null,null,null,3,3,3,4,4,3,3,3,3,3,4,3,3,3,3,3,null,null,51]
["2022-12-17","2022-12-17",null,null,null,null,null,null,null,3,3,3,4,4,4,3,3,3,3,4,3,3,3,3,3,null,null,52]
["2022-12-18","2022-12-18",null,null,null,null,null,null,null,null,null,null,null,null,null,null,null,null,null,null,null,null,null,null,null,null,null,0]
["2022-12-19","2022-12-19",null,null,null,null,null,null,null,3,3,3,4,4,3,3,3,3,3,4,3,3,3,3,3,null,null,51]
["2022-12-20","2022-12-20",null,null,null,null,null,null,null,3,3,3,4,4,3,3,3,3,3,4,3,3,3,3,3,null,null,51]
["2022-12-21","2022-12-21",null,null,null,null,null,null,null,3,3,3,4,4,3,3,3,3,3,4,3,3,3,3,3,null,null,51]
["2022-12-22","2022-12-22",null,null,null,null,null,null,null,3,3,3,4,4,3,3,3,3,3,4,3,3,3,3,3,null,null,51]
["2022-12-23","2022-12-23",null,null,null,null,null,null,null,3,3,3,4,4,3,3,3,3,3,4,3,3,3,3,3,null,null,51]
["2022-12-24","2022-12-24",null,null,null,null,null,null,null,3,3,3,4,4,4,3,3,3,3,4,3,3,3,3,3,null,null,52]
["2022-12-25","2022-12-25",null,null,null,null,null,null,null,null,null,null,null,null,null,null,null,null,null,null,null,null,null,null,null,null,null,0]
["2022-12-26","2022-12-26",null,null,null,null,null,null,null,3,3,3,4,4,3,3,3,3,3,4,3,3,3,3,3,null,null,51]
["2022-12-27","2022-12-27",null,null,null,null,null,null,null,3,3,3,4,4,3,3,3,3,3,4,3,3,3,3,3,null,null,51]
["2022-12-28","2022-12-28",null,null,null,null,null,null,null,3,3,3,4,4,3,3,3,3,3,4,3,3,3,3,3,null,null,51]
["2022-12-29","2022-12-29",null,null,null,null,null,null,null,3,3,3,4,4,3,3,3,3,3,4,3,3,3,3,3,null,null,51]
["2022-12-30","2022-12-30",null,null,null,null,null,null,null,3,3,3,4,4,3,3,3,3,3,4,3,3,3,3,3,null,null,51]
["2022-12-31","2022-12-31",null,null,null,null,null,null,null,3,3,3,4,4,4,3,3,3,3,4,3,3,3,3,3,null,null,52]

{"sheet":"RI CEAEA","index":7,"n_rows":371,"n_cols":28,"rows_kept":371,"cut":false,"hidden":false,"merged":[]}
[]
["Canadian ",null,"**Please note 2/5/2022 is an adjustment day with a different schedule and schedule for 4/1/22 and beyond have not yet been established.  Below are estimates."]
["Entitlement",null,1,2,"2B",3,4,5,6,7,8,9,10,11,12,13,14,15,16,17,18,19,20,21,22,23,24,"Day"]
[]
["Rock Island CEAEA"]
[]
["2022-01-01",{"$f":"A7","v":"2022-01-01"},null,null,null,null,null,null,null,1,2,2,1,2,1,1,1,2,1,2,1,1,2,2,2,null,null,{"$f":"SUM(C7:AA7)","v":24}]
["2022-01-02",{"$f":"A8","v":"2022-01-02"},null,null,null,null,null,null,null,null,null,null,null,null,null,null,null,null,null,null,null,null,null,null,null,null,null,{"$f":"SUM(C8:AA8)","v":0}]
["2022-01-03","2022-01-03",null,null,null,null,null,null,null,2,2,2,2,2,1,2,1,2,1,2,1,1,1,1,2,null,null,25]
["2022-01-04","2022-01-04",null,null,null,null,null,null,null,2,2,2,2,2,1,2,1,2,1,2,1,1,1,1,2,null,null,25]
["2022-01-05","2022-01-05",null,null,null,null,null,null,null,2,2,2,2,2,1,2,1,2,1,2,1,1,1,1,2,null,null,25]
["2022-01-06","2022-01-06",null,null,null,null,null,null,null,2,2,2,2,2,1,2,1,2,1,2,1,1,1,1,2,null,null,25]
["2022-01-07","2022-01-07",null,null,null,null,null,null,null,2,2,2,2,2,1,2,1,2,1,2,1,1,1,1,2,null,null,25]
["2022-01-08","2022-01-08",null,null,null,null,null,null,null,1,2,2,1,2,1,1,1,2,1,2,1,1,2,2,2,null,null,24]
["2022-01-09","2022-01-09",null,null,null,null,null,null,null,null,null,null,null,null,null,null,null,null,null,null,null,null,null,null,null,null,null,0]
["2022-01-10","2022-01-10",null,null,null,null,null,null,null,2,2,2,2,2,1,2,1,2,1,2,1,1,1,1,2,null,null,25]
["2022-01-11","2022-01-11",null,null,null,null,null,null,null,2,2,2,2,2,1,2,1,2,1,2,1,1,1,1,2,null,null,25]
["2022-01-12","2022-01-12",null,null,null,null,null,null,null,2,2,2,2,2,1,2,1,2,1,2,1,1,1,1,2,null,null,25]
["2022-01-13","2022-01-13",null,null,null,null,null,null,null,2,2,2,2,2,1,2,1,2,1,2,1,1,1,1,2,null,null,25]
["2022-01-14","2022-01-14",null,null,null,null,null,null,null,2,2,2,2,2,1,2,1,2,1,2,1,1,1,1,2,null,null,25]
["2022-01-15","2022-01-15",null,null,null,null,null,null,null,1,2,2,1,2,1,1,1,2,1,2,1,1,2,2,2,null,null,24]
["2022-01-16","2022-01-16",null,null,null,null,null,null,null,null,null,null,null,null,null,null,null,null,null,null,null,null,null,null,null,null,null,0]
["2022-01-17","2022-01-17",null,null,null,null,null,null,null,2,2,2,2,2,1,2,1,2,1,2,1,1,1,1,2,null,null,25]
["2022-01-18","2022-01-18",null,null,null,null,null,null,null,2,2,2,2,2,1,2,1,2,1,2,1,1,1,1,2,null,null,25]
["2022-01-19","2022-01-19",null,null,null,null,null,null,null,2,2,2,2,2,1,2,1,2,1,2,1,1,1,1,2,null,null,25]
["2022-01-20","2022-01-20",null,null,null,null,null,null,null,2,2,2,2,2,1,2,1,2,1,2,1,1,1,1,2,null,null,25]
["2022-01-21","2022-01-21",null,null,null,null,null,null,null,2,2,2,2,2,1,2,1,2,1,2,1,1,1,1,2,null,null,25]
["2022-01-22","2022-01-22",null,null,null,null,null,null,null,1,2,2,1,2,1,1,1,2,1,2,1,1,2,2,2,null,null,24]
["2022-01-23","2022-01-23",null,null,null,null,null,null,null,null,null,null,null,null,null,null,null,null,null,null,null,null,null,null,null,null,null,0]
["2022-01-24","2022-01-24",null,null,null,null,null,null,null,2,2,2,2,2,1,2,1,2,1,2,1,1,1,1,2,null,null,25]
["2022-01-25","2022-01-25",null,null,null,null,null,null,null,2,2,2,2,2,1,2,1,2,1,2,1,1,1,1,2,null,null,25]
["2022-01-26","2022-01-26",null,null,null,null,null,null,null,2,2,2,2,2,1,2,1,2,1,2,1,1,1,1,2,null,null,25]
["2022-01-27","2022-01-27",null,null,null,null,null,null,null,2,2,2,2,2,1,2,1,2,1,2,1,1,1,1,2,null,null,25]
["2022-01-28","2022-01-28",null,null,null,null,null,null,null,2,2,2,2,2,1,2,1,2,1,2,1,1,1,1,2,null,null,25]
["2022-01-29","2022-01-29",null,null,null,null,null,null,null,1,2,2,1,2,1,1,1,2,1,2,1,1,2,2,2,null,null,24]
["2022-01-30","2022-01-30",null,null,null,null,null,null,null,null,null,null,null,null,null,null,null,null,null,null,null,null,null,null,null,null,null,0]
["2022-01-31","2022-01-31",null,null,null,null,null,null,null,2,2,2,2,2,1,2,1,2,1,2,1,1,1,1,2,null,null,25]
["2022-02-01","2022-02-01",null,null,null,null,null,null,null,2,2,2,2,2,1,2,1,2,1,2,1,1,1,1,2,null,null,25]
["2022-02-02","2022-02-02",null,null,null,null,null,null,null,2,2,2,2,2,1,2,1,2,1,2,1,1,1,1,2,null,null,25]
["2022-02-03","2022-02-03",null,null,null,null,null,null,null,2,2,2,2,2,1,2,1,2,1,2,1,1,1,1,2,null,null,25]
["2022-02-04","2022-02-04",null,null,null,null,null,null,null,2,2,2,2,2,1,2,1,2,1,2,1,1,1,1,2,null,null,25]
["2022-02-05","2022-02-05",null,null,null,null,null,null,null,1,1,2,1,1,2,1,2,2,1,2,1,2,1,1,2,null,null,23]
["2022-02-06","2022-02-06",null,null,null,null,null,null,null,null,null,null,null,null,null,null,null,null,null,null,null,null,null,null,null,null,null,0]
["2022-02-07","2022-02-07",null,null,null,null,null,null,null,2,2,2,2,2,1,2,1,2,1,2,1,1,1,1,2,null,null,25]
["2022-02-08","2022-02-08",null,null,null,null,null,null,null,2,2,2,2,2,1,2,1,2,1,2,1,1,1,1,2,null,null,25]
["2022-02-09","2022-02-09",null,null,null,null,null,null,null,2,2,2,2,2,1,2,1,2,1,2,1,1,1,1,2,null,null,25]
["2022-02-10","2022-02-10",null,null,null,null,null,null,null,2,2,2,2,2,1,2,1,2,1,2,1,1,1,1,2,null,null,25]
["2022-02-11","2022-02-11",null,null,null,null,null,null,null,2,2,2,2,2,1,2,1,2,1,2,1,1,1,1,2,null,null,25]
["2022-02-12","2022-02-12",null,null,null,null,null,null,null,1,2,2,1,2,1,1,1,2,1,2,1,1,2,2,2,null,null,24]
["2022-02-13","2022-02-13",null,null,null,null,null,null,null,null,null,null,null,null,null,null,null,null,null,null,null,null,null,null,null,null,null,0]
["2022-02-14","2022-02-14",null,null,null,null,null,null,null,2,2,2,2,2,1,2,1,2,1,2,1,1,1,1,2,null,null,25]
["2022-02-15","2022-02-15",null,null,null,null,null,null,null,2,2,2,2,2,1,2,1,2,1,2,1,1,1,1,2,null,null,25]
["2022-02-16","2022-02-16",null,null,null,null,null,null,null,2,2,2,2,2,1,2,1,2,1,2,1,1,1,1,2,null,null,25]
["2022-02-17","2022-02-17",null,null,null,null,null,null,null,2,2,2,2,2,1,2,1,2,1,2,1,1,1,1,2,null,null,25]
["2022-02-18","2022-02-18",null,null,null,null,null,null,null,2,2,2,2,2,1,2,1,2,1,2,1,1,1,1,2,null,null,25]
["2022-02-19","2022-02-19",null,null,null,null,null,null,null,1,2,2,1,2,1,1,1,2,1,2,1,1,2,2,2,null,null,24]
["2022-02-20","2022-02-20",null,null,null,null,null,null,null,null,null,null,null,null,null,null,null,null,null,null,null,null,null,null,null,null,null,0]
["2022-02-21","2022-02-21",null,null,null,null,null,null,null,2,2,2,2,2,1,2,1,2,1,2,1,1,1,1,2,null,null,25]
["2022-02-22","2022-02-22",null,null,null,null,null,null,null,2,2,2,2,2,1,2,1,2,1,2,1,1,1,1,2,null,null,25]
["2022-02-23","2022-02-23",null,null,null,null,null,null,null,2,2,2,2,2,1,2,1,2,1,2,1,1,1,1,2,null,null,25]
["2022-02-24","2022-02-24",null,null,null,null,null,null,null,2,2,2,2,2,1,2,1,2,1,2,1,1,1,1,2,null,null,25]
["2022-02-25","2022-02-25",null,null,null,null,null,null,null,2,2,2,2,2,1,2,1,2,1,2,1,1,1,1,2,null,null,25]
["2022-02-26","2022-02-26",null,null,null,null,null,null,null,1,2,2,1,2,1,1,1,2,1,2,1,1,2,2,2,null,null,24]
["2022-02-27","2022-02-27",null,null,null,null,null,null,null,null,null,null,null,null,null,null,null,null,null,null,null,null,null,null,null,null,null,0]
["2022-02-28","2022-02-28",null,null,null,null,null,null,null,2,2,2,2,2,1,2,1,2,1,2,1,1,1,1,2,null,null,25]
["2022-03-01","2022-03-01",null,null,null,null,null,null,null,2,2,2,2,2,1,2,1,2,1,2,1,1,1,1,2,null,null,25]
["2022-03-02","2022-03-02",null,null,null,null,null,null,null,2,2,2,2,2,1,2,1,2,1,2,1,1,1,1,2,null,null,25]
["2022-03-03","2022-03-03",null,null,null,null,null,null,null,2,2,2,2,2,1,2,1,2,1,2,1,1,1,1,2,null,null,25]
["2022-03-04","2022-03-04",null,null,null,null,null,null,null,2,2,2,2,2,1,2,1,2,1,2,1,1,1,1,2,null,null,25]
["2022-03-05","2022-03-05",null,null,null,null,null,null,null,1,2,2,1,2,1,1,1,2,1,2,1,1,2,2,2,null,null,24]
["2022-03-06","2022-03-06",null,null,null,null,null,null,null,null,null,null,null,null,null,null,null,null,null,null,null,null,null,null,null,null,null,0]
["2022-03-07",{"$f":"A72","v":"2022-03-07"},null,null,null,null,null,null,null,2,2,2,2,2,1,2,1,2,1,2,1,1,1,1,2,null,null,{"$f":"SUM(C72:AA72)","v":25}]
["2022-03-08","2022-03-08",null,null,null,null,null,null,null,2,2,2,2,2,1,2,1,2,1,2,1,1,1,1,2,null,null,25]
["2022-03-09","2022-03-09",null,null,null,null,null,null,null,2,2,2,2,2,1,2,1,2,1,2,1,1,1,1,2,null,null,25]
["2022-03-10","2022-03-10",null,null,null,null,null,null,null,2,2,2,2,2,1,2,1,2,1,2,1,1,1,1,2,null,null,25]
["2022-03-11","2022-03-11",null,null,null,null,null,null,null,2,2,2,2,2,1,2,1,2,1,2,1,1,1,1,2,null,null,25]
["2022-03-12","2022-03-12",null,null,null,null,null,null,null,1,2,2,1,2,1,1,1,2,1,2,1,1,2,2,2,null,null,24]
["2022-03-13","2022-03-13",null,null,null,null,null,null,null,null,null,null,null,null,null,null,null,null,null,null,null,null,null,null,null,null,null,0]
["2022-03-14","2022-03-14",null,null,null,null,null,null,null,2,2,2,2,2,1,2,1,2,1,2,1,1,1,1,2,null,null,25]
["2022-03-15","2022-03-15",null,null,null,null,null,null,null,2,2,2,2,2,1,2,1,2,1,2,1,1,1,1,2,null,null,25]
["2022-03-16","2022-03-16",null,null,null,null,null,null,null,2,2,2,2,2,1,2,1,2,1,2,1,1,1,1,2,null,null,25]
["2022-03-17","2022-03-17",null,null,null,null,null,null,null,2,2,2,2,2,1,2,1,2,1,2,1,1,1,1,2,null,null,25]
["2022-03-18","2022-03-18",null,null,null,null,null,null,null,2,2,2,2,2,1,2,1,2,1,2,1,1,1,1,2,null,null,25]
["2022-03-19","2022-03-19",null,null,null,null,null,null,null,1,2,2,1,2,1,1,1,2,1,2,1,1,2,2,2,null,null,24]
["2022-03-20","2022-03-20",null,null,null,null,null,null,null,null,null,null,null,null,null,null,null,null,null,null,null,null,null,null,null,null,null,0]
["2022-03-21","2022-03-21",null,null,null,null,null,null,null,2,2,2,2,2,1,2,1,2,1,2,1,1,1,1,2,null,null,25]
["2022-03-22","2022-03-22",null,null,null,null,null,null,null,2,2,2,2,2,1,2,1,2,1,2,1,1,1,1,2,null,null,25]
["2022-03-23","2022-03-23",null,null,null,null,null,null,null,2,2,2,2,2,1,2,1,2,1,2,1,1,1,1,2,null,null,25]
["2022-03-24","2022-03-24",null,null,null,null,null,null,null,2,2,2,2,2,1,2,1,2,1,2,1,1,1,1,2,null,null,25]
["2022-03-25","2022-03-25",null,null,null,null,null,null,null,2,2,2,2,2,1,2,1,2,1,2,1,1,1,1,2,null,null,25]
["2022-03-26","2022-03-26",null,null,null,null,null,null,null,1,2,2,1,2,1,1,1,2,1,2,1,1,2,2,2,null,null,24]
["2022-03-27","2022-03-27",null,null,null,null,null,null,null,null,null,null,null,null,null,null,null,null,null,null,null,null,null,null,null,null,null,0]
["2022-03-28","2022-03-28",null,null,null,null,null,null,null,2,2,2,2,2,1,2,1,2,1,2,1,1,1,1,2,null,null,25]
["2022-03-29","2022-03-29",null,null,null,null,null,null,null,2,2,2,2,2,1,2,1,2,1,2,1,1,1,1,2,null,null,25]
["2022-03-30","2022-03-30",null,null,null,null,null,null,null,2,2,2,2,2,1,2,1,2,1,2,1,1,1,1,2,null,null,25]
["2022-03-31","2022-03-31",null,null,null,null,null,null,null,2,2,2,2,2,1,2,1,2,1,2,1,1,1,1,2,null,null,25]
["2022-04-01","2022-04-01",null,null,null,null,null,null,null,2,2,2,2,2,1,2,1,2,1,2,1,1,1,1,2,null,null,25]
["2022-04-02","2022-04-02",null,null,null,null,null,null,null,1,2,2,1,2,1,1,1,2,1,2,1,1,2,2,2,null,null,24]
["2022-04-03","2022-04-03",null,null,null,null,null,null,null,null,null,null,null,null,null,null,null,null,null,null,null,null,null,null,null,null,null,0]
["2022-04-04","2022-04-04",null,null,null,null,null,null,null,2,2,2,2,2,1,2,1,2,1,2,1,1,1,1,2,null,null,25]
["2022-04-05","2022-04-05",null,null,null,null,null,null,null,2,2,2,2,2,1,2,1,2,1,2,1,1,1,1,2,null,null,25]
["2022-04-06","2022-04-06",null,null,null,null,null,null,null,2,2,2,2,2,1,2,1,2,1,2,1,1,1,1,2,null,null,25]
["2022-04-07","2022-04-07",null,null,null,null,null,null,null,2,2,2,2,2,1,2,1,2,1,2,1,1,1,1,2,null,null,25]
["2022-04-08","2022-04-08",null,null,null,null,null,null,null,2,2,2,2,2,1,2,1,2,1,2,1,1,1,1,2,null,null,25]
["2022-04-09","2022-04-09",null,null,null,null,null,null,null,1,2,2,1,2,1,1,1,2,1,2,1,1,2,2,2,null,null,24]
["2022-04-10","2022-04-10",null,null,null,null,null,null,null,null,null,null,null,null,null,null,null,null,null,null,null,null,null,null,null,null,null,0]
["2022-04-11","2022-04-11",null,null,null,null,null,null,null,2,2,2,2,2,1,2,1,2,1,2,1,1,1,1,2,null,null,25]
["2022-04-12","2022-04-12",null,null,null,null,null,null,null,2,2,2,2,2,1,2,1,2,1,2,1,1,1,1,2,null,null,25]
["2022-04-13","2022-04-13",null,null,null,null,null,null,null,2,2,2,2,2,1,2,1,2,1,2,1,1,1,1,2,null,null,25]
["2022-04-14","2022-04-14",null,null,null,null,null,null,null,2,2,2,2,2,1,2,1,2,1,2,1,1,1,1,2,null,null,25]
["2022-04-15","2022-04-15",null,null,null,null,null,null,null,2,2,2,2,2,1,2,1,2,1,2,1,1,1,1,2,null,null,25]
["2022-04-16","2022-04-16",null,null,null,null,null,null,null,1,2,2,1,2,1,1,1,2,1,2,1,1,2,2,2,null,null,24]
["2022-04-17","2022-04-17",null,null,null,null,null,null,null,null,null,null,null,null,null,null,null,null,null,null,null,null,null,null,null,null,null,0]
["2022-04-18","2022-04-18",null,null,null,null,null,null,null,2,2,2,2,2,1,2,1,2,1,2,1,1,1,1,2,null,null,25]
["2022-04-19","2022-04-19",null,null,null,null,null,null,null,2,2,2,2,2,1,2,1,2,1,2,1,1,1,1,2,null,null,25]
["2022-04-20","2022-04-20",null,null,null,null,null,null,null,2,2,2,2,2,1,2,1,2,1,2,1,1,1,1,2,null,null,25]
["2022-04-21","2022-04-21",null,null,null,null,null,null,null,2,2,2,2,2,1,2,1,2,1,2,1,1,1,1,2,null,null,25]
["2022-04-22","2022-04-22",null,null,null,null,null,null,null,2,2,2,2,2,1,2,1,2,1,2,1,1,1,1,2,null,null,25]
["2022-04-23","2022-04-23",null,null,null,null,null,null,null,1,2,2,1,2,1,1,1,2,1,2,1,1,2,2,2,null,null,24]
["2022-04-24","2022-04-24",null,null,null,null,null,null,null,null,null,null,null,null,null,null,null,null,null,null,null,null,null,null,null,null,null,0]
["2022-04-25","2022-04-25",null,null,null,null,null,null,null,2,2,2,2,2,1,2,1,2,1,2,1,1,1,1,2,null,null,25]
["2022-04-26","2022-04-26",null,null,null,null,null,null,null,2,2,2,2,2,1,2,1,2,1,2,1,1,1,1,2,null,null,25]
["2022-04-27","2022-04-27",null,null,null,null,null,null,null,2,2,2,2,2,1,2,1,2,1,2,1,1,1,1,2,null,null,25]
["2022-04-28","2022-04-28",null,null,null,null,null,null,null,2,2,2,2,2,1,2,1,2,1,2,1,1,1,1,2,null,null,25]
["2022-04-29","2022-04-29",null,null,null,null,null,null,null,2,2,2,2,2,1,2,1,2,1,2,1,1,1,1,2,null,null,25]
["2022-04-30","2022-04-30",null,null,null,null,null,null,null,1,2,2,1,2,1,1,1,2,1,2,1,1,2,2,2,null,null,24]
["2022-05-01","2022-05-01",null,null,null,null,null,null,null,null,null,null,null,null,null,null,null,null,null,null,null,null,null,null,null,null,null,0]
["2022-05-02","2022-05-02",null,null,null,null,null,null,null,2,2,2,2,2,1,2,1,2,1,2,1,1,1,1,2,null,null,25]
["2022-05-03","2022-05-03",null,null,null,null,null,null,null,2,2,2,2,2,1,2,1,2,1,2,1,1,1,1,2,null,null,25]
["2022-05-04","2022-05-04",null,null,null,null,null,null,null,2,2,2,2,2,1,2,1,2,1,2,1,1,1,1,2,null,null,25]
["2022-05-05","2022-05-05",null,null,null,null,null,null,null,2,2,2,2,2,1,2,1,2,1,2,1,1,1,1,2,null,null,25]
["2022-05-06","2022-05-06",null,null,null,null,null,null,null,2,2,2,2,2,1,2,1,2,1,2,1,1,1,1,2,null,null,25]
["2022-05-07","2022-05-07",null,null,null,null,null,null,null,1,2,2,1,2,1,1,1,2,1,2,1,1,2,2,2,null,null,24]
["2022-05-08","2022-05-08",null,null,null,null,null,null,null,null,null,null,null,null,null,null,null,null,null,null,null,null,null,null,null,null,null,0]
["2022-05-09","2022-05-09",null,null,null,null,null,null,null,2,2,2,2,2,1,2,1,2,1,2,1,1,1,1,2,null,null,25]
["2022-05-10",{"$f":"A136","v":"2022-05-10"},null,null,null,null,null,null,null,2,2,2,2,2,1,2,1,2,1,2,1,1,1,1,2,null,null,{"$f":"SUM(C136:AA136)","v":25}]
["2022-05-11","2022-05-11",null,null,null,null,null,null,null,2,2,2,2,2,1,2,1,2,1,2,1,1,1,1,2,null,null,25]
["2022-05-12","2022-05-12",null,null,null,null,null,null,null,2,2,2,2,2,1,2,1,2,1,2,1,1,1,1,2,null,null,25]
["2022-05-13","2022-05-13",null,null,null,null,null,null,null,2,2,2,2,2,1,2,1,2,1,2,1,1,1,1,2,null,null,25]
["2022-05-14","2022-05-14",null,null,null,null,null,null,null,1,2,2,1,2,1,1,1,2,1,2,1,1,2,2,2,null,null,24]
["2022-05-15","2022-05-15",null,null,null,null,null,null,null,null,null,null,null,null,null,null,null,null,null,null,null,null,null,null,null,null,null,0]
["2022-05-16","2022-05-16",null,null,null,null,null,null,null,2,2,2,2,2,1,2,1,2,1,2,1,1,1,1,2,null,null,25]
["2022-05-17","2022-05-17",null,null,null,null,null,null,null,2,2,2,2,2,1,2,1,2,1,2,1,1,1,1,2,null,null,25]
["2022-05-18","2022-05-18",null,null,null,null,null,null,null,2,2,2,2,2,1,2,1,2,1,2,1,1,1,1,2,null,null,25]
["2022-05-19","2022-05-19",null,null,null,null,null,null,null,2,2,2,2,2,1,2,1,2,1,2,1,1,1,1,2,null,null,25]
["2022-05-20","2022-05-20",null,null,null,null,null,null,null,2,2,2,2,2,1,2,1,2,1,2,1,1,1,1,2,null,null,25]
["2022-05-21","2022-05-21",null,null,null,null,null,null,null,1,2,2,1,2,1,1,1,2,1,2,1,1,2,2,2,null,null,24]
["2022-05-22","2022-05-22",null,null,null,null,null,null,null,null,null,null,null,null,null,null,null,null,null,null,null,null,null,null,null,null,null,0]
["2022-05-23","2022-05-23",null,null,null,null,null,null,null,2,2,2,2,2,1,2,1,2,1,2,1,1,1,1,2,null,null,25]
["2022-05-24","2022-05-24",null,null,null,null,null,null,null,2,2,2,2,2,1,2,1,2,1,2,1,1,1,1,2,null,null,25]
["2022-05-25","2022-05-25",null,null,null,null,null,null,null,2,2,2,2,2,1,2,1,2,1,2,1,1,1,1,2,null,null,25]
["2022-05-26","2022-05-26",null,null,null,null,null,null,null,2,2,2,2,2,1,2,1,2,1,2,1,1,1,1,2,null,null,25]
["2022-05-27","2022-05-27",null,null,null,null,null,null,null,2,2,2,2,2,1,2,1,2,1,2,1,1,1,1,2,null,null,25]
["2022-05-28","2022-05-28",null,null,null,null,null,null,null,1,2,2,1,2,1,1,1,2,1,2,1,1,2,2,2,null,null,24]
["2022-05-29","2022-05-29",null,null,null,null,null,null,null,null,null,null,null,null,null,null,null,null,null,null,null,null,null,null,null,null,null,0]
["2022-05-30","2022-05-30",null,null,null,null,null,null,null,2,2,2,2,2,1,2,1,2,1,2,1,1,1,1,2,null,null,25]
["2022-05-31","2022-05-31",null,null,null,null,null,null,null,2,2,2,2,2,1,2,1,2,1,2,1,1,1,1,2,null,null,25]
["2022-06-01","2022-06-01",null,null,null,null,null,null,null,2,2,2,2,2,1,2,1,2,1,2,1,1,1,1,2,null,null,25]
["2022-06-02","2022-06-02",null,null,null,null,null,null,null,2,2,2,2,2,1,2,1,2,1,2,1,1,1,1,2,null,null,25]
["2022-06-03","2022-06-03",null,null,null,null,null,null,null,2,2,2,2,2,1,2,1,2,1,2,1,1,1,1,2,null,null,25]
["2022-06-04","2022-06-04",null,null,null,null,null,null,null,1,2,2,1,2,1,1,1,2,1,2,1,1,2,2,2,null,null,24]
["2022-06-05","2022-06-05",null,null,null,null,null,null,null,null,null,null,null,null,null,null,null,null,null,null,null,null,null,null,null,null,null,0]
["2022-06-06","2022-06-06",null,null,null,null,null,null,null,2,2,2,2,2,1,2,1,2,1,2,1,1,1,1,2,null,null,25]
["2022-06-07","2022-06-07",null,null,null,null,null,null,null,2,2,2,2,2,1,2,1,2,1,2,1,1,1,1,2,null,null,25]
["2022-06-08","2022-06-08",null,null,null,null,null,null,null,2,2,2,2,2,1,2,1,2,1,2,1,1,1,1,2,null,null,25]
["2022-06-09","2022-06-09",null,null,null,null,null,null,null,2,2,2,2,2,1,2,1,2,1,2,1,1,1,1,2,null,null,25]
["2022-06-10","2022-06-10",null,null,null,null,null,null,null,2,2,2,2,2,1,2,1,2,1,2,1,1,1,1,2,null,null,25]
["2022-06-11","2022-06-11",null,null,null,null,null,null,null,1,2,2,1,2,1,1,1,2,1,2,1,1,2,2,2,null,null,24]
["2022-06-12","2022-06-12",null,null,null,null,null,null,null,null,null,null,null,null,null,null,null,null,null,null,null,null,null,null,null,null,null,0]
["2022-06-13","2022-06-13",null,null,null,null,null,null,null,2,2,2,2,2,1,2,1,2,1,2,1,1,1,1,2,null,null,25]
["2022-06-14","2022-06-14",null,null,null,null,null,null,null,2,2,2,2,2,1,2,1,2,1,2,1,1,1,1,2,null,null,25]
["2022-06-15","2022-06-15",null,null,null,null,null,null,null,2,2,2,2,2,1,2,1,2,1,2,1,1,1,1,2,null,null,25]
["2022-06-16","2022-06-16",null,null,null,null,null,null,null,2,2,2,2,2,1,2,1,2,1,2,1,1,1,1,2,null,null,25]
["2022-06-17","2022-06-17",null,null,null,null,null,null,null,2,2,2,2,2,1,2,1,2,1,2,1,1,1,1,2,null,null,25]
["2022-06-18","2022-06-18",null,null,null,null,null,null,null,1,2,2,1,2,1,1,1,2,1,2,1,1,2,2,2,null,null,24]
["2022-06-19","2022-06-19",null,null,null,null,null,null,null,null,null,null,null,null,null,null,null,null,null,null,null,null,null,null,null,null,null,0]
["2022-06-20","2022-06-20",null,null,null,null,null,null,null,2,2,2,2,2,1,2,1,2,1,2,1,1,1,1,2,null,null,25]
["2022-06-21","2022-06-21",null,null,null,null,null,null,null,2,2,2,2,2,1,2,1,2,1,2,1,1,1,1,2,null,null,25]
["2022-06-22","2022-06-22",null,null,null,null,null,null,null,2,2,2,2,2,1,2,1,2,1,2,1,1,1,1,2,null,null,25]
["2022-06-23","2022-06-23",null,null,null,null,null,null,null,2,2,2,2,2,1,2,1,2,1,2,1,1,1,1,2,null,null,25]
["2022-06-24","2022-06-24",null,null,null,null,null,null,null,2,2,2,2,2,1,2,1,2,1,2,1,1,1,1,2,null,null,25]
["2022-06-25","2022-06-25",null,null,null,null,null,null,null,1,2,2,1,2,1,1,1,2,1,2,1,1,2,2,2,null,null,24]
["2022-06-26","2022-06-26",null,null,null,null,null,null,null,null,null,null,null,null,null,null,null,null,null,null,null,null,null,null,null,null,null,0]
["2022-06-27","2022-06-27",null,null,null,null,null,null,null,2,2,2,2,2,1,2,1,2,1,2,1,1,1,1,2,null,null,25]
["2022-06-28","2022-06-28",null,null,null,null,null,null,null,2,2,2,2,2,1,2,1,2,1,2,1,1,1,1,2,null,null,25]
["2022-06-29","2022-06-29",null,null,null,null,null,null,null,2,2,2,2,2,1,2,1,2,1,2,1,1,1,1,2,null,null,25]
["2022-06-30","2022-06-30",null,null,null,null,null,null,null,2,2,2,2,2,1,2,1,2,1,2,1,1,1,1,2,null,null,25]
["2022-07-01","2022-07-01",null,null,null,null,null,null,null,2,2,2,2,2,1,2,1,2,1,2,1,1,1,1,2,null,null,25]
["2022-07-02","2022-07-02",null,null,null,null,null,null,null,1,2,2,1,2,1,1,1,2,1,2,1,1,2,2,2,null,null,24]
["2022-07-03","2022-07-03",null,null,null,null,null,null,null,null,null,null,null,null,null,null,null,null,null,null,null,null,null,null,null,null,null,0]
["2022-07-04","2022-07-04",null,null,null,null,null,null,null,2,2,2,2,2,1,2,1,2,1,2,1,1,1,1,2,null,null,25]
["2022-07-05","2022-07-05",null,null,null,null,null,null,null,2,2,2,2,2,1,2,1,2,1,2,1,1,1,1,2,null,null,25]
["2022-07-06","2022-07-06",null,null,null,null,null,null,null,2,2,2,2,2,1,2,1,2,1,2,1,1,1,1,2,null,null,25]
["2022-07-07","2022-07-07",null,null,null,null,null,null,null,2,2,2,2,2,1,2,1,2,1,2,1,1,1,1,2,null,null,25]
["2022-07-08","2022-07-08",null,null,null,null,null,null,null,2,2,2,2,2,1,2,1,2,1,2,1,1,1,1,2,null,null,25]
["2022-07-09","2022-07-09",null,null,null,null,null,null,null,1,2,2,1,2,1,1,1,2,1,2,1,1,2,2,2,null,null,24]
["2022-07-10","2022-07-10",null,null,null,null,null,null,null,null,null,null,null,null,null,null,null,null,null,null,null,null,null,null,null,null,null,0]
["2022-07-11","2022-07-11",null,null,null,null,null,null,null,2,2,2,2,2,1,2,1,2,1,2,1,1,1,1,2,null,null,25]
["2022-07-12","2022-07-12",null,null,null,null,null,null,null,2,2,2,2,2,1,2,1,2,1,2,1,1,1,1,2,null,null,25]
["2022-07-13",{"$f":"A200","v":"2022-07-13"},null,null,null,null,null,null,null,2,2,2,2,2,1,2,1,2,1,2,1,1,1,1,2,null,null,{"$f":"SUM(C200:AA200)","v":25}]
["2022-07-14","2022-07-14",null,null,null,null,null,null,null,2,2,2,2,2,1,2,1,2,1,2,1,1,1,1,2,null,null,25]
["2022-07-15","2022-07-15",null,null,null,null,null,null,null,2,2,2,2,2,1,2,1,2,1,2,1,1,1,1,2,null,null,25]
["2022-07-16","2022-07-16",null,null,null,null,null,null,null,1,2,2,1,2,1,1,1,2,1,2,1,1,2,2,2,null,null,24]
["2022-07-17","2022-07-17",null,null,null,null,null,null,null,null,null,null,null,null,null,null,null,null,null,null,null,null,null,null,null,null,null,0]
["2022-07-18","2022-07-18",null,null,null,null,null,null,null,2,2,2,2,2,1,2,1,2,1,2,1,1,1,1,2,null,null,25]
["2022-07-19","2022-07-19",null,null,null,null,null,null,null,2,2,2,2,2,1,2,1,2,1,2,1,1,1,1,2,null,null,25]
["2022-07-20","2022-07-20",null,null,null,null,null,null,null,2,2,2,2,2,1,2,1,2,1,2,1,1,1,1,2,null,null,25]
["2022-07-21","2022-07-21",null,null,null,null,null,null,null,2,2,2,2,2,1,2,1,2,1,2,1,1,1,1,2,null,null,25]
["2022-07-22","2022-07-22",null,null,null,null,null,null,null,2,2,2,2,2,1,2,1,2,1,2,1,1,1,1,2,null,null,25]
["2022-07-23","2022-07-23",null,null,null,null,null,null,null,1,2,2,1,2,1,1,1,2,1,2,1,1,2,2,2,null,null,24]
["2022-07-24","2022-07-24",null,null,null,null,null,null,null,null,null,null,null,null,null,null,null,null,null,null,null,null,null,null,null,null,null,0]
["2022-07-25","2022-07-25",null,null,null,null,null,null,null,2,2,2,2,2,1,2,1,2,1,2,1,1,1,1,2,null,null,25]
["2022-07-26","2022-07-26",null,null,null,null,null,null,null,2,2,2,2,2,1,2,1,2,1,2,1,1,1,1,2,null,null,25]
["2022-07-27","2022-07-27",null,null,null,null,null,null,null,2,2,2,2,2,1,2,1,2,1,2,1,1,1,1,2,null,null,25]
["2022-07-28","2022-07-28",null,null,null,null,null,null,null,2,2,2,2,2,1,2,1,2,1,2,1,1,1,1,2,null,null,25]
["2022-07-29","2022-07-29",null,null,null,null,null,null,null,2,2,2,2,2,1,2,1,2,1,2,1,1,1,1,2,null,null,25]
["2022-07-30","2022-07-30",null,null,null,null,null,null,null,1,2,2,1,2,1,1,1,2,1,2,1,1,2,2,2,null,null,24]
["2022-07-31","2022-07-31",null,null,null,null,null,null,null,null,null,null,null,null,null,null,null,null,null,null,null,null,null,null,null,null,null,0]
["2022-08-01","2022-08-01",null,null,null,null,null,null,null,2,2,2,2,2,1,2,1,2,1,2,1,1,1,1,2,null,null,25]
["2022-08-02","2022-08-02",null,null,null,null,null,null,null,2,2,2,2,2,1,2,1,2,1,2,1,1,1,1,2,null,null,25]
["2022-08-03","2022-08-03",null,null,null,null,null,null,null,2,2,2,2,2,1,2,1,2,1,2,1,1,1,1,2,null,null,25]
["2022-08-04","2022-08-04",null,null,null,null,null,null,null,2,2,2,2,2,1,2,1,2,1,2,1,1,1,1,2,null,null,25]
["2022-08-05","2022-08-05",null,null,null,null,null,null,null,2,2,2,2,2,1,2,1,2,1,2,1,1,1,1,2,null,null,25]
["2022-08-06","2022-08-06",null,null,null,null,null,null,null,1,2,2,1,2,1,1,1,2,1,2,1,1,2,2,2,null,null,24]
["2022-08-07","2022-08-07",null,null,null,null,null,null,null,null,null,null,null,null,null,null,null,null,null,null,null,null,null,null,null,null,null,0]
["2022-08-08","2022-08-08",null,null,null,null,null,null,null,2,2,2,2,2,1,2,1,2,1,2,1,1,1,1,2,null,null,25]
["2022-08-09","2022-08-09",null,null,null,null,null,null,null,2,2,2,2,2,1,2,1,2,1,2,1,1,1,1,2,null,null,25]
["2022-08-10","2022-08-10",null,null,null,null,null,null,null,2,2,2,2,2,1,2,1,2,1,2,1,1,1,1,2,null,null,25]
["2022-08-11","2022-08-11",null,null,null,null,null,null,null,2,2,2,2,2,1,2,1,2,1,2,1,1,1,1,2,null,null,25]
["2022-08-12","2022-08-12",null,null,null,null,null,null,null,2,2,2,2,2,1,2,1,2,1,2,1,1,1,1,2,null,null,25]
["2022-08-13","2022-08-13",null,null,null,null,null,null,null,1,2,2,1,2,1,1,1,2,1,2,1,1,2,2,2,null,null,24]
["2022-08-14","2022-08-14",null,null,null,null,null,null,null,null,null,null,null,null,null,null,null,null,null,null,null,null,null,null,null,null,null,0]
["2022-08-15","2022-08-15",null,null,null,null,null,null,null,2,2,2,2,2,1,2,1,2,1,2,1,1,1,1,2,null,null,25]
["2022-08-16","2022-08-16",null,null,null,null,null,null,null,2,2,2,2,2,1,2,1,2,1,2,1,1,1,1,2,null,null,25]
["2022-08-17","2022-08-17",null,null,null,null,null,null,null,2,2,2,2,2,1,2,1,2,1,2,1,1,1,1,2,null,null,25]
["2022-08-18","2022-08-18",null,null,null,null,null,null,null,2,2,2,2,2,1,2,1,2,1,2,1,1,1,1,2,null,null,25]
["2022-08-19","2022-08-19",null,null,null,null,null,null,null,2,2,2,2,2,1,2,1,2,1,2,1,1,1,1,2,null,null,25]
["2022-08-20","2022-08-20",null,null,null,null,null,null,null,1,2,2,1,2,1,1,1,2,1,2,1,1,2,2,2,null,null,24]
["2022-08-21","2022-08-21",null,null,null,null,null,null,null,null,null,null,null,null,null,null,null,null,null,null,null,null,null,null,null,null,null,0]
["2022-08-22","2022-08-22",null,null,null,null,null,null,null,2,2,2,2,2,1,2,1,2,1,2,1,1,1,1,2,null,null,25]
["2022-08-23","2022-08-23",null,null,null,null,null,null,null,2,2,2,2,2,1,2,1,2,1,2,1,1,1,1,2,null,null,25]
["2022-08-24","2022-08-24",null,null,null,null,null,null,null,2,2,2,2,2,1,2,1,2,1,2,1,1,1,1,2,null,null,25]
["2022-08-25","2022-08-25",null,null,null,null,null,null,null,2,2,2,2,2,1,2,1,2,1,2,1,1,1,1,2,null,null,25]
["2022-08-26","2022-08-26",null,null,null,null,null,null,null,2,2,2,2,2,1,2,1,2,1,2,1,1,1,1,2,null,null,25]
["2022-08-27","2022-08-27",null,null,null,null,null,null,null,1,2,2,1,2,1,1,1,2,1,2,1,1,2,2,2,null,null,24]
["2022-08-28","2022-08-28",null,null,null,null,null,null,null,null,null,null,null,null,null,null,null,null,null,null,null,null,null,null,null,null,null,0]
["2022-08-29","2022-08-29",null,null,null,null,null,null,null,2,2,2,2,2,1,2,1,2,1,2,1,1,1,1,2,null,null,25]
["2022-08-30","2022-08-30",null,null,null,null,null,null,null,2,2,2,2,2,1,2,1,2,1,2,1,1,1,1,2,null,null,25]
["2022-08-31","2022-08-31",null,null,null,null,null,null,null,2,2,2,2,2,1,2,1,2,1,2,1,1,1,1,2,null,null,25]
["2022-09-01","2022-09-01",null,null,null,null,null,null,null,2,2,2,2,2,1,2,1,2,1,2,1,1,1,1,2,null,null,25]
["2022-09-02","2022-09-02",null,null,null,null,null,null,null,2,2,2,2,2,1,2,1,2,1,2,1,1,1,1,2,null,null,25]
["2022-09-03","2022-09-03",null,null,null,null,null,null,null,1,2,2,1,2,1,1,1,2,1,2,1,1,2,2,2,null,null,24]
["2022-09-04","2022-09-04",null,null,null,null,null,null,null,null,null,null,null,null,null,null,null,null,null,null,null,null,null,null,null,null,null,0]
["2022-09-05","2022-09-05",null,null,null,null,null,null,null,2,2,2,2,2,1,2,1,2,1,2,1,1,1,1,2,null,null,25]
["2022-09-06","2022-09-06",null,null,null,null,null,null,null,2,2,2,2,2,1,2,1,2,1,2,1,1,1,1,2,null,null,25]
["2022-09-07","2022-09-07",null,null,null,null,null,null,null,2,2,2,2,2,1,2,1,2,1,2,1,1,1,1,2,null,null,25]
["2022-09-08","2022-09-08",null,null,null,null,null,null,null,2,2,2,2,2,1,2,1,2,1,2,1,1,1,1,2,null,null,25]
["2022-09-09","2022-09-09",null,null,null,null,null,null,null,2,2,2,2,2,1,2,1,2,1,2,1,1,1,1,2,null,null,25]
["2022-09-10","2022-09-10",null,null,null,null,null,null,null,1,2,2,1,2,1,1,1,2,1,2,1,1,2,2,2,null,null,24]
["2022-09-11","2022-09-11",null,null,null,null,null,null,null,null,null,null,null,null,null,null,null,null,null,null,null,null,null,null,null,null,null,0]
["2022-09-12","2022-09-12",null,null,null,null,null,null,null,2,2,2,2,2,1,2,1,2,1,2,1,1,1,1,2,null,null,25]
["2022-09-13","2022-09-13",null,null,null,null,null,null,null,2,2,2,2,2,1,2,1,2,1,2,1,1,1,1,2,null,null,25]
["2022-09-14","2022-09-14",null,null,null,null,null,null,null,2,2,2,2,2,1,2,1,2,1,2,1,1,1,1,2,null,null,25]
["2022-09-15",{"$f":"A264","v":"2022-09-15"},null,null,null,null,null,null,null,2,2,2,2,2,1,2,1,2,1,2,1,1,1,1,2,null,null,{"$f":"SUM(C264:AA264)","v":25}]
["2022-09-16","2022-09-16",null,null,null,null,null,null,null,2,2,2,2,2,1,2,1,2,1,2,1,1,1,1,2,null,null,25]
["2022-09-17","2022-09-17",null,null,null,null,null,null,null,1,2,2,1,2,1,1,1,2,1,2,1,1,2,2,2,null,null,24]
["2022-09-18","2022-09-18",null,null,null,null,null,null,null,null,null,null,null,null,null,null,null,null,null,null,null,null,null,null,null,null,null,0]
["2022-09-19","2022-09-19",null,null,null,null,null,null,null,2,2,2,2,2,1,2,1,2,1,2,1,1,1,1,2,null,null,25]
["2022-09-20","2022-09-20",null,null,null,null,null,null,null,2,2,2,2,2,1,2,1,2,1,2,1,1,1,1,2,null,null,25]
["2022-09-21","2022-09-21",null,null,null,null,null,null,null,2,2,2,2,2,1,2,1,2,1,2,1,1,1,1,2,null,null,25]
["2022-09-22","2022-09-22",null,null,null,null,null,null,null,2,2,2,2,2,1,2,1,2,1,2,1,1,1,1,2,null,null,25]
["2022-09-23","2022-09-23",null,null,null,null,null,null,null,2,2,2,2,2,1,2,1,2,1,2,1,1,1,1,2,null,null,25]
["2022-09-24","2022-09-24",null,null,null,null,null,null,null,1,2,2,1,2,1,1,1,2,1,2,1,1,2,2,2,null,null,24]
["2022-09-25","2022-09-25",null,null,null,null,null,null,null,null,null,null,null,null,null,null,null,null,null,null,null,null,null,null,null,null,null,0]
["2022-09-26","2022-09-26",null,null,null,null,null,null,null,2,2,2,2,2,1,2,1,2,1,2,1,1,1,1,2,null,null,25]
["2022-09-27","2022-09-27",null,null,null,null,null,null,null,2,2,2,2,2,1,2,1,2,1,2,1,1,1,1,2,null,null,25]
["2022-09-28","2022-09-28",null,null,null,null,null,null,null,2,2,2,2,2,1,2,1,2,1,2,1,1,1,1,2,null,null,25]
["2022-09-29","2022-09-29",null,null,null,null,null,null,null,2,2,2,2,2,1,2,1,2,1,2,1,1,1,1,2,null,null,25]
["2022-09-30","2022-09-30",null,null,null,null,null,null,null,2,2,2,2,2,1,2,1,2,1,2,1,1,1,1,2,null,null,25]
["2022-10-01","2022-10-01",null,null,null,null,null,null,null,1,2,2,1,2,1,1,1,2,1,2,1,1,2,2,2,null,null,24]
["2022-10-02","2022-10-02",null,null,null,null,null,null,null,null,null,null,null,null,null,null,null,null,null,null,null,null,null,null,null,null,null,0]
["2022-10-03","2022-10-03",null,null,null,null,null,null,null,2,2,2,2,2,1,2,1,2,1,2,1,1,1,1,2,null,null,25]
["2022-10-04","2022-10-04",null,null,null,null,null,null,null,2,2,2,2,2,1,2,1,2,1,2,1,1,1,1,2,null,null,25]
["2022-10-05","2022-10-05",null,null,null,null,null,null,null,2,2,2,2,2,1,2,1,2,1,2,1,1,1,1,2,null,null,25]
["2022-10-06","2022-10-06",null,null,null,null,null,null,null,2,2,2,2,2,1,2,1,2,1,2,1,1,1,1,2,null,null,25]
["2022-10-07","2022-10-07",null,null,null,null,null,null,null,2,2,2,2,2,1,2,1,2,1,2,1,1,1,1,2,null,null,25]
["2022-10-08","2022-10-08",null,null,null,null,null,null,null,1,2,2,1,2,1,1,1,2,1,2,1,1,2,2,2,null,null,24]
["2022-10-09","2022-10-09",null,null,null,null,null,null,null,null,null,null,null,null,null,null,null,null,null,null,null,null,null,null,null,null,null,0]
["2022-10-10","2022-10-10",null,null,null,null,null,null,null,2,2,2,2,2,1,2,1,2,1,2,1,1,1,1,2,null,null,25]
["2022-10-11","2022-10-11",null,null,null,null,null,null,null,2,2,2,2,2,1,2,1,2,1,2,1,1,1,1,2,null,null,25]
["2022-10-12","2022-10-12",null,null,null,null,null,null,null,2,2,2,2,2,1,2,1,2,1,2,1,1,1,1,2,null,null,25]
["2022-10-13","2022-10-13",null,null,null,null,null,null,null,2,2,2,2,2,1,2,1,2,1,2,1,1,1,1,2,null,null,25]
["2022-10-14","2022-10-14",null,null,null,null,null,null,null,2,2,2,2,2,1,2,1,2,1,2,1,1,1,1,2,null,null,25]
["2022-10-15","2022-10-15",null,null,null,null,null,null,null,1,2,2,1,2,1,1,1,2,1,2,1,1,2,2,2,null,null,24]
["2022-10-16","2022-10-16",null,null,null,null,null,null,null,null,null,null,null,null,null,null,null,null,null,null,null,null,null,null,null,null,null,0]
["2022-10-17","2022-10-17",null,null,null,null,null,null,null,2,2,2,2,2,1,2,1,2,1,2,1,1,1,1,2,null,null,25]
["2022-10-18","2022-10-18",null,null,null,null,null,null,null,2,2,2,2,2,1,2,1,2,1,2,1,1,1,1,2,null,null,25]
["2022-10-19","2022-10-19",null,null,null,null,null,null,null,2,2,2,2,2,1,2,1,2,1,2,1,1,1,1,2,null,null,25]
["2022-10-20","2022-10-20",null,null,null,null,null,null,null,2,2,2,2,2,1,2,1,2,1,2,1,1,1,1,2,null,null,25]
["2022-10-21","2022-10-21",null,null,null,null,null,null,null,2,2,2,2,2,1,2,1,2,1,2,1,1,1,1,2,null,null,25]
["2022-10-22","2022-10-22",null,null,null,null,null,null,null,1,2,2,1,2,1,1,1,2,1,2,1,1,2,2,2,null,null,24]
["2022-10-23","2022-10-23",null,null,null,null,null,null,null,null,null,null,null,null,null,null,null,null,null,null,null,null,null,null,null,null,null,0]
["2022-10-24","2022-10-24",null,null,null,null,null,null,null,2,2,2,2,2,1,2,1,2,1,2,1,1,1,1,2,null,null,25]
["2022-10-25","2022-10-25",null,null,null,null,null,null,null,2,2,2,2,2,1,2,1,2,1,2,1,1,1,1,2,null,null,25]
["2022-10-26","2022-10-26",null,null,null,null,null,null,null,2,2,2,2,2,1,2,1,2,1,2,1,1,1,1,2,null,null,25]
["2022-10-27","2022-10-27",null,null,null,null,null,null,null,2,2,2,2,2,1,2,1,2,1,2,1,1,1,1,2,null,null,25]
["2022-10-28","2022-10-28",null,null,null,null,null,null,null,2,2,2,2,2,1,2,1,2,1,2,1,1,1,1,2,null,null,25]
["2022-10-29","2022-10-29",null,null,null,null,null,null,null,1,2,2,1,2,1,1,1,2,1,2,1,1,2,2,2,null,null,24]
["2022-10-30","2022-10-30",null,null,null,null,null,null,null,null,null,null,null,null,null,null,null,null,null,null,null,null,null,null,null,null,null,0]
["2022-10-31","2022-10-31",null,null,null,null,null,null,null,2,2,2,2,2,1,2,1,2,1,2,1,1,1,1,2,null,null,25]
["2022-11-01","2022-11-01",null,null,null,null,null,null,null,2,2,2,2,2,1,2,1,2,1,2,1,1,1,1,2,null,null,25]
["2022-11-02","2022-11-02",null,null,null,null,null,null,null,2,2,2,2,2,1,2,1,2,1,2,1,1,1,1,2,null,null,25]
["2022-11-03","2022-11-03",null,null,null,null,null,null,null,2,2,2,2,2,1,2,1,2,1,2,1,1,1,1,2,null,null,25]
["2022-11-04","2022-11-04",null,null,null,null,null,null,null,2,2,2,2,2,1,2,1,2,1,2,1,1,1,1,2,null,null,25]
["2022-11-05","2022-11-05",null,null,null,null,null,null,null,1,2,2,1,2,1,1,1,2,1,2,1,1,2,2,2,null,null,24]
["2022-11-06","2022-11-06",null,null,null,null,null,null,null,null,null,null,null,null,null,null,null,null,null,null,null,null,null,null,null,null,null,0]
["2022-11-07","2022-11-07",null,null,null,null,null,null,null,2,2,2,2,2,1,2,1,2,1,2,1,1,1,1,2,null,null,25]
["2022-11-08","2022-11-08",null,null,null,null,null,null,null,2,2,2,2,2,1,2,1,2,1,2,1,1,1,1,2,null,null,25]
["2022-11-09","2022-11-09",null,null,null,null,null,null,null,2,2,2,2,2,1,2,1,2,1,2,1,1,1,1,2,null,null,25]
["2022-11-10","2022-11-10",null,null,null,null,null,null,null,2,2,2,2,2,1,2,1,2,1,2,1,1,1,1,2,null,null,25]
["2022-11-11","2022-11-11",null,null,null,null,null,null,null,2,2,2,2,2,1,2,1,2,1,2,1,1,1,1,2,null,null,25]
["2022-11-12","2022-11-12",null,null,null,null,null,null,null,1,2,2,1,2,1,1,1,2,1,2,1,1,2,2,2,null,null,24]
["2022-11-13","2022-11-13",null,null,null,null,null,null,null,null,null,null,null,null,null,null,null,null,null,null,null,null,null,null,null,null,null,0]
["2022-11-14","2022-11-14",null,null,null,null,null,null,null,2,2,2,2,2,1,2,1,2,1,2,1,1,1,1,2,null,null,25]
["2022-11-15","2022-11-15",null,null,null,null,null,null,null,2,2,2,2,2,1,2,1,2,1,2,1,1,1,1,2,null,null,25]
["2022-11-16","2022-11-16",null,null,null,null,null,null,null,2,2,2,2,2,1,2,1,2,1,2,1,1,1,1,2,null,null,25]
["2022-11-17","2022-11-17",null,null,null,null,null,null,null,2,2,2,2,2,1,2,1,2,1,2,1,1,1,1,2,null,null,25]
["2022-11-18",{"$f":"A328","v":"2022-11-18"},null,null,null,null,null,null,null,2,2,2,2,2,1,2,1,2,1,2,1,1,1,1,2,null,null,{"$f":"SUM(C328:AA328)","v":25}]
["2022-11-19","2022-11-19",null,null,null,null,null,null,null,1,2,2,1,2,1,1,1,2,1,2,1,1,2,2,2,null,null,24]
["2022-11-20","2022-11-20",null,null,null,null,null,null,null,null,null,null,null,null,null,null,null,null,null,null,null,null,null,null,null,null,null,0]
["2022-11-21","2022-11-21",null,null,null,null,null,null,null,2,2,2,2,2,1,2,1,2,1,2,1,1,1,1,2,null,null,25]
["2022-11-22","2022-11-22",null,null,null,null,null,null,null,2,2,2,2,2,1,2,1,2,1,2,1,1,1,1,2,null,null,25]
["2022-11-23","2022-11-23",null,null,null,null,null,null,null,2,2,2,2,2,1,2,1,2,1,2,1,1,1,1,2,null,null,25]
["2022-11-24","2022-11-24",null,null,null,null,null,null,null,2,2,2,2,2,1,2,1,2,1,2,1,1,1,1,2,null,null,25]
["2022-11-25","2022-11-25",null,null,null,null,null,null,null,2,2,2,2,2,1,2,1,2,1,2,1,1,1,1,2,null,null,25]
["2022-11-26","2022-11-26",null,null,null,null,null,null,null,1,2,2,1,2,1,1,1,2,1,2,1,1,2,2,2,null,null,24]
["2022-11-27","2022-11-27",null,null,null,null,null,null,null,null,null,null,null,null,null,null,null,null,null,null,null,null,null,null,null,null,null,0]
["2022-11-28","2022-11-28",null,null,null,null,null,null,null,2,2,2,2,2,1,2,1,2,1,2,1,1,1,1,2,null,null,25]
["2022-11-29","2022-11-29",null,null,null,null,null,null,null,2,2,2,2,2,1,2,1,2,1,2,1,1,1,1,2,null,null,25]
["2022-11-30","2022-11-30",null,null,null,null,null,null,null,2,2,2,2,2,1,2,1,2,1,2,1,1,1,1,2,null,null,25]
["2022-12-01","2022-12-01",null,null,null,null,null,null,null,2,2,2,2,2,1,2,1,2,1,2,1,1,1,1,2,null,null,25]
["2022-12-02","2022-12-02",null,null,null,null,null,null,null,2,2,2,2,2,1,2,1,2,1,2,1,1,1,1,2,null,null,25]
["2022-12-03","2022-12-03",null,null,null,null,null,null,null,1,2,2,1,2,1,1,1,2,1,2,1,1,2,2,2,null,null,24]
["2022-12-04","2022-12-04",null,null,null,null,null,null,null,null,null,null,null,null,null,null,null,null,null,null,null,null,null,null,null,null,null,0]
["2022-12-05","2022-12-05",null,null,null,null,null,null,null,2,2,2,2,2,1,2,1,2,1,2,1,1,1,1,2,null,null,25]
["2022-12-06","2022-12-06",null,null,null,null,null,null,null,2,2,2,2,2,1,2,1,2,1,2,1,1,1,1,2,null,null,25]
["2022-12-07","2022-12-07",null,null,null,null,null,null,null,2,2,2,2,2,1,2,1,2,1,2,1,1,1,1,2,null,null,25]
["2022-12-08","2022-12-08",null,null,null,null,null,null,null,2,2,2,2,2,1,2,1,2,1,2,1,1,1,1,2,null,null,25]
["2022-12-09","2022-12-09",null,null,null,null,null,null,null,2,2,2,2,2,1,2,1,2,1,2,1,1,1,1,2,null,null,25]
["2022-12-10","2022-12-10",null,null,null,null,null,null,null,1,2,2,1,2,1,1,1,2,1,2,1,1,2,2,2,null,null,24]
["2022-12-11","2022-12-11",null,null,null,null,null,null,null,null,null,null,null,null,null,null,null,null,null,null,null,null,null,null,null,null,null,0]
["2022-12-12","2022-12-12",null,null,null,null,null,null,null,2,2,2,2,2,1,2,1,2,1,2,1,1,1,1,2,null,null,25]
["2022-12-13","2022-12-13",null,null,null,null,null,null,null,2,2,2,2,2,1,2,1,2,1,2,1,1,1,1,2,null,null,25]
["2022-12-14","2022-12-14",null,null,null,null,null,null,null,2,2,2,2,2,1,2,1,2,1,2,1,1,1,1,2,null,null,25]
["2022-12-15","2022-12-15",null,null,null,null,null,null,null,2,2,2,2,2,1,2,1,2,1,2,1,1,1,1,2,null,null,25]
["2022-12-16","2022-12-16",null,null,null,null,null,null,null,2,2,2,2,2,1,2,1,2,1,2,1,1,1,1,2,null,null,25]
["2022-12-17","2022-12-17",null,null,null,null,null,null,null,1,2,2,1,2,1,1,1,2,1,2,1,1,2,2,2,null,null,24]
["2022-12-18","2022-12-18",null,null,null,null,null,null,null,null,null,null,null,null,null,null,null,null,null,null,null,null,null,null,null,null,null,0]
["2022-12-19","2022-12-19",null,null,null,null,null,null,null,2,2,2,2,2,1,2,1,2,1,2,1,1,1,1,2,null,null,25]
["2022-12-20","2022-12-20",null,null,null,null,null,null,null,2,2,2,2,2,1,2,1,2,1,2,1,1,1,1,2,null,null,25]
["2022-12-21","2022-12-21",null,null,null,null,null,null,null,2,2,2,2,2,1,2,1,2,1,2,1,1,1,1,2,null,null,25]
["2022-12-22","2022-12-22",null,null,null,null,null,null,null,2,2,2,2,2,1,2,1,2,1,2,1,1,1,1,2,null,null,25]
["2022-12-23","2022-12-23",null,null,null,null,null,null,null,2,2,2,2,2,1,2,1,2,1,2,1,1,1,1,2,null,null,25]
["2022-12-24","2022-12-24",null,null,null,null,null,null,null,1,2,2,1,2,1,1,1,2,1,2,1,1,2,2,2,null,null,24]
["2022-12-25","2022-12-25",null,null,null,null,null,null,null,null,null,null,null,null,null,null,null,null,null,null,null,null,null,null,null,null,null,0]
["2022-12-26","2022-12-26",null,null,null,null,null,null,null,2,2,2,2,2,1,2,1,2,1,2,1,1,1,1,2,null,null,25]
["2022-12-27","2022-12-27",null,null,null,null,null,null,null,2,2,2,2,2,1,2,1,2,1,2,1,1,1,1,2,null,null,25]
["2022-12-28","2022-12-28",null,null,null,null,null,null,null,2,2,2,2,2,1,2,1,2,1,2,1,1,1,1,2,null,null,25]
["2022-12-29","2022-12-29",null,null,null,null,null,null,null,2,2,2,2,2,1,2,1,2,1,2,1,1,1,1,2,null,null,25]
["2022-12-30","2022-12-30",null,null,null,null,null,null,null,2,2,2,2,2,1,2,1,2,1,2,1,1,1,1,2,null,null,25]
["2022-12-31","2022-12-31",null,null,null,null,null,null,null,1,2,2,1,2,1,1,1,2,1,2,1,1,2,2,2,null,null,24]